BEGIN:VCALENDAR
VERSION:2.0
PRODID:-//Unity of Sarasota - ECPv6.15.17.1//NONSGML v1.0//EN
CALSCALE:GREGORIAN
METHOD:PUBLISH
X-ORIGINAL-URL:https://unityofsarasota.org
X-WR-CALDESC:Events for Unity of Sarasota
REFRESH-INTERVAL;VALUE=DURATION:PT1H
X-Robots-Tag:noindex
X-PUBLISHED-TTL:PT1H
BEGIN:VTIMEZONE
TZID:UTC
BEGIN:STANDARD
TZOFFSETFROM:+0000
TZOFFSETTO:+0000
TZNAME:UTC
DTSTART:20200101T000000
END:STANDARD
END:VTIMEZONE
BEGIN:VEVENT
DTSTART;TZID=UTC:20211124T190000
DTEND;TZID=UTC:20211124T200000
DTSTAMP:20260422T235709
CREATED:20191123T050935Z
LAST-MODIFIED:20220902T140331Z
UID:10001651-1637780400-1637784000@unityofsarasota.org
SUMMARY:Wednesday Music and Inspiration
DESCRIPTION:  \n \n  \nWednesday’s Music and Inspiration service is a midweek uplift\, designed to bring us back to our divine center.  It is filled with music from the heart\, motivational and spiritual practices\, and time to reflect and meditate.
URL:https://unityofsarasota.org/event/wednesday-music-and-inspiration-service/2021-11-24/
LOCATION:Unity of Sarasota\, 3023 Proctor Road\, Sarasota\, FL\, 34231\, United States\, Unity of Sarasota\, 3023 Proctor Road\, Sarasota\, FL\, 34231\, United States
CATEGORIES:upcoming
END:VEVENT
END:VCALENDAR