BEGIN:VCALENDAR
VERSION:2.0
PRODID:-//Unity of Sarasota - ECPv6.15.17.1//NONSGML v1.0//EN
CALSCALE:GREGORIAN
METHOD:PUBLISH
X-WR-CALNAME:Unity of Sarasota
X-ORIGINAL-URL:https://unityofsarasota.org
X-WR-CALDESC:Events for Unity of Sarasota
REFRESH-INTERVAL;VALUE=DURATION:PT1H
X-Robots-Tag:noindex
X-PUBLISHED-TTL:PT1H
BEGIN:VTIMEZONE
TZID:UTC
BEGIN:STANDARD
TZOFFSETFROM:+0000
TZOFFSETTO:+0000
TZNAME:UTC
DTSTART:20200101T000000
END:STANDARD
END:VTIMEZONE
BEGIN:VTIMEZONE
TZID:America/New_York
BEGIN:DAYLIGHT
TZOFFSETFROM:-0500
TZOFFSETTO:-0400
TZNAME:EDT
DTSTART:20200308T070000
END:DAYLIGHT
BEGIN:STANDARD
TZOFFSETFROM:-0400
TZOFFSETTO:-0500
TZNAME:EST
DTSTART:20201101T060000
END:STANDARD
BEGIN:DAYLIGHT
TZOFFSETFROM:-0500
TZOFFSETTO:-0400
TZNAME:EDT
DTSTART:20210314T070000
END:DAYLIGHT
BEGIN:STANDARD
TZOFFSETFROM:-0400
TZOFFSETTO:-0500
TZNAME:EST
DTSTART:20211107T060000
END:STANDARD
BEGIN:DAYLIGHT
TZOFFSETFROM:-0500
TZOFFSETTO:-0400
TZNAME:EDT
DTSTART:20220313T070000
END:DAYLIGHT
BEGIN:STANDARD
TZOFFSETFROM:-0400
TZOFFSETTO:-0500
TZNAME:EST
DTSTART:20221106T060000
END:STANDARD
END:VTIMEZONE
BEGIN:VEVENT
DTSTART;TZID=UTC:20211125T080000
DTEND;TZID=UTC:20211125T090000
DTSTAMP:20260422T235036
CREATED:20190905T140750Z
LAST-MODIFIED:20220115T000541Z
UID:10000170-1637827200-1637830800@unityofsarasota.org
SUMMARY:Master Mind Group
DESCRIPTION:Master Mind Group Thursdays – 8:00 am
URL:https://unityofsarasota.org/event/master-mind-group/2021-11-25/
LOCATION:Unity of Sarasota\, 3023 Proctor Road\, Sarasota\, FL\, 34231\, United States\, Unity of Sarasota\, 3023 Proctor Road\, Sarasota\, FL\, 34231\, United States
END:VEVENT
BEGIN:VEVENT
DTSTART;TZID=UTC:20211125T100000
DTEND;TZID=UTC:20211125T113000
DTSTAMP:20260422T235036
CREATED:20191123T050936Z
LAST-MODIFIED:20220108T005015Z
UID:10000287-1637834400-1637839800@unityofsarasota.org
SUMMARY:New Thought Book Study Group
DESCRIPTION:10-11:30 a.m. Thursdays with Ellen Fiorillo. \nThe New Thought Book Study Group
URL:https://unityofsarasota.org/event/new-thought-book-study-group/2021-11-25/
LOCATION:Unity of Sarasota\, 3023 Proctor Road\, Sarasota\, FL\, 34231\, United States\, Unity of Sarasota\, 3023 Proctor Road\, Sarasota\, FL\, 34231\, United States
CATEGORIES:upcoming
END:VEVENT
BEGIN:VEVENT
DTSTART;TZID=America/New_York:20211125T180000
DTEND;TZID=America/New_York:20211125T193000
DTSTAMP:20260422T235036
CREATED:20210901T010327Z
LAST-MODIFIED:20210903T013732Z
UID:10002163-1637863200-1637868600@unityofsarasota.org
SUMMARY:A Course Miracles at Unity of Sarasota - Evening Group
DESCRIPTION:“A Course in Miracles states that “its goal for you is happiness and peace\,” and teaches that the way to universal love and peace – or remembering God – is by undoing the blocks to love’s presence through forgiveness.  It focuses on the healing of relationships and making them holy.” \nJoin us on Thursday Nights from 6:00-7:30 PM for an ACIM group facilitated by George and Caroline Robertie.    At the Enlightenment Center.\nContact Caroline at caroline.scammell@comcast.net or (508) 737-5494
URL:https://unityofsarasota.org/event/a-course-miracles-at-unity-of-sarasota/2021-11-25/
LOCATION:Unity of Sarasota\, 3023 Proctor Road\, Sarasota\, FL\, 34231\, United States\, Unity of Sarasota\, 3023 Proctor Road\, Sarasota\, FL\, 34231\, United States
CATEGORIES:On-Going Classes,Small Groups
ATTACH;FMTTYPE=image/jpeg:https://unityofsarasota.org/wp-content/uploads/2021/08/A-Course-in-Miracles-scaled.jpg
END:VEVENT
BEGIN:VEVENT
DTSTART;TZID=America/New_York:20211125T190000
DTEND;TZID=America/New_York:20211125T200000
DTSTAMP:20260422T235036
CREATED:20211007T152640Z
LAST-MODIFIED:20211007T153112Z
UID:10002143-1637866800-1637870400@unityofsarasota.org
SUMMARY:Law of Attraction Class - Back to Basics - on Zoom
DESCRIPTION:Always something for Everyone.  \nAll are welcomed! \n_____________________________________________________________ \n  \n\nABOUT THE CLASS \nBACK TO BASICS is a beginning level class of the Law of Attraction. I am hoping that we can draw people who have never participated in working with this Law\, because I know that their lives will be greatly enhanced by their understanding of it. Everyone is welcome\, previous students and new ones. Classes always feel like a support group! \nWe use the Book\, “Ask and It Is Given\,” by Abraham Hicks\, because of the processes contained therein. This book is popular and can be found at Unity’s bookstore\, among others. We blend the principles\, tools and processes of the Law of Attraction\, along with other notable teachings past and present. \nThis is a  leading edge class\, timeless in content. Learning to embody and live this Law is a full time occupation of becoming a conscious\, mindful Co-Creator. \nThe Law of Attraction is another name for the Law of Cause and Effect or the Law of Sow/Reap. We live in this Law just as we live in gravity.  Many today understand that we are all co-creators\, that when one “asks\,” “it is given.”  We may make affirmations but often the shadow voice within us is louder and becomes our unintentional communicator to the Universe. We are encouraged to live the actualization of this Law\, the workings of which are subtle and specific. It is each person’s own “inside job” in alliance with Source. \nClasses include a meditation\, a review of a processes and a 20min. YouTube presentation on the material on split screen. \nIf you are interested\, contact Zan@woman-spirit.com or 941-922-7839\, (office landline.)\nBlessings abound\, \nRev. Zan Benham \n  \nRev. Zan Benham has taught the Law of Attraction for 10+ years.  She is a Universal New Thought minister\, a Sufi Cherag\, a spiritual counselor\, certified hypnotist\, shamanic practitioner\, Reiki Master teacher and a ceremonialist. \nwww.woman-spirit.com \nZan@woman-spirit.com\, 941-922-7839 \n 
URL:https://unityofsarasota.org/event/law-of-attraction-class-back-to-basics/2021-11-25/
CATEGORIES:Class
ORGANIZER;CN="Zan Benham":MAILTO:Zan Benham
END:VEVENT
END:VCALENDAR