BEGIN:VCALENDAR
VERSION:2.0
PRODID:-//Unity of Sarasota - ECPv6.15.17.1//NONSGML v1.0//EN
CALSCALE:GREGORIAN
METHOD:PUBLISH
X-ORIGINAL-URL:https://unityofsarasota.org
X-WR-CALDESC:Events for Unity of Sarasota
REFRESH-INTERVAL;VALUE=DURATION:PT1H
X-Robots-Tag:noindex
X-PUBLISHED-TTL:PT1H
BEGIN:VTIMEZONE
TZID:UTC
BEGIN:STANDARD
TZOFFSETFROM:+0000
TZOFFSETTO:+0000
TZNAME:UTC
DTSTART:20200101T000000
END:STANDARD
END:VTIMEZONE
BEGIN:VTIMEZONE
TZID:America/New_York
BEGIN:DAYLIGHT
TZOFFSETFROM:-0500
TZOFFSETTO:-0400
TZNAME:EDT
DTSTART:20200308T070000
END:DAYLIGHT
BEGIN:STANDARD
TZOFFSETFROM:-0400
TZOFFSETTO:-0500
TZNAME:EST
DTSTART:20201101T060000
END:STANDARD
BEGIN:DAYLIGHT
TZOFFSETFROM:-0500
TZOFFSETTO:-0400
TZNAME:EDT
DTSTART:20210314T070000
END:DAYLIGHT
BEGIN:STANDARD
TZOFFSETFROM:-0400
TZOFFSETTO:-0500
TZNAME:EST
DTSTART:20211107T060000
END:STANDARD
BEGIN:DAYLIGHT
TZOFFSETFROM:-0500
TZOFFSETTO:-0400
TZNAME:EDT
DTSTART:20220313T070000
END:DAYLIGHT
BEGIN:STANDARD
TZOFFSETFROM:-0400
TZOFFSETTO:-0500
TZNAME:EST
DTSTART:20221106T060000
END:STANDARD
END:VTIMEZONE
BEGIN:VEVENT
DTSTART;TZID=UTC:20211206T090000
DTEND;TZID=UTC:20211206T100000
DTSTAMP:20260423T085052
CREATED:20191123T050934Z
LAST-MODIFIED:20220415T135902Z
UID:10002046-1638781200-1638784800@unityofsarasota.org
SUMMARY:Men’s Meditation Circle
DESCRIPTION:  \n  \nThe Men’s Meditation Circle meets on Mondays at 9-10 am in Classroom D at Unity of Sarasota
URL:https://unityofsarasota.org/event/mens-meditation-circle-2/2021-12-06/
LOCATION:Unity of Sarasota\, 3023 Proctor Road\, Sarasota\, FL\, 34231\, United States\, Unity of Sarasota\, 3023 Proctor Road\, Sarasota\, FL\, 34231\, United States
CATEGORIES:On-Going Classes,Small Groups
END:VEVENT
BEGIN:VEVENT
DTSTART;TZID=UTC:20211206T110000
DTEND;TZID=UTC:20211206T120000
DTSTAMP:20260423T085052
CREATED:20191220T033150Z
LAST-MODIFIED:20210728T203253Z
UID:10002541-1638788400-1638792000@unityofsarasota.org
SUMMARY:Forever and Always Placards
DESCRIPTION:Honoring and Remembering the Ones You Love – Family\, Friends\, and Pets – The Forever and Always Platform \nYou may order customized “Forever and Always” Placards to be placed on a paver and then on our platform near our outdoor labyrinth and garden. \n\nThere is NO LIMIT to the number you order. Use individual order forms for each Placard you purchase. You may view actual samples in the Fellowship Hall.\nThe size of the Placard is 7″ X 1 3/4″\n\nPlease pick between the heart and the paw to be on the side of the Placard. \n \n\n\nCOST: ONLY $100 PER PLACARD!!!\nCredit card payments are made on the Eventbrite page. \n\nMake checks payable to Unity of Sarasota\nOrders paid by cash or check needs to be placed in the Office Manager’s Unity Box or in the Mail.\nAttn: Office Manager\, Unity of Sarasota\, 3023 Proctor Rd. Sarasota\, Fl. 34231\nContact Unity of Sarasota\, 941.955.3301\, if you have any questions.\nYou may also pay inside the Bookstore with a check or with cash.\n\n\n  \n 
URL:https://unityofsarasota.org/event/forever-and-always-placards/2021-12-06/
END:VEVENT
BEGIN:VEVENT
DTSTART;TZID=America/New_York:20211206T190000
DTEND;TZID=America/New_York:20211206T200000
DTSTAMP:20260423T085052
CREATED:20210728T204146Z
LAST-MODIFIED:20230227T164305Z
UID:10002227-1638817200-1638820800@unityofsarasota.org
SUMMARY:AA Friends Group - Monday & Wednesday - 7-8pm
DESCRIPTION:AA Friends Group 7:00-8:00 pm  Mondays & Wednesdays from 7 to 8 pm at Unity of Sarasota in rooms A & B.  
URL:https://unityofsarasota.org/event/aa-friends-group-monday-wednesday-7-8pm/2021-12-06/
LOCATION:Unity of Sarasota\, 3023 Proctor Road\, Sarasota\, FL\, 34231\, United States\, Unity of Sarasota\, 3023 Proctor Road\, Sarasota\, FL\, 34231\, United States
CATEGORIES:Small Groups
END:VEVENT
END:VCALENDAR