BEGIN:VCALENDAR
VERSION:2.0
PRODID:-//Unity of Sarasota - ECPv6.15.17.1//NONSGML v1.0//EN
CALSCALE:GREGORIAN
METHOD:PUBLISH
X-WR-CALNAME:Unity of Sarasota
X-ORIGINAL-URL:https://unityofsarasota.org
X-WR-CALDESC:Events for Unity of Sarasota
REFRESH-INTERVAL;VALUE=DURATION:PT1H
X-Robots-Tag:noindex
X-PUBLISHED-TTL:PT1H
BEGIN:VTIMEZONE
TZID:UTC
BEGIN:STANDARD
TZOFFSETFROM:+0000
TZOFFSETTO:+0000
TZNAME:UTC
DTSTART:20200101T000000
END:STANDARD
END:VTIMEZONE
BEGIN:VTIMEZONE
TZID:America/New_York
BEGIN:DAYLIGHT
TZOFFSETFROM:-0500
TZOFFSETTO:-0400
TZNAME:EDT
DTSTART:20200308T070000
END:DAYLIGHT
BEGIN:STANDARD
TZOFFSETFROM:-0400
TZOFFSETTO:-0500
TZNAME:EST
DTSTART:20201101T060000
END:STANDARD
BEGIN:DAYLIGHT
TZOFFSETFROM:-0500
TZOFFSETTO:-0400
TZNAME:EDT
DTSTART:20210314T070000
END:DAYLIGHT
BEGIN:STANDARD
TZOFFSETFROM:-0400
TZOFFSETTO:-0500
TZNAME:EST
DTSTART:20211107T060000
END:STANDARD
BEGIN:DAYLIGHT
TZOFFSETFROM:-0500
TZOFFSETTO:-0400
TZNAME:EDT
DTSTART:20220313T070000
END:DAYLIGHT
BEGIN:STANDARD
TZOFFSETFROM:-0400
TZOFFSETTO:-0500
TZNAME:EST
DTSTART:20221106T060000
END:STANDARD
END:VTIMEZONE
BEGIN:VEVENT
DTSTART;TZID=UTC:20211213T090000
DTEND;TZID=UTC:20211213T100000
DTSTAMP:20260422T193507
CREATED:20191123T050934Z
LAST-MODIFIED:20220415T135902Z
UID:10002047-1639386000-1639389600@unityofsarasota.org
SUMMARY:Men’s Meditation Circle
DESCRIPTION:  \n  \nThe Men’s Meditation Circle meets on Mondays at 9-10 am in Classroom D at Unity of Sarasota
URL:https://unityofsarasota.org/event/mens-meditation-circle-2/2021-12-13/
LOCATION:Unity of Sarasota\, 3023 Proctor Road\, Sarasota\, FL\, 34231\, United States\, Unity of Sarasota\, 3023 Proctor Road\, Sarasota\, FL\, 34231\, United States
CATEGORIES:On-Going Classes,Small Groups
END:VEVENT
BEGIN:VEVENT
DTSTART;TZID=America/New_York:20211213T183000
DTEND;TZID=America/New_York:20211213T193000
DTSTAMP:20260422T193507
CREATED:20210711T012007Z
LAST-MODIFIED:20220709T170857Z
UID:10000008-1639420200-1639423800@unityofsarasota.org
SUMMARY:Pub Theology - Bring a Spiritual Question & We'll Talk
DESCRIPTION:Bring a spiritual question and we’ll talk …  the second Monday of every month at 6:30 pm.   Location:   The Olive Garden\, Sarasota Landings Plaza\, 4900 S Tamiami Trail\, Sarasota\, FL 34231 (941) 923-3136 \nNote: Reservation required for the Olive Garden ; please call Rev. Amy 941-374-5811 \n  \n \n  \n 
URL:https://unityofsarasota.org/event/pub-theology-bring-a-spiritual-question-well-talk/2021-12-13/
LOCATION:Olive Garden\, 4900 S Tamiami Trail\, Sarasota\, FL\, 34231\, United States
CATEGORIES:Small Groups
END:VEVENT
BEGIN:VEVENT
DTSTART;TZID=America/New_York:20211213T190000
DTEND;TZID=America/New_York:20211213T200000
DTSTAMP:20260422T193507
CREATED:20210728T204146Z
LAST-MODIFIED:20230227T164305Z
UID:10002228-1639422000-1639425600@unityofsarasota.org
SUMMARY:AA Friends Group - Monday & Wednesday - 7-8pm
DESCRIPTION:AA Friends Group 7:00-8:00 pm  Mondays & Wednesdays from 7 to 8 pm at Unity of Sarasota in rooms A & B.  
URL:https://unityofsarasota.org/event/aa-friends-group-monday-wednesday-7-8pm/2021-12-13/
LOCATION:Unity of Sarasota\, 3023 Proctor Road\, Sarasota\, FL\, 34231\, United States\, Unity of Sarasota\, 3023 Proctor Road\, Sarasota\, FL\, 34231\, United States
CATEGORIES:Small Groups
END:VEVENT
END:VCALENDAR