BEGIN:VCALENDAR
VERSION:2.0
PRODID:-//Unity of Sarasota - ECPv6.15.17.1//NONSGML v1.0//EN
CALSCALE:GREGORIAN
METHOD:PUBLISH
X-ORIGINAL-URL:https://unityofsarasota.org
X-WR-CALDESC:Events for Unity of Sarasota
REFRESH-INTERVAL;VALUE=DURATION:PT1H
X-Robots-Tag:noindex
X-PUBLISHED-TTL:PT1H
BEGIN:VTIMEZONE
TZID:America/New_York
BEGIN:DAYLIGHT
TZOFFSETFROM:-0500
TZOFFSETTO:-0400
TZNAME:EDT
DTSTART:20210314T070000
END:DAYLIGHT
BEGIN:STANDARD
TZOFFSETFROM:-0400
TZOFFSETTO:-0500
TZNAME:EST
DTSTART:20211107T060000
END:STANDARD
BEGIN:DAYLIGHT
TZOFFSETFROM:-0500
TZOFFSETTO:-0400
TZNAME:EDT
DTSTART:20220313T070000
END:DAYLIGHT
BEGIN:STANDARD
TZOFFSETFROM:-0400
TZOFFSETTO:-0500
TZNAME:EST
DTSTART:20221106T060000
END:STANDARD
BEGIN:DAYLIGHT
TZOFFSETFROM:-0500
TZOFFSETTO:-0400
TZNAME:EDT
DTSTART:20230312T070000
END:DAYLIGHT
BEGIN:STANDARD
TZOFFSETFROM:-0400
TZOFFSETTO:-0500
TZNAME:EST
DTSTART:20231105T060000
END:STANDARD
END:VTIMEZONE
BEGIN:VEVENT
DTSTART;TZID=America/New_York:20220121T080000
DTEND;TZID=America/New_York:20220121T160000
DTSTAMP:20260420T103026
CREATED:20220104T143033Z
LAST-MODIFIED:20220104T143052Z
UID:10003756-1642752000-1642780800@unityofsarasota.org
SUMMARY:Life Line Screening - the Power of Prevention
DESCRIPTION:Get Screened for Stroke and Cardiovascular Disease\nFriday\, January 21\, 8 AM – 4 PM at Unity of Sarasota.\nLife Line Screening goes beyond regular checkups to look inside your arteries for signs of plaque build-up. \nAll 5 screenings $139\nCarotid Artery Disease\nPeripheral Arterial Disease\nAbdominal Aortic Aneurysm\nAtrial Fibrillation\nOsteoporosis Risk\nThere are three ways to register:\nCall toll-free: 1-866-229-0469\,\nOnline: https://llsa.social/HSC\nOr text the word circle to 797979 \n  \n \n 
URL:https://unityofsarasota.org/event/life-line-screening-the-power-of-prevention/
LOCATION:Unity of Sarasota\, 3023 Proctor Road\, Sarasota\, FL\, 34231\, United States\, Unity of Sarasota\, 3023 Proctor Road\, Sarasota\, FL\, 34231\, United States
CATEGORIES:upcoming
END:VEVENT
END:VCALENDAR