BEGIN:VCALENDAR
VERSION:2.0
PRODID:-//Unity of Sarasota - ECPv6.15.17.1//NONSGML v1.0//EN
CALSCALE:GREGORIAN
METHOD:PUBLISH
X-WR-CALNAME:Unity of Sarasota
X-ORIGINAL-URL:https://unityofsarasota.org
X-WR-CALDESC:Events for Unity of Sarasota
REFRESH-INTERVAL;VALUE=DURATION:PT1H
X-Robots-Tag:noindex
X-PUBLISHED-TTL:PT1H
BEGIN:VTIMEZONE
TZID:America/New_York
BEGIN:DAYLIGHT
TZOFFSETFROM:-0500
TZOFFSETTO:-0400
TZNAME:EDT
DTSTART:20210314T070000
END:DAYLIGHT
BEGIN:STANDARD
TZOFFSETFROM:-0400
TZOFFSETTO:-0500
TZNAME:EST
DTSTART:20211107T060000
END:STANDARD
BEGIN:DAYLIGHT
TZOFFSETFROM:-0500
TZOFFSETTO:-0400
TZNAME:EDT
DTSTART:20220313T070000
END:DAYLIGHT
BEGIN:STANDARD
TZOFFSETFROM:-0400
TZOFFSETTO:-0500
TZNAME:EST
DTSTART:20221106T060000
END:STANDARD
BEGIN:DAYLIGHT
TZOFFSETFROM:-0500
TZOFFSETTO:-0400
TZNAME:EDT
DTSTART:20230312T070000
END:DAYLIGHT
BEGIN:STANDARD
TZOFFSETFROM:-0400
TZOFFSETTO:-0500
TZNAME:EST
DTSTART:20231105T060000
END:STANDARD
END:VTIMEZONE
BEGIN:VEVENT
DTSTART;TZID=America/New_York:20220306T103000
DTEND;TZID=America/New_York:20220306T113000
DTSTAMP:20260419T105122
CREATED:20191220T045303Z
LAST-MODIFIED:20220302T164936Z
UID:10002886-1646562600-1646566200@unityofsarasota.org
SUMMARY:Sunday Morning Celebration Service - All Are Welcome Here!
DESCRIPTION:The Sunday Morning Celebration Service is one of joy and reverence for the divine spark in all of us. We gather together in-person and virtually to pray\, sing\, listen\, and rejoice in the celebration of life.  All are welcome here! Unity of Sarasota is a diverse\, inclusive\, accepting and welcoming safe space for everyone! \nPlease remember that we need your support more than ever to keep Unity of Sarasota a Beacon of Light and Love.   Click here to donate now \n  \n  \n 
URL:https://unityofsarasota.org/event/sunday-morning-celebration-service-at-unity-of-sarasota-2020-04-12-2/2022-03-06/
CATEGORIES:Services
ATTACH;FMTTYPE=image/jpeg:https://unityofsarasota.org/wp-content/uploads/2020/01/All-are-welcome-here-horizontalDec-scaled.jpg
END:VEVENT
BEGIN:VEVENT
DTSTART;TZID=America/New_York:20220306T123000
DTEND;TZID=America/New_York:20220306T150000
DTSTAMP:20260419T105122
CREATED:20220222T235248Z
LAST-MODIFIED:20220225T004138Z
UID:10003470-1646569800-1646578800@unityofsarasota.org
SUMMARY:The Energy Codes - Four Session Program with Lois Coon
DESCRIPTION:Lois Coon\, a certified Energy Codes facilitator\, offers a four-part program to help awaken\, develop\, and maintain\nconnection with Spirit. Based on Dr. Sue Morter’s groundbreaking work and book\, The Energy Codes\, explore Dr. Morter’s Seven Step System\, to open access to peace\, greater aliveness\, and inner strength to live your best life. Lois looks forward to sharing this four-session program at Unity of Sarasota in Fellowship Hall. \nRegister at admin.mgr@unityofsarasota.org.    \nTHE ENERGY CODES\nSun. 3/6  Light Lunch 12:30; Overview of The World on The Energy Codes 1:00-3:00 $25\nWed. 3/9 Being Inwardly Awakened 3:00-5:00 Suggested Love Offering $20\nWed. 3/16 Start Dealing with Our Unexplained Actions 3:00-5:00 Love Offering $20\nWed. 3/23 Deepening the Experience of The Soulful Self 3:00-5:00 Love Offering $20
URL:https://unityofsarasota.org/event/the-energy-codes-four-session-program-with-lois-coon/2022-03-06/
LOCATION:Unity of Sarasota\, 3023 Proctor Road\, Sarasota\, FL\, 34231\, United States\, Unity of Sarasota\, 3023 Proctor Road\, Sarasota\, FL\, 34231\, United States
CATEGORIES:Class,upcoming
END:VEVENT
END:VCALENDAR