BEGIN:VCALENDAR
VERSION:2.0
PRODID:-//Unity of Sarasota - ECPv6.15.17.1//NONSGML v1.0//EN
CALSCALE:GREGORIAN
METHOD:PUBLISH
X-ORIGINAL-URL:https://unityofsarasota.org
X-WR-CALDESC:Events for Unity of Sarasota
REFRESH-INTERVAL;VALUE=DURATION:PT1H
X-Robots-Tag:noindex
X-PUBLISHED-TTL:PT1H
BEGIN:VTIMEZONE
TZID:America/New_York
BEGIN:DAYLIGHT
TZOFFSETFROM:-0500
TZOFFSETTO:-0400
TZNAME:EDT
DTSTART:20210314T070000
END:DAYLIGHT
BEGIN:STANDARD
TZOFFSETFROM:-0400
TZOFFSETTO:-0500
TZNAME:EST
DTSTART:20211107T060000
END:STANDARD
BEGIN:DAYLIGHT
TZOFFSETFROM:-0500
TZOFFSETTO:-0400
TZNAME:EDT
DTSTART:20220313T070000
END:DAYLIGHT
BEGIN:STANDARD
TZOFFSETFROM:-0400
TZOFFSETTO:-0500
TZNAME:EST
DTSTART:20221106T060000
END:STANDARD
BEGIN:DAYLIGHT
TZOFFSETFROM:-0500
TZOFFSETTO:-0400
TZNAME:EDT
DTSTART:20230312T070000
END:DAYLIGHT
BEGIN:STANDARD
TZOFFSETFROM:-0400
TZOFFSETTO:-0500
TZNAME:EST
DTSTART:20231105T060000
END:STANDARD
END:VTIMEZONE
BEGIN:VEVENT
DTSTART;TZID=America/New_York:20220819T123000
DTEND;TZID=America/New_York:20220819T133000
DTSTAMP:20260419T210248
CREATED:20220724T020937Z
LAST-MODIFIED:20220724T020937Z
UID:10003772-1660912200-1660915800@unityofsarasota.org
SUMMARY:Yoga with Cheryl Chaffee - 7 Week Session
DESCRIPTION:7 week session\, begins July 8\, 2022 \nFridays\, 12:30-1:30 pm in Fellowship Hall \n \n  \nNo experience necessary. You must be able to get up and down to the floor easily.  Bring your own yoga mat\, yoga strap\, 2 yoga blocks\, and a firm blanket. \nCost: Sliding Scale $6-20 per class\, or $42-140 for the whole session \nSpace is limited\, you must reserve your spot in advance each week at www.bodymindheartyoga.com \nMasks are optional. Mats will be distanced 6’ apart. \n  \nCheryl Chaffee\, ERYT-500\, YACEP is an experienced yoga teacher who has been teaching since 2005. She teaches an exceptionally heart-centered and alignment-focused style of yoga called Ashaya\, which means “the abode of the heart.” Come home to your heart through your body\, mind\, and breath. Each class includes relatable teachings on yoga philosophy\, breath work\, movement\, and deep relaxation.
URL:https://unityofsarasota.org/event/yoga-with-cheryl-chaffee-7-week-session/2022-08-19/
LOCATION:Unity of Sarasota\, 3023 Proctor Road\, Sarasota\, FL\, 34231\, United States\, Unity of Sarasota\, 3023 Proctor Road\, Sarasota\, FL\, 34231\, United States
CATEGORIES:On-Going Classes
END:VEVENT
END:VCALENDAR