BEGIN:VCALENDAR
VERSION:2.0
PRODID:-//Unity of Sarasota - ECPv6.15.17.1//NONSGML v1.0//EN
CALSCALE:GREGORIAN
METHOD:PUBLISH
X-WR-CALNAME:Unity of Sarasota
X-ORIGINAL-URL:https://unityofsarasota.org
X-WR-CALDESC:Events for Unity of Sarasota
REFRESH-INTERVAL;VALUE=DURATION:PT1H
X-Robots-Tag:noindex
X-PUBLISHED-TTL:PT1H
BEGIN:VTIMEZONE
TZID:America/New_York
BEGIN:DAYLIGHT
TZOFFSETFROM:-0500
TZOFFSETTO:-0400
TZNAME:EDT
DTSTART:20210314T070000
END:DAYLIGHT
BEGIN:STANDARD
TZOFFSETFROM:-0400
TZOFFSETTO:-0500
TZNAME:EST
DTSTART:20211107T060000
END:STANDARD
BEGIN:DAYLIGHT
TZOFFSETFROM:-0500
TZOFFSETTO:-0400
TZNAME:EDT
DTSTART:20220313T070000
END:DAYLIGHT
BEGIN:STANDARD
TZOFFSETFROM:-0400
TZOFFSETTO:-0500
TZNAME:EST
DTSTART:20221106T060000
END:STANDARD
BEGIN:DAYLIGHT
TZOFFSETFROM:-0500
TZOFFSETTO:-0400
TZNAME:EDT
DTSTART:20230312T070000
END:DAYLIGHT
BEGIN:STANDARD
TZOFFSETFROM:-0400
TZOFFSETTO:-0500
TZNAME:EST
DTSTART:20231105T060000
END:STANDARD
END:VTIMEZONE
BEGIN:VEVENT
DTSTART;TZID=America/New_York:20220821T100000
DTEND;TZID=America/New_York:20220821T113000
DTSTAMP:20260420T043521
CREATED:20220726T153613Z
LAST-MODIFIED:20220809T144211Z
UID:10003612-1661076000-1661081400@unityofsarasota.org
SUMMARY:GabrielNelson Sears Sacred Sound and Meditation
DESCRIPTION:Unity of Sarasota is pleased and excited to present  …..\nGabrielNelson Sears – a  certified vibrational sound healing touch therapist \, spiritual prayer practitioner\, motivational speaker\, angel intuitive and meditation instructor who provides sonic sound Reiki treatments with tuning forks and Zen Therapeutic Singing Bowls placed directly on the body. \nGabriel of the Light\, LLC envisions a world in which western medicine is integrated with holistic medicine such as vibrational sound therapy\, Reiki and other energy modalities. A world where medical doctors and sound therapists partner to facilitate healing and optimum vibrant health in hospitals\, surgical rooms\, medical offices and all healthcare settings. \nClick here to learn more and purchase your tickets!
URL:https://unityofsarasota.org/event/gabrielnelson-sears-sunday-service-sacred-sound-and-meditation/2022-08-21/
LOCATION:Unity of Sarasota\, 3023 Proctor Road\, Sarasota\, FL\, 34231\, United States\, Unity of Sarasota\, 3023 Proctor Road\, Sarasota\, FL\, 34231\, United States
CATEGORIES:Concerts,Services,upcoming
ATTACH;FMTTYPE=image/webp:https://unityofsarasota.org/wp-content/uploads/2022/07/rsw-1300h-800.webp
END:VEVENT
BEGIN:VEVENT
DTSTART;TZID=America/New_York:20220821T103000
DTEND;TZID=America/New_York:20220821T113000
DTSTAMP:20260420T043521
CREATED:20191220T045303Z
LAST-MODIFIED:20220302T164936Z
UID:10002910-1661077800-1661081400@unityofsarasota.org
SUMMARY:Sunday Morning Celebration Service - All Are Welcome Here!
DESCRIPTION:The Sunday Morning Celebration Service is one of joy and reverence for the divine spark in all of us. We gather together in-person and virtually to pray\, sing\, listen\, and rejoice in the celebration of life.  All are welcome here! Unity of Sarasota is a diverse\, inclusive\, accepting and welcoming safe space for everyone! \nPlease remember that we need your support more than ever to keep Unity of Sarasota a Beacon of Light and Love.   Click here to donate now \n  \n  \n 
URL:https://unityofsarasota.org/event/sunday-morning-celebration-service-at-unity-of-sarasota-2020-04-12-2/2022-08-21/
CATEGORIES:Services
ATTACH;FMTTYPE=image/jpeg:https://unityofsarasota.org/wp-content/uploads/2020/01/All-are-welcome-here-horizontalDec-scaled.jpg
END:VEVENT
BEGIN:VEVENT
DTSTART;TZID=America/New_York:20220821T130000
DTEND;TZID=America/New_York:20220821T150000
DTSTAMP:20260420T043521
CREATED:20220726T161317Z
LAST-MODIFIED:20220809T020542Z
UID:10003924-1661086800-1661094000@unityofsarasota.org
SUMMARY:Toning in the TIWA Tradition: GabrielNelson Sears
DESCRIPTION:Unity of Sarasota is pleased to present … GabrielNelson Sears\nVibrational sound therapist and modern day mystic\, GabrielNelson Sears\, shares knowledge and techniques from mystery school training in the Native Picuris tradition and Tiwa language. \nStudents will learn the distinction between singing\, chanting and toning. This interactive workshop combines toning with intention. Students will learn and experience group toning for healing. \nPlease bring a drum or rattle if you have one. \n  \nClick Here For More Information and Registration for GabrielNelson Events. Or\, call 678-499-5771.
URL:https://unityofsarasota.org/event/toning-in-the-tiwa-tradition-gabrielnelson-sears/
LOCATION:Unity of Sarasota\, 3023 Proctor Road\, Sarasota\, FL\, 34231\, United States\, Unity of Sarasota\, 3023 Proctor Road\, Sarasota\, FL\, 34231\, United States
CATEGORIES:Class,upcoming
ATTACH;FMTTYPE=image/webp:https://unityofsarasota.org/wp-content/uploads/2022/07/rsw-1300h-800.webp
END:VEVENT
END:VCALENDAR