BEGIN:VCALENDAR
VERSION:2.0
PRODID:-//Unity of Sarasota - ECPv6.15.17.1//NONSGML v1.0//EN
CALSCALE:GREGORIAN
METHOD:PUBLISH
X-ORIGINAL-URL:https://unityofsarasota.org
X-WR-CALDESC:Events for Unity of Sarasota
REFRESH-INTERVAL;VALUE=DURATION:PT1H
X-Robots-Tag:noindex
X-PUBLISHED-TTL:PT1H
BEGIN:VTIMEZONE
TZID:America/New_York
BEGIN:DAYLIGHT
TZOFFSETFROM:-0500
TZOFFSETTO:-0400
TZNAME:EDT
DTSTART:20210314T070000
END:DAYLIGHT
BEGIN:STANDARD
TZOFFSETFROM:-0400
TZOFFSETTO:-0500
TZNAME:EST
DTSTART:20211107T060000
END:STANDARD
BEGIN:DAYLIGHT
TZOFFSETFROM:-0500
TZOFFSETTO:-0400
TZNAME:EDT
DTSTART:20220313T070000
END:DAYLIGHT
BEGIN:STANDARD
TZOFFSETFROM:-0400
TZOFFSETTO:-0500
TZNAME:EST
DTSTART:20221106T060000
END:STANDARD
BEGIN:DAYLIGHT
TZOFFSETFROM:-0500
TZOFFSETTO:-0400
TZNAME:EDT
DTSTART:20230312T070000
END:DAYLIGHT
BEGIN:STANDARD
TZOFFSETFROM:-0400
TZOFFSETTO:-0500
TZNAME:EST
DTSTART:20231105T060000
END:STANDARD
END:VTIMEZONE
BEGIN:VEVENT
DTSTART;TZID=America/New_York:20221030T090000
DTEND;TZID=America/New_York:20221030T100000
DTSTAMP:20260420T185404
CREATED:20200407T132358Z
LAST-MODIFIED:20220827T135848Z
UID:10003160-1667120400-1667124000@unityofsarasota.org
SUMMARY:Sunday Morning Awakening Class
DESCRIPTION:Converse\, Discuss\, Listen\, Learn what it is to actually LIVE Our Unity Principles during our everyday Lives. Have you ever asked; what does the saying mean “God dwells in me and is in all things”? FIND OUT!   Join David Hawkins  for the Sunday Morning Awakening Class (SMAC) \n \n Time: 9:00 a.m. – 10:00 a.m. Classroom D\nWith David Hawkins  \n  \nWe are asking for a Love Offering per session\, or however\, you are moved to give to support Unity of Sarasota. You’ll need to make an initial donation when you sign up on Eventbrite in order to click the checkout button. Then fill out all the information with your name and email so we can contact you. For weekly session donations\,  click the Contribute button for ways to give.\n\n\n\nSign up here on Eventbrite (click this link)
URL:https://unityofsarasota.org/event/sunday-morning-awakening-class/2022-10-30/
LOCATION:Unity of Sarasota\, 3023 Proctor Road\, Sarasota\, FL\, 34231\, United States\, Unity of Sarasota\, 3023 Proctor Road\, Sarasota\, FL\, 34231\, United States
CATEGORIES:Class,Small Groups
ATTACH;FMTTYPE=image/jpeg:https://unityofsarasota.org/wp-content/uploads/2020/04/SMAC-IS-BACK.jpg
END:VEVENT
BEGIN:VEVENT
DTSTART;TZID=America/New_York:20221030T103000
DTEND;TZID=America/New_York:20221030T113000
DTSTAMP:20260420T185404
CREATED:20191220T045303Z
LAST-MODIFIED:20220302T164936Z
UID:10002920-1667125800-1667129400@unityofsarasota.org
SUMMARY:Sunday Morning Celebration Service - All Are Welcome Here!
DESCRIPTION:The Sunday Morning Celebration Service is one of joy and reverence for the divine spark in all of us. We gather together in-person and virtually to pray\, sing\, listen\, and rejoice in the celebration of life.  All are welcome here! Unity of Sarasota is a diverse\, inclusive\, accepting and welcoming safe space for everyone! \nPlease remember that we need your support more than ever to keep Unity of Sarasota a Beacon of Light and Love.   Click here to donate now \n  \n  \n 
URL:https://unityofsarasota.org/event/sunday-morning-celebration-service-at-unity-of-sarasota-2020-04-12-2/2022-10-30/
CATEGORIES:Services
ATTACH;FMTTYPE=image/jpeg:https://unityofsarasota.org/wp-content/uploads/2020/01/All-are-welcome-here-horizontalDec-scaled.jpg
END:VEVENT
BEGIN:VEVENT
DTSTART;TZID=America/New_York:20221030T114500
DTEND;TZID=America/New_York:20221030T130000
DTSTAMP:20260420T185404
CREATED:20221007T145532Z
LAST-MODIFIED:20221007T145532Z
UID:10003970-1667130300-1667134800@unityofsarasota.org
SUMMARY:Trunk or Treat at Unity of Sarasota
DESCRIPTION:Trunk or Treat for Sunday\, October 30 11:45 AM – Until the candy runs out!\nImmediately following 10:30 Celebration Service –\n\nThere’s fun for the whole family at Unity of Sarasota’s Trunk or Treat for Halloween! Make the rounds of decorated vehicles for free candy and maybe a few frights! We will be costumed\, ready and waiting for BOOOOO!!\n\nEveryone is welcome.
URL:https://unityofsarasota.org/event/trunk-or-treat-at-unity-of-sarasota/
LOCATION:Unity of Sarasota\, 3023 Proctor Road\, Sarasota\, FL\, 34231\, United States\, Unity of Sarasota\, 3023 Proctor Road\, Sarasota\, FL\, 34231\, United States
CATEGORIES:Outreach,upcoming
ATTACH;FMTTYPE=image/jpeg:https://unityofsarasota.org/wp-content/uploads/2022/10/Trunk-or-Treat-2022-copy-scaled.jpg
END:VEVENT
END:VCALENDAR