BEGIN:VCALENDAR
VERSION:2.0
PRODID:-//Unity of Sarasota - ECPv6.15.17.1//NONSGML v1.0//EN
CALSCALE:GREGORIAN
METHOD:PUBLISH
X-WR-CALNAME:Unity of Sarasota
X-ORIGINAL-URL:https://unityofsarasota.org
X-WR-CALDESC:Events for Unity of Sarasota
REFRESH-INTERVAL;VALUE=DURATION:PT1H
X-Robots-Tag:noindex
X-PUBLISHED-TTL:PT1H
BEGIN:VTIMEZONE
TZID:America/New_York
BEGIN:DAYLIGHT
TZOFFSETFROM:-0500
TZOFFSETTO:-0400
TZNAME:EDT
DTSTART:20210314T070000
END:DAYLIGHT
BEGIN:STANDARD
TZOFFSETFROM:-0400
TZOFFSETTO:-0500
TZNAME:EST
DTSTART:20211107T060000
END:STANDARD
BEGIN:DAYLIGHT
TZOFFSETFROM:-0500
TZOFFSETTO:-0400
TZNAME:EDT
DTSTART:20220313T070000
END:DAYLIGHT
BEGIN:STANDARD
TZOFFSETFROM:-0400
TZOFFSETTO:-0500
TZNAME:EST
DTSTART:20221106T060000
END:STANDARD
BEGIN:DAYLIGHT
TZOFFSETFROM:-0500
TZOFFSETTO:-0400
TZNAME:EDT
DTSTART:20230312T070000
END:DAYLIGHT
BEGIN:STANDARD
TZOFFSETFROM:-0400
TZOFFSETTO:-0500
TZNAME:EST
DTSTART:20231105T060000
END:STANDARD
END:VTIMEZONE
BEGIN:VTIMEZONE
TZID:UTC
BEGIN:STANDARD
TZOFFSETFROM:+0000
TZOFFSETTO:+0000
TZNAME:UTC
DTSTART:20210101T000000
END:STANDARD
END:VTIMEZONE
BEGIN:VEVENT
DTSTART;TZID=America/New_York:20221102T190000
DTEND;TZID=America/New_York:20221102T200000
DTSTAMP:20260422T235023
CREATED:20221024T132327Z
LAST-MODIFIED:20221024T132327Z
UID:10004232-1667415600-1667419200@unityofsarasota.org
SUMMARY:Concert to Benefit Mothers Helping Mothers with Kim Belew
DESCRIPTION:Concert to Benefit Mothers Helping Mothers with Musical Artist\, Kim Belew at Unity of Sarasota on Wednesday\, November 2nd at 7:00 pm.\n 
URL:https://unityofsarasota.org/event/concert-to-benefit-mothers-helping-mothers-with-kim-belew/
LOCATION:Unity of Sarasota\, 3023 Proctor Road\, Sarasota\, FL\, 34231\, United States\, Unity of Sarasota\, 3023 Proctor Road\, Sarasota\, FL\, 34231\, United States
CATEGORIES:Concerts
END:VEVENT
BEGIN:VEVENT
DTSTART;TZID=UTC:20221102T190000
DTEND;TZID=UTC:20221102T200000
DTSTAMP:20260422T235023
CREATED:20221109T204600Z
LAST-MODIFIED:20250927T134059Z
UID:10002392-1667415600-1667419200@unityofsarasota.org
SUMMARY:Wednesday Music and Inspiration
DESCRIPTION:Wednesday’s Music and Inspiration service is a midweek uplift\, designed to bring us back to our divine center.  It is filled with music from the heart\, motivational and spiritual practices\, and time to reflect and meditate. \nPlease remember that we need your support more than ever to keep Unity of Sarasota a Beacon of Light and Love. \nClick here to donate now\n \n  \n 
URL:https://unityofsarasota.org/event/wednesday-music-and-inspiration-3/
LOCATION:Unity of Sarasota\, 3023 Proctor Road\, Sarasota\, FL\, 34231\, United States\, Unity of Sarasota\, 3023 Proctor Road\, Sarasota\, FL\, 34231\, United States
CATEGORIES:upcoming
END:VEVENT
END:VCALENDAR