BEGIN:VCALENDAR
VERSION:2.0
PRODID:-//Unity of Sarasota - ECPv6.15.17.1//NONSGML v1.0//EN
CALSCALE:GREGORIAN
METHOD:PUBLISH
X-ORIGINAL-URL:https://unityofsarasota.org
X-WR-CALDESC:Events for Unity of Sarasota
REFRESH-INTERVAL;VALUE=DURATION:PT1H
X-Robots-Tag:noindex
X-PUBLISHED-TTL:PT1H
BEGIN:VTIMEZONE
TZID:America/New_York
BEGIN:DAYLIGHT
TZOFFSETFROM:-0500
TZOFFSETTO:-0400
TZNAME:EDT
DTSTART:20210314T070000
END:DAYLIGHT
BEGIN:STANDARD
TZOFFSETFROM:-0400
TZOFFSETTO:-0500
TZNAME:EST
DTSTART:20211107T060000
END:STANDARD
BEGIN:DAYLIGHT
TZOFFSETFROM:-0500
TZOFFSETTO:-0400
TZNAME:EDT
DTSTART:20220313T070000
END:DAYLIGHT
BEGIN:STANDARD
TZOFFSETFROM:-0400
TZOFFSETTO:-0500
TZNAME:EST
DTSTART:20221106T060000
END:STANDARD
BEGIN:DAYLIGHT
TZOFFSETFROM:-0500
TZOFFSETTO:-0400
TZNAME:EDT
DTSTART:20230312T070000
END:DAYLIGHT
BEGIN:STANDARD
TZOFFSETFROM:-0400
TZOFFSETTO:-0500
TZNAME:EST
DTSTART:20231105T060000
END:STANDARD
END:VTIMEZONE
BEGIN:VEVENT
DTSTART;TZID=America/New_York:20221203T190000
DTEND;TZID=America/New_York:20221203T200000
DTSTAMP:20260422T062110
CREATED:20221011T161454Z
LAST-MODIFIED:20221019T185732Z
UID:10003971-1670094000-1670097600@unityofsarasota.org
SUMMARY:Peter Kater in Concert! At Unity of Sarasota
DESCRIPTION:  \nUnity of Sarasota is pleased to present Peter Kater in concert December 3rd at 7 PM in our newly renovated Sanctuary. This 2-time Grammy Winning/Multi-Platinum Pianist/Composer has been an innovator of contemporary instrumental music for over three decades. He’s received many awards and accolades for his rich and diverse music including 14 Grammy Award nominations and two Grammy wins. Peter has released over 70 critically acclaimed recordings and has scored the music for over 100 television and film productions\, and for 11 On and Off-Broadway plays. From solo piano and contemporary jazz ensembles to full orchestral works his cross-genre music is heard all over the world from the Olympics to Carnegie Hall. He’s collaborated with musicians such as Native American flutist R. Carlos Nakai\, Sting guitarist Dominic Miller\, and Sacred Chantress Snatam Kaur. As an avid environmentalist and humanitarian Peter has received the Environment Leadership Award from the United Nations. \nJoin us for an evening of transformative music in this beautiful venue. \nUnity of Sarasota ~ 3023 Proctor Rd.  \nSaturday\, December 3\, 2022 ~ 7 PM \nBuy Tickets thru Brightstar:  \nGeneral Admission Early Bird $35; $40 after 11/19/22 \nPremium Seats $50 \nBrightstar: https://tickets.brightstarevents.com/event/peter-kater-sarasota-florida-2022 \nor Contact Unity of Sarasota ~ www.UnityofSarasota.org ~ 941-955-3301 \n  \n 
URL:https://unityofsarasota.org/event/peter-kater-in-concert-at-unity-of-sarasota/
LOCATION:Unity of Sarasota\, 3023 Proctor Road\, Sarasota\, FL\, 34231\, United States\, Unity of Sarasota\, 3023 Proctor Road\, Sarasota\, FL\, 34231\, United States
CATEGORIES:Concerts,upcoming
END:VEVENT
END:VCALENDAR