BEGIN:VCALENDAR
VERSION:2.0
PRODID:-//Unity of Sarasota - ECPv6.15.17.1//NONSGML v1.0//EN
CALSCALE:GREGORIAN
METHOD:PUBLISH
X-ORIGINAL-URL:https://unityofsarasota.org
X-WR-CALDESC:Events for Unity of Sarasota
REFRESH-INTERVAL;VALUE=DURATION:PT1H
X-Robots-Tag:noindex
X-PUBLISHED-TTL:PT1H
BEGIN:VTIMEZONE
TZID:America/New_York
BEGIN:DAYLIGHT
TZOFFSETFROM:-0500
TZOFFSETTO:-0400
TZNAME:EDT
DTSTART:20240310T070000
END:DAYLIGHT
BEGIN:STANDARD
TZOFFSETFROM:-0400
TZOFFSETTO:-0500
TZNAME:EST
DTSTART:20241103T060000
END:STANDARD
BEGIN:DAYLIGHT
TZOFFSETFROM:-0500
TZOFFSETTO:-0400
TZNAME:EDT
DTSTART:20250309T070000
END:DAYLIGHT
BEGIN:STANDARD
TZOFFSETFROM:-0400
TZOFFSETTO:-0500
TZNAME:EST
DTSTART:20251102T060000
END:STANDARD
BEGIN:DAYLIGHT
TZOFFSETFROM:-0500
TZOFFSETTO:-0400
TZNAME:EDT
DTSTART:20260308T070000
END:DAYLIGHT
BEGIN:STANDARD
TZOFFSETFROM:-0400
TZOFFSETTO:-0500
TZNAME:EST
DTSTART:20261101T060000
END:STANDARD
END:VTIMEZONE
BEGIN:VEVENT
DTSTART;TZID=America/New_York:20250202T103000
DTEND;TZID=America/New_York:20250202T113000
DTSTAMP:20260422T011020
CREATED:20241027T213120Z
LAST-MODIFIED:20260410T155829Z
UID:10015323-1738492200-1738495800@unityofsarasota.org
SUMMARY:Sunday Celebration Service at Unity of Sarasota
DESCRIPTION:Sunday Celebration Service at Unity of Sarasota
URL:https://unityofsarasota.org/event/sunday-celebration-service-at-unity-of-sarasota-3/2025-02-02/
LOCATION:Unity of Sarasota\, 3023 Proctor Road\, Sarasota\, FL\, 34231\, United States\, Unity of Sarasota\, 3023 Proctor Road\, Sarasota\, FL\, 34231\, United States
CATEGORIES:Services
ATTACH;FMTTYPE=image/webp:https://unityofsarasota.org/wp-content/uploads/2019/08/Sunday-Celebration-Service-1.webp
END:VEVENT
BEGIN:VEVENT
DTSTART;TZID=America/New_York:20250202T104500
DTEND;TZID=America/New_York:20250202T120000
DTSTAMP:20260422T011020
CREATED:20230601T154317Z
LAST-MODIFIED:20250927T134032Z
UID:10012766-1738493100-1738497600@unityofsarasota.org
SUMMARY:Birthday Celebration
DESCRIPTION:1st Sunday of each month is Birthday Celebration Sunday  – come and be celebrated!
URL:https://unityofsarasota.org/event/birthday-celebration-4/2025-02-02/
END:VEVENT
BEGIN:VEVENT
DTSTART;TZID=America/New_York:20250202T120000
DTEND;TZID=America/New_York:20250202T130000
DTSTAMP:20260422T011020
CREATED:20250115T135204Z
LAST-MODIFIED:20250927T133735Z
UID:10016012-1738497600-1738501200@unityofsarasota.org
SUMMARY:New Member Orientation Class
DESCRIPTION:If you would like to become a member of Unity of Sarasota\, a New Member Orientation class will be held Sunday February 2 & 9 from noon – 1pm Classroom A&B.
URL:https://unityofsarasota.org/event/new-member-orientation-class-6/2025-02-02/
LOCATION:Unity of Sarasota\, 3023 Proctor Road\, Sarasota\, FL\, 34231\, United States\, Unity of Sarasota\, 3023 Proctor Road\, Sarasota\, FL\, 34231\, United States
CATEGORIES:Class
END:VEVENT
BEGIN:VEVENT
DTSTART;TZID=America/New_York:20250202T150000
DTEND;TZID=America/New_York:20250202T160000
DTSTAMP:20260422T011020
CREATED:20230915T010529Z
LAST-MODIFIED:20250927T133849Z
UID:10013252-1738508400-1738512000@unityofsarasota.org
SUMMARY:The Higher Realm Mediumship Service with Natalie Anne
DESCRIPTION:
URL:https://unityofsarasota.org/event/the-higher-realm-mediumship-service-with-natalie-anne/2025-02-02/
CATEGORIES:Services
END:VEVENT
END:VCALENDAR