BEGIN:VCALENDAR
VERSION:2.0
PRODID:-//Unity of Sarasota - ECPv6.15.17.1//NONSGML v1.0//EN
CALSCALE:GREGORIAN
METHOD:PUBLISH
X-ORIGINAL-URL:https://unityofsarasota.org
X-WR-CALDESC:Events for Unity of Sarasota
REFRESH-INTERVAL;VALUE=DURATION:PT1H
X-Robots-Tag:noindex
X-PUBLISHED-TTL:PT1H
BEGIN:VTIMEZONE
TZID:America/New_York
BEGIN:DAYLIGHT
TZOFFSETFROM:-0500
TZOFFSETTO:-0400
TZNAME:EDT
DTSTART:20190310T070000
END:DAYLIGHT
BEGIN:STANDARD
TZOFFSETFROM:-0400
TZOFFSETTO:-0500
TZNAME:EST
DTSTART:20191103T060000
END:STANDARD
BEGIN:DAYLIGHT
TZOFFSETFROM:-0500
TZOFFSETTO:-0400
TZNAME:EDT
DTSTART:20200308T070000
END:DAYLIGHT
BEGIN:STANDARD
TZOFFSETFROM:-0400
TZOFFSETTO:-0500
TZNAME:EST
DTSTART:20201101T060000
END:STANDARD
BEGIN:DAYLIGHT
TZOFFSETFROM:-0500
TZOFFSETTO:-0400
TZNAME:EDT
DTSTART:20210314T070000
END:DAYLIGHT
BEGIN:STANDARD
TZOFFSETFROM:-0400
TZOFFSETTO:-0500
TZNAME:EST
DTSTART:20211107T060000
END:STANDARD
END:VTIMEZONE
BEGIN:VEVENT
DTSTART;TZID=America/New_York:20200625T190000
DTEND;TZID=America/New_York:20200625T210000
DTSTAMP:20260424T021906
CREATED:20191220T145127Z
LAST-MODIFIED:20191220T145301Z
UID:10003142-1593111600-1593118800@unityofsarasota.org
SUMMARY:Board of Directors Meeting
DESCRIPTION:Unity of Sarasota’s monthly Board of Directors meeting.\n \n 
URL:https://unityofsarasota.org/event/board-of-directors-meeting/2020-06-25/
CATEGORIES:Board of Directors Meeting
END:VEVENT
BEGIN:VEVENT
DTSTART;TZID=America/New_York:20200528T190000
DTEND;TZID=America/New_York:20200528T210000
DTSTAMP:20260424T021906
CREATED:20191220T145127Z
LAST-MODIFIED:20191220T145301Z
UID:10003141-1590692400-1590699600@unityofsarasota.org
SUMMARY:Board of Directors Meeting
DESCRIPTION:Unity of Sarasota’s monthly Board of Directors meeting.\n \n 
URL:https://unityofsarasota.org/event/board-of-directors-meeting/2020-05-28/
CATEGORIES:Board of Directors Meeting
END:VEVENT
BEGIN:VEVENT
DTSTART;TZID=America/New_York:20200423T190000
DTEND;TZID=America/New_York:20200423T210000
DTSTAMP:20260424T021906
CREATED:20191220T145127Z
LAST-MODIFIED:20191220T145301Z
UID:10003140-1587668400-1587675600@unityofsarasota.org
SUMMARY:Board of Directors Meeting
DESCRIPTION:Unity of Sarasota’s monthly Board of Directors meeting.\n \n 
URL:https://unityofsarasota.org/event/board-of-directors-meeting/2020-04-23/
CATEGORIES:Board of Directors Meeting
END:VEVENT
BEGIN:VEVENT
DTSTART;TZID=America/New_York:20200326T190000
DTEND;TZID=America/New_York:20200326T210000
DTSTAMP:20260424T021906
CREATED:20191220T145127Z
LAST-MODIFIED:20191220T145301Z
UID:10003139-1585249200-1585256400@unityofsarasota.org
SUMMARY:Board of Directors Meeting
DESCRIPTION:Unity of Sarasota’s monthly Board of Directors meeting.\n \n 
URL:https://unityofsarasota.org/event/board-of-directors-meeting/2020-03-26/
CATEGORIES:Board of Directors Meeting
END:VEVENT
BEGIN:VEVENT
DTSTART;TZID=America/New_York:20200220T190000
DTEND;TZID=America/New_York:20200220T210000
DTSTAMP:20260424T021906
CREATED:20191220T145127Z
LAST-MODIFIED:20191220T145301Z
UID:10003138-1582225200-1582232400@unityofsarasota.org
SUMMARY:Board of Directors Meeting
DESCRIPTION:Unity of Sarasota’s monthly Board of Directors meeting.\n \n 
URL:https://unityofsarasota.org/event/board-of-directors-meeting/2020-02-20/
CATEGORIES:Board of Directors Meeting
END:VEVENT
BEGIN:VEVENT
DTSTART;TZID=America/New_York:20200123T190000
DTEND;TZID=America/New_York:20200123T210000
DTSTAMP:20260424T021906
CREATED:20191220T145127Z
LAST-MODIFIED:20191220T145301Z
UID:10003137-1579806000-1579813200@unityofsarasota.org
SUMMARY:Board of Directors Meeting
DESCRIPTION:Unity of Sarasota’s monthly Board of Directors meeting.\n \n 
URL:https://unityofsarasota.org/event/board-of-directors-meeting/2020-01-23/
CATEGORIES:Board of Directors Meeting
END:VEVENT
END:VCALENDAR