BEGIN:VCALENDAR
VERSION:2.0
PRODID:-//Unity of Sarasota - ECPv6.15.17.1//NONSGML v1.0//EN
CALSCALE:GREGORIAN
METHOD:PUBLISH
X-WR-CALNAME:Unity of Sarasota
X-ORIGINAL-URL:https://unityofsarasota.org
X-WR-CALDESC:Events for Unity of Sarasota
REFRESH-INTERVAL;VALUE=DURATION:PT1H
X-Robots-Tag:noindex
X-PUBLISHED-TTL:PT1H
BEGIN:VTIMEZONE
TZID:America/New_York
BEGIN:DAYLIGHT
TZOFFSETFROM:-0500
TZOFFSETTO:-0400
TZNAME:EDT
DTSTART:20230312T070000
END:DAYLIGHT
BEGIN:STANDARD
TZOFFSETFROM:-0400
TZOFFSETTO:-0500
TZNAME:EST
DTSTART:20231105T060000
END:STANDARD
BEGIN:DAYLIGHT
TZOFFSETFROM:-0500
TZOFFSETTO:-0400
TZNAME:EDT
DTSTART:20240310T070000
END:DAYLIGHT
BEGIN:STANDARD
TZOFFSETFROM:-0400
TZOFFSETTO:-0500
TZNAME:EST
DTSTART:20241103T060000
END:STANDARD
BEGIN:DAYLIGHT
TZOFFSETFROM:-0500
TZOFFSETTO:-0400
TZNAME:EDT
DTSTART:20250309T070000
END:DAYLIGHT
BEGIN:STANDARD
TZOFFSETFROM:-0400
TZOFFSETTO:-0500
TZNAME:EST
DTSTART:20251102T060000
END:STANDARD
END:VTIMEZONE
BEGIN:VEVENT
DTSTART;TZID=America/New_York:20240102T090000
DTEND;TZID=America/New_York:20240102T160000
DTSTAMP:20260421T234414
CREATED:20221108T140311Z
LAST-MODIFIED:20250927T134100Z
UID:10006937-1704186000-1704211200@unityofsarasota.org
SUMMARY:Colleen Cassidy Painting Class
DESCRIPTION:Colleen Cassidy teaches an open class to people interested in watercolor painting. She had her own art school in Sarasota for the past 25 years and is a graduate of Ringling School of Art. \nPrice is $30 per class. Tuesday and Thursday  9:00am – 4:00pm. Rooms A & B at Unity of Sarasota. \nArt Class \n 
URL:https://unityofsarasota.org/event/colleen-cassidy-painting-class-2/2024-01-02/
LOCATION:Unity of Sarasota\, 3023 Proctor Road\, Sarasota\, FL\, 34231\, United States\, Unity of Sarasota\, 3023 Proctor Road\, Sarasota\, FL\, 34231\, United States
CATEGORIES:Class,On-Going Classes
END:VEVENT
BEGIN:VEVENT
DTSTART;TZID=America/New_York:20240104T090000
DTEND;TZID=America/New_York:20240104T160000
DTSTAMP:20260421T234414
CREATED:20221108T140311Z
LAST-MODIFIED:20250927T134100Z
UID:10006938-1704358800-1704384000@unityofsarasota.org
SUMMARY:Colleen Cassidy Painting Class
DESCRIPTION:Colleen Cassidy teaches an open class to people interested in watercolor painting. She had her own art school in Sarasota for the past 25 years and is a graduate of Ringling School of Art. \nPrice is $30 per class. Tuesday and Thursday  9:00am – 4:00pm. Rooms A & B at Unity of Sarasota. \nArt Class \n 
URL:https://unityofsarasota.org/event/colleen-cassidy-painting-class-2/2024-01-04/
LOCATION:Unity of Sarasota\, 3023 Proctor Road\, Sarasota\, FL\, 34231\, United States\, Unity of Sarasota\, 3023 Proctor Road\, Sarasota\, FL\, 34231\, United States
CATEGORIES:Class,On-Going Classes
END:VEVENT
BEGIN:VEVENT
DTSTART;TZID=America/New_York:20240109T090000
DTEND;TZID=America/New_York:20240109T160000
DTSTAMP:20260421T234414
CREATED:20221108T140311Z
LAST-MODIFIED:20250927T134100Z
UID:10006939-1704790800-1704816000@unityofsarasota.org
SUMMARY:Colleen Cassidy Painting Class
DESCRIPTION:Colleen Cassidy teaches an open class to people interested in watercolor painting. She had her own art school in Sarasota for the past 25 years and is a graduate of Ringling School of Art. \nPrice is $30 per class. Tuesday and Thursday  9:00am – 4:00pm. Rooms A & B at Unity of Sarasota. \nArt Class \n 
URL:https://unityofsarasota.org/event/colleen-cassidy-painting-class-2/2024-01-09/
LOCATION:Unity of Sarasota\, 3023 Proctor Road\, Sarasota\, FL\, 34231\, United States\, Unity of Sarasota\, 3023 Proctor Road\, Sarasota\, FL\, 34231\, United States
CATEGORIES:Class,On-Going Classes
END:VEVENT
BEGIN:VEVENT
DTSTART;TZID=America/New_York:20240110T183000
DTEND;TZID=America/New_York:20240110T203000
DTSTAMP:20260421T234414
CREATED:20231221T195345Z
LAST-MODIFIED:20231221T195345Z
UID:10013941-1704911400-1704918600@unityofsarasota.org
SUMMARY:VISION BOARD WORKSHOP
DESCRIPTION:NEW YEAR\, NEW VISION\nVISION BOARD WORKSHOP \nWednesday\, January 10\n6:30 – 8:30 PM \nIdentify your top values for 2024 \nTry guided visualization \nList first 3 actions to achieve you vision \nwww.surapsari.com/new-year-visioning \nSuggested Love Donation $15-25
URL:https://unityofsarasota.org/event/vision-board-workshop/
CATEGORIES:Class
END:VEVENT
BEGIN:VEVENT
DTSTART;TZID=America/New_York:20240111T090000
DTEND;TZID=America/New_York:20240111T160000
DTSTAMP:20260421T234414
CREATED:20221108T140311Z
LAST-MODIFIED:20250927T134100Z
UID:10006940-1704963600-1704988800@unityofsarasota.org
SUMMARY:Colleen Cassidy Painting Class
DESCRIPTION:Colleen Cassidy teaches an open class to people interested in watercolor painting. She had her own art school in Sarasota for the past 25 years and is a graduate of Ringling School of Art. \nPrice is $30 per class. Tuesday and Thursday  9:00am – 4:00pm. Rooms A & B at Unity of Sarasota. \nArt Class \n 
URL:https://unityofsarasota.org/event/colleen-cassidy-painting-class-2/2024-01-11/
LOCATION:Unity of Sarasota\, 3023 Proctor Road\, Sarasota\, FL\, 34231\, United States\, Unity of Sarasota\, 3023 Proctor Road\, Sarasota\, FL\, 34231\, United States
CATEGORIES:Class,On-Going Classes
END:VEVENT
BEGIN:VEVENT
DTSTART;TZID=America/New_York:20240116T090000
DTEND;TZID=America/New_York:20240116T160000
DTSTAMP:20260421T234414
CREATED:20221108T140311Z
LAST-MODIFIED:20250927T134100Z
UID:10006941-1705395600-1705420800@unityofsarasota.org
SUMMARY:Colleen Cassidy Painting Class
DESCRIPTION:Colleen Cassidy teaches an open class to people interested in watercolor painting. She had her own art school in Sarasota for the past 25 years and is a graduate of Ringling School of Art. \nPrice is $30 per class. Tuesday and Thursday  9:00am – 4:00pm. Rooms A & B at Unity of Sarasota. \nArt Class \n 
URL:https://unityofsarasota.org/event/colleen-cassidy-painting-class-2/2024-01-16/
LOCATION:Unity of Sarasota\, 3023 Proctor Road\, Sarasota\, FL\, 34231\, United States\, Unity of Sarasota\, 3023 Proctor Road\, Sarasota\, FL\, 34231\, United States
CATEGORIES:Class,On-Going Classes
END:VEVENT
BEGIN:VEVENT
DTSTART;TZID=America/New_York:20240118T090000
DTEND;TZID=America/New_York:20240118T160000
DTSTAMP:20260421T234414
CREATED:20221108T140311Z
LAST-MODIFIED:20250927T134100Z
UID:10006942-1705568400-1705593600@unityofsarasota.org
SUMMARY:Colleen Cassidy Painting Class
DESCRIPTION:Colleen Cassidy teaches an open class to people interested in watercolor painting. She had her own art school in Sarasota for the past 25 years and is a graduate of Ringling School of Art. \nPrice is $30 per class. Tuesday and Thursday  9:00am – 4:00pm. Rooms A & B at Unity of Sarasota. \nArt Class \n 
URL:https://unityofsarasota.org/event/colleen-cassidy-painting-class-2/2024-01-18/
LOCATION:Unity of Sarasota\, 3023 Proctor Road\, Sarasota\, FL\, 34231\, United States\, Unity of Sarasota\, 3023 Proctor Road\, Sarasota\, FL\, 34231\, United States
CATEGORIES:Class,On-Going Classes
END:VEVENT
BEGIN:VEVENT
DTSTART;TZID=America/New_York:20240120T083000
DTEND;TZID=America/New_York:20240120T170000
DTSTAMP:20260421T234414
CREATED:20231219T153720Z
LAST-MODIFIED:20231219T153720Z
UID:10013939-1705739400-1705770000@unityofsarasota.org
SUMMARY:Start Living Your Heart’s Desire in 2024 Retreat
DESCRIPTION:Sat. 1/20 ~ 8:30 a.m. – 5 p.m. \nCost: $90 \n\nCacao Ceremony\nIntention & Manifestation\nVision Board\nSoundbath\n\nFor More Information or to Register\, Please Contact: \nSally Sammons- 571-226-7837 \nDebbie Grovum – Debbie@ageinsta.com
URL:https://unityofsarasota.org/event/start-living-your-hearts-desire-in-2024-retreat/
CATEGORIES:Class
END:VEVENT
BEGIN:VEVENT
DTSTART;TZID=America/New_York:20240123T090000
DTEND;TZID=America/New_York:20240123T160000
DTSTAMP:20260421T234414
CREATED:20221108T140311Z
LAST-MODIFIED:20250927T134100Z
UID:10006943-1706000400-1706025600@unityofsarasota.org
SUMMARY:Colleen Cassidy Painting Class
DESCRIPTION:Colleen Cassidy teaches an open class to people interested in watercolor painting. She had her own art school in Sarasota for the past 25 years and is a graduate of Ringling School of Art. \nPrice is $30 per class. Tuesday and Thursday  9:00am – 4:00pm. Rooms A & B at Unity of Sarasota. \nArt Class \n 
URL:https://unityofsarasota.org/event/colleen-cassidy-painting-class-2/2024-01-23/
LOCATION:Unity of Sarasota\, 3023 Proctor Road\, Sarasota\, FL\, 34231\, United States\, Unity of Sarasota\, 3023 Proctor Road\, Sarasota\, FL\, 34231\, United States
CATEGORIES:Class,On-Going Classes
END:VEVENT
BEGIN:VEVENT
DTSTART;TZID=America/New_York:20240125T090000
DTEND;TZID=America/New_York:20240125T160000
DTSTAMP:20260421T234414
CREATED:20221108T140311Z
LAST-MODIFIED:20250927T134100Z
UID:10006944-1706173200-1706198400@unityofsarasota.org
SUMMARY:Colleen Cassidy Painting Class
DESCRIPTION:Colleen Cassidy teaches an open class to people interested in watercolor painting. She had her own art school in Sarasota for the past 25 years and is a graduate of Ringling School of Art. \nPrice is $30 per class. Tuesday and Thursday  9:00am – 4:00pm. Rooms A & B at Unity of Sarasota. \nArt Class \n 
URL:https://unityofsarasota.org/event/colleen-cassidy-painting-class-2/2024-01-25/
LOCATION:Unity of Sarasota\, 3023 Proctor Road\, Sarasota\, FL\, 34231\, United States\, Unity of Sarasota\, 3023 Proctor Road\, Sarasota\, FL\, 34231\, United States
CATEGORIES:Class,On-Going Classes
END:VEVENT
BEGIN:VEVENT
DTSTART;TZID=America/New_York:20240130T090000
DTEND;TZID=America/New_York:20240130T160000
DTSTAMP:20260421T234414
CREATED:20221108T140311Z
LAST-MODIFIED:20250927T134100Z
UID:10006945-1706605200-1706630400@unityofsarasota.org
SUMMARY:Colleen Cassidy Painting Class
DESCRIPTION:Colleen Cassidy teaches an open class to people interested in watercolor painting. She had her own art school in Sarasota for the past 25 years and is a graduate of Ringling School of Art. \nPrice is $30 per class. Tuesday and Thursday  9:00am – 4:00pm. Rooms A & B at Unity of Sarasota. \nArt Class \n 
URL:https://unityofsarasota.org/event/colleen-cassidy-painting-class-2/2024-01-30/
LOCATION:Unity of Sarasota\, 3023 Proctor Road\, Sarasota\, FL\, 34231\, United States\, Unity of Sarasota\, 3023 Proctor Road\, Sarasota\, FL\, 34231\, United States
CATEGORIES:Class,On-Going Classes
END:VEVENT
END:VCALENDAR