BEGIN:VCALENDAR
VERSION:2.0
PRODID:-//Unity of Sarasota - ECPv6.15.17.1//NONSGML v1.0//EN
CALSCALE:GREGORIAN
METHOD:PUBLISH
X-WR-CALNAME:Unity of Sarasota
X-ORIGINAL-URL:https://unityofsarasota.org
X-WR-CALDESC:Events for Unity of Sarasota
REFRESH-INTERVAL;VALUE=DURATION:PT1H
X-Robots-Tag:noindex
X-PUBLISHED-TTL:PT1H
BEGIN:VTIMEZONE
TZID:America/New_York
BEGIN:DAYLIGHT
TZOFFSETFROM:-0500
TZOFFSETTO:-0400
TZNAME:EDT
DTSTART:20230312T070000
END:DAYLIGHT
BEGIN:STANDARD
TZOFFSETFROM:-0400
TZOFFSETTO:-0500
TZNAME:EST
DTSTART:20231105T060000
END:STANDARD
BEGIN:DAYLIGHT
TZOFFSETFROM:-0500
TZOFFSETTO:-0400
TZNAME:EDT
DTSTART:20240310T070000
END:DAYLIGHT
BEGIN:STANDARD
TZOFFSETFROM:-0400
TZOFFSETTO:-0500
TZNAME:EST
DTSTART:20241103T060000
END:STANDARD
BEGIN:DAYLIGHT
TZOFFSETFROM:-0500
TZOFFSETTO:-0400
TZNAME:EDT
DTSTART:20250309T070000
END:DAYLIGHT
BEGIN:STANDARD
TZOFFSETFROM:-0400
TZOFFSETTO:-0500
TZNAME:EST
DTSTART:20251102T060000
END:STANDARD
END:VTIMEZONE
BEGIN:VEVENT
DTSTART;TZID=America/New_York:20240301T090000
DTEND;TZID=America/New_York:20240301T160000
DTSTAMP:20260421T075632
CREATED:20240129T153014Z
LAST-MODIFIED:20250927T133826Z
UID:10014014-1709283600-1709308800@unityofsarasota.org
SUMMARY:Colleen Cassidy Art Class
DESCRIPTION:Colleen Cassidy teaches an open class to people interested in art. She had her own art school in Sarasota for the past 25 years and is a graduate of Ringling School of Art. \nPrice is $30 per class. Friday  9:00am – 4:00pm. Rooms A & B at Unity of Sarasota.
URL:https://unityofsarasota.org/event/colleen-cassidy-art-class-3/2024-03-01/
CATEGORIES:Class
ATTACH;FMTTYPE=image/png:https://unityofsarasota.org/wp-content/uploads/2024/01/Screen-Shot-2024-01-29-at-10.29.19-AM.png
END:VEVENT
BEGIN:VEVENT
DTSTART;TZID=America/New_York:20240305T090000
DTEND;TZID=America/New_York:20240305T160000
DTSTAMP:20260421T075632
CREATED:20221108T140311Z
LAST-MODIFIED:20250927T134100Z
UID:10006955-1709629200-1709654400@unityofsarasota.org
SUMMARY:Colleen Cassidy Painting Class
DESCRIPTION:Colleen Cassidy teaches an open class to people interested in watercolor painting. She had her own art school in Sarasota for the past 25 years and is a graduate of Ringling School of Art. \nPrice is $30 per class. Tuesday and Thursday  9:00am – 4:00pm. Rooms A & B at Unity of Sarasota. \nArt Class \n 
URL:https://unityofsarasota.org/event/colleen-cassidy-painting-class-2/2024-03-05/
LOCATION:Unity of Sarasota\, 3023 Proctor Road\, Sarasota\, FL\, 34231\, United States\, Unity of Sarasota\, 3023 Proctor Road\, Sarasota\, FL\, 34231\, United States
CATEGORIES:Class,On-Going Classes
END:VEVENT
BEGIN:VEVENT
DTSTART;TZID=America/New_York:20240307T090000
DTEND;TZID=America/New_York:20240307T160000
DTSTAMP:20260421T075632
CREATED:20221108T140311Z
LAST-MODIFIED:20250927T134100Z
UID:10006956-1709802000-1709827200@unityofsarasota.org
SUMMARY:Colleen Cassidy Painting Class
DESCRIPTION:Colleen Cassidy teaches an open class to people interested in watercolor painting. She had her own art school in Sarasota for the past 25 years and is a graduate of Ringling School of Art. \nPrice is $30 per class. Tuesday and Thursday  9:00am – 4:00pm. Rooms A & B at Unity of Sarasota. \nArt Class \n 
URL:https://unityofsarasota.org/event/colleen-cassidy-painting-class-2/2024-03-07/
LOCATION:Unity of Sarasota\, 3023 Proctor Road\, Sarasota\, FL\, 34231\, United States\, Unity of Sarasota\, 3023 Proctor Road\, Sarasota\, FL\, 34231\, United States
CATEGORIES:Class,On-Going Classes
END:VEVENT
BEGIN:VEVENT
DTSTART;TZID=America/New_York:20240308T090000
DTEND;TZID=America/New_York:20240308T160000
DTSTAMP:20260421T075632
CREATED:20240129T153014Z
LAST-MODIFIED:20250927T133826Z
UID:10014015-1709888400-1709913600@unityofsarasota.org
SUMMARY:Colleen Cassidy Art Class
DESCRIPTION:Colleen Cassidy teaches an open class to people interested in art. She had her own art school in Sarasota for the past 25 years and is a graduate of Ringling School of Art. \nPrice is $30 per class. Friday  9:00am – 4:00pm. Rooms A & B at Unity of Sarasota.
URL:https://unityofsarasota.org/event/colleen-cassidy-art-class-3/2024-03-08/
CATEGORIES:Class
ATTACH;FMTTYPE=image/png:https://unityofsarasota.org/wp-content/uploads/2024/01/Screen-Shot-2024-01-29-at-10.29.19-AM.png
END:VEVENT
BEGIN:VEVENT
DTSTART;TZID=America/New_York:20240312T090000
DTEND;TZID=America/New_York:20240312T160000
DTSTAMP:20260421T075632
CREATED:20221108T140311Z
LAST-MODIFIED:20250927T134100Z
UID:10006957-1710234000-1710259200@unityofsarasota.org
SUMMARY:Colleen Cassidy Painting Class
DESCRIPTION:Colleen Cassidy teaches an open class to people interested in watercolor painting. She had her own art school in Sarasota for the past 25 years and is a graduate of Ringling School of Art. \nPrice is $30 per class. Tuesday and Thursday  9:00am – 4:00pm. Rooms A & B at Unity of Sarasota. \nArt Class \n 
URL:https://unityofsarasota.org/event/colleen-cassidy-painting-class-2/2024-03-12/
LOCATION:Unity of Sarasota\, 3023 Proctor Road\, Sarasota\, FL\, 34231\, United States\, Unity of Sarasota\, 3023 Proctor Road\, Sarasota\, FL\, 34231\, United States
CATEGORIES:Class,On-Going Classes
END:VEVENT
BEGIN:VEVENT
DTSTART;TZID=America/New_York:20240313T190000
DTEND;TZID=America/New_York:20240313T210000
DTSTAMP:20260421T075632
CREATED:20240216T023710Z
LAST-MODIFIED:20250927T133821Z
UID:10014539-1710356400-1710363600@unityofsarasota.org
SUMMARY:Uncover challenging stories to write our Truth in partnership with another. - Rev. Robin White
DESCRIPTION:Uncover challenging stories to write our Truth in partnership with another. \nFive Wednesday Evenings from 3/13 through 4/10  \n$150 for the series \n7-9 PM
URL:https://unityofsarasota.org/event/uncover-challenging-stories-to-write-our-truth-in-partnership-with-another-rev-robin-white/2024-03-13/
CATEGORIES:Class
END:VEVENT
BEGIN:VEVENT
DTSTART;TZID=America/New_York:20240314T090000
DTEND;TZID=America/New_York:20240314T160000
DTSTAMP:20260421T075632
CREATED:20221108T140311Z
LAST-MODIFIED:20250927T134100Z
UID:10006958-1710406800-1710432000@unityofsarasota.org
SUMMARY:Colleen Cassidy Painting Class
DESCRIPTION:Colleen Cassidy teaches an open class to people interested in watercolor painting. She had her own art school in Sarasota for the past 25 years and is a graduate of Ringling School of Art. \nPrice is $30 per class. Tuesday and Thursday  9:00am – 4:00pm. Rooms A & B at Unity of Sarasota. \nArt Class \n 
URL:https://unityofsarasota.org/event/colleen-cassidy-painting-class-2/2024-03-14/
LOCATION:Unity of Sarasota\, 3023 Proctor Road\, Sarasota\, FL\, 34231\, United States\, Unity of Sarasota\, 3023 Proctor Road\, Sarasota\, FL\, 34231\, United States
CATEGORIES:Class,On-Going Classes
END:VEVENT
BEGIN:VEVENT
DTSTART;TZID=America/New_York:20240315T090000
DTEND;TZID=America/New_York:20240315T160000
DTSTAMP:20260421T075632
CREATED:20240129T153014Z
LAST-MODIFIED:20250927T133826Z
UID:10014016-1710493200-1710518400@unityofsarasota.org
SUMMARY:Colleen Cassidy Art Class
DESCRIPTION:Colleen Cassidy teaches an open class to people interested in art. She had her own art school in Sarasota for the past 25 years and is a graduate of Ringling School of Art. \nPrice is $30 per class. Friday  9:00am – 4:00pm. Rooms A & B at Unity of Sarasota.
URL:https://unityofsarasota.org/event/colleen-cassidy-art-class-3/2024-03-15/
CATEGORIES:Class
ATTACH;FMTTYPE=image/png:https://unityofsarasota.org/wp-content/uploads/2024/01/Screen-Shot-2024-01-29-at-10.29.19-AM.png
END:VEVENT
BEGIN:VEVENT
DTSTART;TZID=America/New_York:20240319T090000
DTEND;TZID=America/New_York:20240319T160000
DTSTAMP:20260421T075632
CREATED:20221108T140311Z
LAST-MODIFIED:20250927T134100Z
UID:10006959-1710838800-1710864000@unityofsarasota.org
SUMMARY:Colleen Cassidy Painting Class
DESCRIPTION:Colleen Cassidy teaches an open class to people interested in watercolor painting. She had her own art school in Sarasota for the past 25 years and is a graduate of Ringling School of Art. \nPrice is $30 per class. Tuesday and Thursday  9:00am – 4:00pm. Rooms A & B at Unity of Sarasota. \nArt Class \n 
URL:https://unityofsarasota.org/event/colleen-cassidy-painting-class-2/2024-03-19/
LOCATION:Unity of Sarasota\, 3023 Proctor Road\, Sarasota\, FL\, 34231\, United States\, Unity of Sarasota\, 3023 Proctor Road\, Sarasota\, FL\, 34231\, United States
CATEGORIES:Class,On-Going Classes
END:VEVENT
BEGIN:VEVENT
DTSTART;TZID=America/New_York:20240320T080000
DTEND;TZID=America/New_York:20240320T170000
DTSTAMP:20260421T075632
CREATED:20240313T140839Z
LAST-MODIFIED:20250927T133819Z
UID:10015047-1710921600-1710954000@unityofsarasota.org
SUMMARY:No Chair Yoga with Drew Kindred
DESCRIPTION:Drew Kindred \n 
URL:https://unityofsarasota.org/event/no-chair-yoga-with-drew-kindred/2024-03-20/1/
CATEGORIES:Class
END:VEVENT
BEGIN:VEVENT
DTSTART;TZID=America/New_York:20240320T110000
DTEND;TZID=America/New_York:20240320T120000
DTSTAMP:20260421T075632
CREATED:20240313T140839Z
LAST-MODIFIED:20250927T133819Z
UID:10014608-1710932400-1710936000@unityofsarasota.org
SUMMARY:No Chair Yoga with Drew Kindred
DESCRIPTION:Drew Kindred \n 
URL:https://unityofsarasota.org/event/no-chair-yoga-with-drew-kindred/2024-03-20/2/
CATEGORIES:Class
END:VEVENT
BEGIN:VEVENT
DTSTART;TZID=America/New_York:20240320T190000
DTEND;TZID=America/New_York:20240320T210000
DTSTAMP:20260421T075632
CREATED:20240216T023710Z
LAST-MODIFIED:20250927T133821Z
UID:10014540-1710961200-1710968400@unityofsarasota.org
SUMMARY:Uncover challenging stories to write our Truth in partnership with another. - Rev. Robin White
DESCRIPTION:Uncover challenging stories to write our Truth in partnership with another. \nFive Wednesday Evenings from 3/13 through 4/10  \n$150 for the series \n7-9 PM
URL:https://unityofsarasota.org/event/uncover-challenging-stories-to-write-our-truth-in-partnership-with-another-rev-robin-white/2024-03-20/
CATEGORIES:Class
END:VEVENT
BEGIN:VEVENT
DTSTART;TZID=America/New_York:20240321T090000
DTEND;TZID=America/New_York:20240321T160000
DTSTAMP:20260421T075632
CREATED:20221108T140311Z
LAST-MODIFIED:20250927T134100Z
UID:10006960-1711011600-1711036800@unityofsarasota.org
SUMMARY:Colleen Cassidy Painting Class
DESCRIPTION:Colleen Cassidy teaches an open class to people interested in watercolor painting. She had her own art school in Sarasota for the past 25 years and is a graduate of Ringling School of Art. \nPrice is $30 per class. Tuesday and Thursday  9:00am – 4:00pm. Rooms A & B at Unity of Sarasota. \nArt Class \n 
URL:https://unityofsarasota.org/event/colleen-cassidy-painting-class-2/2024-03-21/
LOCATION:Unity of Sarasota\, 3023 Proctor Road\, Sarasota\, FL\, 34231\, United States\, Unity of Sarasota\, 3023 Proctor Road\, Sarasota\, FL\, 34231\, United States
CATEGORIES:Class,On-Going Classes
END:VEVENT
BEGIN:VEVENT
DTSTART;TZID=America/New_York:20240322T090000
DTEND;TZID=America/New_York:20240322T160000
DTSTAMP:20260421T075632
CREATED:20240129T153014Z
LAST-MODIFIED:20250927T133826Z
UID:10014017-1711098000-1711123200@unityofsarasota.org
SUMMARY:Colleen Cassidy Art Class
DESCRIPTION:Colleen Cassidy teaches an open class to people interested in art. She had her own art school in Sarasota for the past 25 years and is a graduate of Ringling School of Art. \nPrice is $30 per class. Friday  9:00am – 4:00pm. Rooms A & B at Unity of Sarasota.
URL:https://unityofsarasota.org/event/colleen-cassidy-art-class-3/2024-03-22/
CATEGORIES:Class
ATTACH;FMTTYPE=image/png:https://unityofsarasota.org/wp-content/uploads/2024/01/Screen-Shot-2024-01-29-at-10.29.19-AM.png
END:VEVENT
BEGIN:VEVENT
DTSTART;TZID=America/New_York:20240326T090000
DTEND;TZID=America/New_York:20240326T160000
DTSTAMP:20260421T075632
CREATED:20221108T140311Z
LAST-MODIFIED:20250927T134100Z
UID:10006961-1711443600-1711468800@unityofsarasota.org
SUMMARY:Colleen Cassidy Painting Class
DESCRIPTION:Colleen Cassidy teaches an open class to people interested in watercolor painting. She had her own art school in Sarasota for the past 25 years and is a graduate of Ringling School of Art. \nPrice is $30 per class. Tuesday and Thursday  9:00am – 4:00pm. Rooms A & B at Unity of Sarasota. \nArt Class \n 
URL:https://unityofsarasota.org/event/colleen-cassidy-painting-class-2/2024-03-26/
LOCATION:Unity of Sarasota\, 3023 Proctor Road\, Sarasota\, FL\, 34231\, United States\, Unity of Sarasota\, 3023 Proctor Road\, Sarasota\, FL\, 34231\, United States
CATEGORIES:Class,On-Going Classes
END:VEVENT
BEGIN:VEVENT
DTSTART;TZID=America/New_York:20240327T190000
DTEND;TZID=America/New_York:20240327T210000
DTSTAMP:20260421T075632
CREATED:20240216T023710Z
LAST-MODIFIED:20250927T133821Z
UID:10014541-1711566000-1711573200@unityofsarasota.org
SUMMARY:Uncover challenging stories to write our Truth in partnership with another. - Rev. Robin White
DESCRIPTION:Uncover challenging stories to write our Truth in partnership with another. \nFive Wednesday Evenings from 3/13 through 4/10  \n$150 for the series \n7-9 PM
URL:https://unityofsarasota.org/event/uncover-challenging-stories-to-write-our-truth-in-partnership-with-another-rev-robin-white/2024-03-27/
CATEGORIES:Class
END:VEVENT
BEGIN:VEVENT
DTSTART;TZID=America/New_York:20240328T090000
DTEND;TZID=America/New_York:20240328T160000
DTSTAMP:20260421T075632
CREATED:20221108T140311Z
LAST-MODIFIED:20250927T134100Z
UID:10006962-1711616400-1711641600@unityofsarasota.org
SUMMARY:Colleen Cassidy Painting Class
DESCRIPTION:Colleen Cassidy teaches an open class to people interested in watercolor painting. She had her own art school in Sarasota for the past 25 years and is a graduate of Ringling School of Art. \nPrice is $30 per class. Tuesday and Thursday  9:00am – 4:00pm. Rooms A & B at Unity of Sarasota. \nArt Class \n 
URL:https://unityofsarasota.org/event/colleen-cassidy-painting-class-2/2024-03-28/
LOCATION:Unity of Sarasota\, 3023 Proctor Road\, Sarasota\, FL\, 34231\, United States\, Unity of Sarasota\, 3023 Proctor Road\, Sarasota\, FL\, 34231\, United States
CATEGORIES:Class,On-Going Classes
END:VEVENT
BEGIN:VEVENT
DTSTART;TZID=America/New_York:20240329T090000
DTEND;TZID=America/New_York:20240329T160000
DTSTAMP:20260421T075632
CREATED:20240129T153014Z
LAST-MODIFIED:20250927T133826Z
UID:10014018-1711702800-1711728000@unityofsarasota.org
SUMMARY:Colleen Cassidy Art Class
DESCRIPTION:Colleen Cassidy teaches an open class to people interested in art. She had her own art school in Sarasota for the past 25 years and is a graduate of Ringling School of Art. \nPrice is $30 per class. Friday  9:00am – 4:00pm. Rooms A & B at Unity of Sarasota.
URL:https://unityofsarasota.org/event/colleen-cassidy-art-class-3/2024-03-29/
CATEGORIES:Class
ATTACH;FMTTYPE=image/png:https://unityofsarasota.org/wp-content/uploads/2024/01/Screen-Shot-2024-01-29-at-10.29.19-AM.png
END:VEVENT
END:VCALENDAR