BEGIN:VCALENDAR
VERSION:2.0
PRODID:-//Unity of Sarasota - ECPv6.15.17.1//NONSGML v1.0//EN
CALSCALE:GREGORIAN
METHOD:PUBLISH
X-WR-CALNAME:Unity of Sarasota
X-ORIGINAL-URL:https://unityofsarasota.org
X-WR-CALDESC:Events for Unity of Sarasota
REFRESH-INTERVAL;VALUE=DURATION:PT1H
X-Robots-Tag:noindex
X-PUBLISHED-TTL:PT1H
BEGIN:VTIMEZONE
TZID:America/New_York
BEGIN:DAYLIGHT
TZOFFSETFROM:-0500
TZOFFSETTO:-0400
TZNAME:EDT
DTSTART:20230312T070000
END:DAYLIGHT
BEGIN:STANDARD
TZOFFSETFROM:-0400
TZOFFSETTO:-0500
TZNAME:EST
DTSTART:20231105T060000
END:STANDARD
BEGIN:DAYLIGHT
TZOFFSETFROM:-0500
TZOFFSETTO:-0400
TZNAME:EDT
DTSTART:20240310T070000
END:DAYLIGHT
BEGIN:STANDARD
TZOFFSETFROM:-0400
TZOFFSETTO:-0500
TZNAME:EST
DTSTART:20241103T060000
END:STANDARD
BEGIN:DAYLIGHT
TZOFFSETFROM:-0500
TZOFFSETTO:-0400
TZNAME:EDT
DTSTART:20250309T070000
END:DAYLIGHT
BEGIN:STANDARD
TZOFFSETFROM:-0400
TZOFFSETTO:-0500
TZNAME:EST
DTSTART:20251102T060000
END:STANDARD
END:VTIMEZONE
BEGIN:VEVENT
DTSTART;TZID=America/New_York:20240402T090000
DTEND;TZID=America/New_York:20240402T160000
DTSTAMP:20260419T201640
CREATED:20221108T140311Z
LAST-MODIFIED:20250927T134100Z
UID:10006963-1712048400-1712073600@unityofsarasota.org
SUMMARY:Colleen Cassidy Painting Class
DESCRIPTION:Colleen Cassidy teaches an open class to people interested in watercolor painting. She had her own art school in Sarasota for the past 25 years and is a graduate of Ringling School of Art. \nPrice is $30 per class. Tuesday and Thursday  9:00am – 4:00pm. Rooms A & B at Unity of Sarasota. \nArt Class \n 
URL:https://unityofsarasota.org/event/colleen-cassidy-painting-class-2/2024-04-02/
LOCATION:Unity of Sarasota\, 3023 Proctor Road\, Sarasota\, FL\, 34231\, United States\, Unity of Sarasota\, 3023 Proctor Road\, Sarasota\, FL\, 34231\, United States
CATEGORIES:Class,On-Going Classes
END:VEVENT
BEGIN:VEVENT
DTSTART;TZID=America/New_York:20240402T140000
DTEND;TZID=America/New_York:20240402T153000
DTSTAMP:20260419T201640
CREATED:20240318T210850Z
LAST-MODIFIED:20250927T133814Z
UID:10015007-1712066400-1712071800@unityofsarasota.org
SUMMARY:Mindful Eating
DESCRIPTION:Join us for this special opportunity to practice mindful eating. \n\nSimple guidelines for mindful eating.\nStrategies for eating and living your best life.\nTake back control by shedding old habits\, belief’s and pounds\n\n4-class series every other Tuesday \n4/2\, 4/17\, 4/30\, 5/14 \n2:00pm-3:30pm $20 per class \nRegister to secure your seat 941-955-3301 \nFacilitator MicheleD’Ambrosio B.S psychology\, licensed reverend Life coach..
URL:https://unityofsarasota.org/event/mindful-eating-3/2024-04-02/
CATEGORIES:Class
END:VEVENT
BEGIN:VEVENT
DTSTART;TZID=America/New_York:20240403T140000
DTEND;TZID=America/New_York:20240403T160000
DTSTAMP:20260419T201640
CREATED:20240313T145547Z
LAST-MODIFIED:20250927T133816Z
UID:10014947-1712152800-1712160000@unityofsarasota.org
SUMMARY:Maintaining Brain Health Free Seminar
DESCRIPTION:Maintaining Brain Health Free Seminar with Dr. Carol Roberts \nFree Monthly Seminar on first Weds.
URL:https://unityofsarasota.org/event/maintaining-brain-health-free-seminar-4/
CATEGORIES:Class
END:VEVENT
BEGIN:VEVENT
DTSTART;TZID=America/New_York:20240403T190000
DTEND;TZID=America/New_York:20240403T210000
DTSTAMP:20260419T201640
CREATED:20240216T023710Z
LAST-MODIFIED:20250927T133821Z
UID:10014604-1712170800-1712178000@unityofsarasota.org
SUMMARY:Uncover challenging stories to write our Truth in partnership with another. - Rev. Robin White
DESCRIPTION:Uncover challenging stories to write our Truth in partnership with another. \nFive Wednesday Evenings from 3/13 through 4/10  \n$150 for the series \n7-9 PM
URL:https://unityofsarasota.org/event/uncover-challenging-stories-to-write-our-truth-in-partnership-with-another-rev-robin-white/2024-04-03/
CATEGORIES:Class
END:VEVENT
BEGIN:VEVENT
DTSTART;TZID=America/New_York:20240404T090000
DTEND;TZID=America/New_York:20240404T160000
DTSTAMP:20260419T201640
CREATED:20221108T140311Z
LAST-MODIFIED:20250927T134100Z
UID:10006964-1712221200-1712246400@unityofsarasota.org
SUMMARY:Colleen Cassidy Painting Class
DESCRIPTION:Colleen Cassidy teaches an open class to people interested in watercolor painting. She had her own art school in Sarasota for the past 25 years and is a graduate of Ringling School of Art. \nPrice is $30 per class. Tuesday and Thursday  9:00am – 4:00pm. Rooms A & B at Unity of Sarasota. \nArt Class \n 
URL:https://unityofsarasota.org/event/colleen-cassidy-painting-class-2/2024-04-04/
LOCATION:Unity of Sarasota\, 3023 Proctor Road\, Sarasota\, FL\, 34231\, United States\, Unity of Sarasota\, 3023 Proctor Road\, Sarasota\, FL\, 34231\, United States
CATEGORIES:Class,On-Going Classes
END:VEVENT
BEGIN:VEVENT
DTSTART;TZID=America/New_York:20240405T090000
DTEND;TZID=America/New_York:20240405T160000
DTSTAMP:20260419T201640
CREATED:20240129T153014Z
LAST-MODIFIED:20250927T133826Z
UID:10014019-1712307600-1712332800@unityofsarasota.org
SUMMARY:Colleen Cassidy Art Class
DESCRIPTION:Colleen Cassidy teaches an open class to people interested in art. She had her own art school in Sarasota for the past 25 years and is a graduate of Ringling School of Art. \nPrice is $30 per class. Friday  9:00am – 4:00pm. Rooms A & B at Unity of Sarasota.
URL:https://unityofsarasota.org/event/colleen-cassidy-art-class-3/2024-04-05/
CATEGORIES:Class
ATTACH;FMTTYPE=image/png:https://unityofsarasota.org/wp-content/uploads/2024/01/Screen-Shot-2024-01-29-at-10.29.19-AM.png
END:VEVENT
BEGIN:VEVENT
DTSTART;TZID=America/New_York:20240409T090000
DTEND;TZID=America/New_York:20240409T160000
DTSTAMP:20260419T201640
CREATED:20221108T140311Z
LAST-MODIFIED:20250927T134100Z
UID:10006965-1712653200-1712678400@unityofsarasota.org
SUMMARY:Colleen Cassidy Painting Class
DESCRIPTION:Colleen Cassidy teaches an open class to people interested in watercolor painting. She had her own art school in Sarasota for the past 25 years and is a graduate of Ringling School of Art. \nPrice is $30 per class. Tuesday and Thursday  9:00am – 4:00pm. Rooms A & B at Unity of Sarasota. \nArt Class \n 
URL:https://unityofsarasota.org/event/colleen-cassidy-painting-class-2/2024-04-09/
LOCATION:Unity of Sarasota\, 3023 Proctor Road\, Sarasota\, FL\, 34231\, United States\, Unity of Sarasota\, 3023 Proctor Road\, Sarasota\, FL\, 34231\, United States
CATEGORIES:Class,On-Going Classes
END:VEVENT
BEGIN:VEVENT
DTSTART;TZID=America/New_York:20240410T190000
DTEND;TZID=America/New_York:20240410T210000
DTSTAMP:20260419T201640
CREATED:20240216T023710Z
LAST-MODIFIED:20250927T133821Z
UID:10014605-1712775600-1712782800@unityofsarasota.org
SUMMARY:Uncover challenging stories to write our Truth in partnership with another. - Rev. Robin White
DESCRIPTION:Uncover challenging stories to write our Truth in partnership with another. \nFive Wednesday Evenings from 3/13 through 4/10  \n$150 for the series \n7-9 PM
URL:https://unityofsarasota.org/event/uncover-challenging-stories-to-write-our-truth-in-partnership-with-another-rev-robin-white/2024-04-10/
CATEGORIES:Class
END:VEVENT
BEGIN:VEVENT
DTSTART;TZID=America/New_York:20240411T090000
DTEND;TZID=America/New_York:20240411T160000
DTSTAMP:20260419T201640
CREATED:20221108T140311Z
LAST-MODIFIED:20250927T134100Z
UID:10006966-1712826000-1712851200@unityofsarasota.org
SUMMARY:Colleen Cassidy Painting Class
DESCRIPTION:Colleen Cassidy teaches an open class to people interested in watercolor painting. She had her own art school in Sarasota for the past 25 years and is a graduate of Ringling School of Art. \nPrice is $30 per class. Tuesday and Thursday  9:00am – 4:00pm. Rooms A & B at Unity of Sarasota. \nArt Class \n 
URL:https://unityofsarasota.org/event/colleen-cassidy-painting-class-2/2024-04-11/
LOCATION:Unity of Sarasota\, 3023 Proctor Road\, Sarasota\, FL\, 34231\, United States\, Unity of Sarasota\, 3023 Proctor Road\, Sarasota\, FL\, 34231\, United States
CATEGORIES:Class,On-Going Classes
END:VEVENT
BEGIN:VEVENT
DTSTART;TZID=America/New_York:20240412T090000
DTEND;TZID=America/New_York:20240412T160000
DTSTAMP:20260419T201640
CREATED:20240129T153014Z
LAST-MODIFIED:20250927T133826Z
UID:10014020-1712912400-1712937600@unityofsarasota.org
SUMMARY:Colleen Cassidy Art Class
DESCRIPTION:Colleen Cassidy teaches an open class to people interested in art. She had her own art school in Sarasota for the past 25 years and is a graduate of Ringling School of Art. \nPrice is $30 per class. Friday  9:00am – 4:00pm. Rooms A & B at Unity of Sarasota.
URL:https://unityofsarasota.org/event/colleen-cassidy-art-class-3/2024-04-12/
CATEGORIES:Class
ATTACH;FMTTYPE=image/png:https://unityofsarasota.org/wp-content/uploads/2024/01/Screen-Shot-2024-01-29-at-10.29.19-AM.png
END:VEVENT
BEGIN:VEVENT
DTSTART;TZID=America/New_York:20240415T080000
DTEND;TZID=America/New_York:20240415T170000
DTSTAMP:20260419T201640
CREATED:20240415T174150Z
LAST-MODIFIED:20250927T133806Z
UID:10015029-1713168000-1713200400@unityofsarasota.org
SUMMARY:Live long\, Live healthy Free Seminar
DESCRIPTION:Maintaining Brain Health Free Seminar with Dr. Carol Roberts \nFree Monthly Seminar \nTo reserve your seat call 941-404-8030 or email bestmedicinefl@gmail.com
URL:https://unityofsarasota.org/event/live-long-live-healthy-free-seminar/2024-04-15/
CATEGORIES:Class
END:VEVENT
BEGIN:VEVENT
DTSTART;TZID=America/New_York:20240416T090000
DTEND;TZID=America/New_York:20240416T160000
DTSTAMP:20260419T201640
CREATED:20221108T140311Z
LAST-MODIFIED:20250927T134100Z
UID:10006967-1713258000-1713283200@unityofsarasota.org
SUMMARY:Colleen Cassidy Painting Class
DESCRIPTION:Colleen Cassidy teaches an open class to people interested in watercolor painting. She had her own art school in Sarasota for the past 25 years and is a graduate of Ringling School of Art. \nPrice is $30 per class. Tuesday and Thursday  9:00am – 4:00pm. Rooms A & B at Unity of Sarasota. \nArt Class \n 
URL:https://unityofsarasota.org/event/colleen-cassidy-painting-class-2/2024-04-16/
LOCATION:Unity of Sarasota\, 3023 Proctor Road\, Sarasota\, FL\, 34231\, United States\, Unity of Sarasota\, 3023 Proctor Road\, Sarasota\, FL\, 34231\, United States
CATEGORIES:Class,On-Going Classes
END:VEVENT
BEGIN:VEVENT
DTSTART;TZID=America/New_York:20240416T140000
DTEND;TZID=America/New_York:20240416T153000
DTSTAMP:20260419T201640
CREATED:20240318T210850Z
LAST-MODIFIED:20250927T133814Z
UID:10015011-1713276000-1713281400@unityofsarasota.org
SUMMARY:Mindful Eating
DESCRIPTION:Join us for this special opportunity to practice mindful eating. \n\nSimple guidelines for mindful eating.\nStrategies for eating and living your best life.\nTake back control by shedding old habits\, belief’s and pounds\n\n4-class series every other Tuesday \n4/2\, 4/17\, 4/30\, 5/14 \n2:00pm-3:30pm $20 per class \nRegister to secure your seat 941-955-3301 \nFacilitator MicheleD’Ambrosio B.S psychology\, licensed reverend Life coach..
URL:https://unityofsarasota.org/event/mindful-eating-3/2024-04-16/
CATEGORIES:Class
END:VEVENT
BEGIN:VEVENT
DTSTART;TZID=America/New_York:20240418T090000
DTEND;TZID=America/New_York:20240418T160000
DTSTAMP:20260419T201640
CREATED:20221108T140311Z
LAST-MODIFIED:20250927T134100Z
UID:10006968-1713430800-1713456000@unityofsarasota.org
SUMMARY:Colleen Cassidy Painting Class
DESCRIPTION:Colleen Cassidy teaches an open class to people interested in watercolor painting. She had her own art school in Sarasota for the past 25 years and is a graduate of Ringling School of Art. \nPrice is $30 per class. Tuesday and Thursday  9:00am – 4:00pm. Rooms A & B at Unity of Sarasota. \nArt Class \n 
URL:https://unityofsarasota.org/event/colleen-cassidy-painting-class-2/2024-04-18/
LOCATION:Unity of Sarasota\, 3023 Proctor Road\, Sarasota\, FL\, 34231\, United States\, Unity of Sarasota\, 3023 Proctor Road\, Sarasota\, FL\, 34231\, United States
CATEGORIES:Class,On-Going Classes
END:VEVENT
BEGIN:VEVENT
DTSTART;TZID=America/New_York:20240419T090000
DTEND;TZID=America/New_York:20240419T160000
DTSTAMP:20260419T201640
CREATED:20240129T153014Z
LAST-MODIFIED:20250927T133826Z
UID:10014021-1713517200-1713542400@unityofsarasota.org
SUMMARY:Colleen Cassidy Art Class
DESCRIPTION:Colleen Cassidy teaches an open class to people interested in art. She had her own art school in Sarasota for the past 25 years and is a graduate of Ringling School of Art. \nPrice is $30 per class. Friday  9:00am – 4:00pm. Rooms A & B at Unity of Sarasota.
URL:https://unityofsarasota.org/event/colleen-cassidy-art-class-3/2024-04-19/
CATEGORIES:Class
ATTACH;FMTTYPE=image/png:https://unityofsarasota.org/wp-content/uploads/2024/01/Screen-Shot-2024-01-29-at-10.29.19-AM.png
END:VEVENT
BEGIN:VEVENT
DTSTART;TZID=America/New_York:20240423T090000
DTEND;TZID=America/New_York:20240423T160000
DTSTAMP:20260419T201640
CREATED:20221108T140311Z
LAST-MODIFIED:20250927T134100Z
UID:10006969-1713862800-1713888000@unityofsarasota.org
SUMMARY:Colleen Cassidy Painting Class
DESCRIPTION:Colleen Cassidy teaches an open class to people interested in watercolor painting. She had her own art school in Sarasota for the past 25 years and is a graduate of Ringling School of Art. \nPrice is $30 per class. Tuesday and Thursday  9:00am – 4:00pm. Rooms A & B at Unity of Sarasota. \nArt Class \n 
URL:https://unityofsarasota.org/event/colleen-cassidy-painting-class-2/2024-04-23/
LOCATION:Unity of Sarasota\, 3023 Proctor Road\, Sarasota\, FL\, 34231\, United States\, Unity of Sarasota\, 3023 Proctor Road\, Sarasota\, FL\, 34231\, United States
CATEGORIES:Class,On-Going Classes
END:VEVENT
BEGIN:VEVENT
DTSTART;TZID=America/New_York:20240425T090000
DTEND;TZID=America/New_York:20240425T160000
DTSTAMP:20260419T201640
CREATED:20221108T140311Z
LAST-MODIFIED:20250927T134100Z
UID:10006970-1714035600-1714060800@unityofsarasota.org
SUMMARY:Colleen Cassidy Painting Class
DESCRIPTION:Colleen Cassidy teaches an open class to people interested in watercolor painting. She had her own art school in Sarasota for the past 25 years and is a graduate of Ringling School of Art. \nPrice is $30 per class. Tuesday and Thursday  9:00am – 4:00pm. Rooms A & B at Unity of Sarasota. \nArt Class \n 
URL:https://unityofsarasota.org/event/colleen-cassidy-painting-class-2/2024-04-25/
LOCATION:Unity of Sarasota\, 3023 Proctor Road\, Sarasota\, FL\, 34231\, United States\, Unity of Sarasota\, 3023 Proctor Road\, Sarasota\, FL\, 34231\, United States
CATEGORIES:Class,On-Going Classes
END:VEVENT
BEGIN:VEVENT
DTSTART;TZID=America/New_York:20240425T140000
DTEND;TZID=America/New_York:20240425T160000
DTSTAMP:20260419T201640
CREATED:20240405T030743Z
LAST-MODIFIED:20250927T133810Z
UID:10015018-1714053600-1714060800@unityofsarasota.org
SUMMARY:Unity Basics Classes with Pat Clarke\, LUT
DESCRIPTION:Unity Basics Classes with Pat Clarke\, LUT on 3 Thursdays\, 4/25\, 5/2\, 5/9 from 2-4 PM   \nBased on Ellen Debenport’s The Five Princilpes\, you will become familiar with Unity’s history & basic principles (truth teachings.) Classes are recommended for Unity of Sarasota membership. \n$20 Love Offering \n(no one turned away) \n 
URL:https://unityofsarasota.org/event/unity-basics-classes-with-pat-clarke-lut/2024-04-25/
CATEGORIES:Class
END:VEVENT
BEGIN:VEVENT
DTSTART;TZID=America/New_York:20240426T090000
DTEND;TZID=America/New_York:20240426T160000
DTSTAMP:20260419T201640
CREATED:20240129T153014Z
LAST-MODIFIED:20250927T133826Z
UID:10014022-1714122000-1714147200@unityofsarasota.org
SUMMARY:Colleen Cassidy Art Class
DESCRIPTION:Colleen Cassidy teaches an open class to people interested in art. She had her own art school in Sarasota for the past 25 years and is a graduate of Ringling School of Art. \nPrice is $30 per class. Friday  9:00am – 4:00pm. Rooms A & B at Unity of Sarasota.
URL:https://unityofsarasota.org/event/colleen-cassidy-art-class-3/2024-04-26/
CATEGORIES:Class
ATTACH;FMTTYPE=image/png:https://unityofsarasota.org/wp-content/uploads/2024/01/Screen-Shot-2024-01-29-at-10.29.19-AM.png
END:VEVENT
BEGIN:VEVENT
DTSTART;TZID=America/New_York:20240430T090000
DTEND;TZID=America/New_York:20240430T160000
DTSTAMP:20260419T201640
CREATED:20221108T140311Z
LAST-MODIFIED:20250927T134100Z
UID:10006971-1714467600-1714492800@unityofsarasota.org
SUMMARY:Colleen Cassidy Painting Class
DESCRIPTION:Colleen Cassidy teaches an open class to people interested in watercolor painting. She had her own art school in Sarasota for the past 25 years and is a graduate of Ringling School of Art. \nPrice is $30 per class. Tuesday and Thursday  9:00am – 4:00pm. Rooms A & B at Unity of Sarasota. \nArt Class \n 
URL:https://unityofsarasota.org/event/colleen-cassidy-painting-class-2/2024-04-30/
LOCATION:Unity of Sarasota\, 3023 Proctor Road\, Sarasota\, FL\, 34231\, United States\, Unity of Sarasota\, 3023 Proctor Road\, Sarasota\, FL\, 34231\, United States
CATEGORIES:Class,On-Going Classes
END:VEVENT
BEGIN:VEVENT
DTSTART;TZID=America/New_York:20240430T140000
DTEND;TZID=America/New_York:20240430T153000
DTSTAMP:20260419T201640
CREATED:20240318T210850Z
LAST-MODIFIED:20250927T133814Z
UID:10015009-1714485600-1714491000@unityofsarasota.org
SUMMARY:Mindful Eating
DESCRIPTION:Join us for this special opportunity to practice mindful eating. \n\nSimple guidelines for mindful eating.\nStrategies for eating and living your best life.\nTake back control by shedding old habits\, belief’s and pounds\n\n4-class series every other Tuesday \n4/2\, 4/17\, 4/30\, 5/14 \n2:00pm-3:30pm $20 per class \nRegister to secure your seat 941-955-3301 \nFacilitator MicheleD’Ambrosio B.S psychology\, licensed reverend Life coach..
URL:https://unityofsarasota.org/event/mindful-eating-3/2024-04-30/
CATEGORIES:Class
END:VEVENT
END:VCALENDAR