BEGIN:VCALENDAR
VERSION:2.0
PRODID:-//Unity of Sarasota - ECPv6.15.17.1//NONSGML v1.0//EN
CALSCALE:GREGORIAN
METHOD:PUBLISH
X-ORIGINAL-URL:https://unityofsarasota.org
X-WR-CALDESC:Events for Unity of Sarasota
REFRESH-INTERVAL;VALUE=DURATION:PT1H
X-Robots-Tag:noindex
X-PUBLISHED-TTL:PT1H
BEGIN:VTIMEZONE
TZID:America/New_York
BEGIN:DAYLIGHT
TZOFFSETFROM:-0500
TZOFFSETTO:-0400
TZNAME:EDT
DTSTART:20230312T070000
END:DAYLIGHT
BEGIN:STANDARD
TZOFFSETFROM:-0400
TZOFFSETTO:-0500
TZNAME:EST
DTSTART:20231105T060000
END:STANDARD
BEGIN:DAYLIGHT
TZOFFSETFROM:-0500
TZOFFSETTO:-0400
TZNAME:EDT
DTSTART:20240310T070000
END:DAYLIGHT
BEGIN:STANDARD
TZOFFSETFROM:-0400
TZOFFSETTO:-0500
TZNAME:EST
DTSTART:20241103T060000
END:STANDARD
BEGIN:DAYLIGHT
TZOFFSETFROM:-0500
TZOFFSETTO:-0400
TZNAME:EDT
DTSTART:20250309T070000
END:DAYLIGHT
BEGIN:STANDARD
TZOFFSETFROM:-0400
TZOFFSETTO:-0500
TZNAME:EST
DTSTART:20251102T060000
END:STANDARD
END:VTIMEZONE
BEGIN:VEVENT
DTSTART;TZID=America/New_York:20240604T090000
DTEND;TZID=America/New_York:20240604T160000
DTSTAMP:20260423T233747
CREATED:20221108T140311Z
LAST-MODIFIED:20250927T134100Z
UID:10006981-1717491600-1717516800@unityofsarasota.org
SUMMARY:Colleen Cassidy Painting Class
DESCRIPTION:Colleen Cassidy teaches an open class to people interested in watercolor painting. She had her own art school in Sarasota for the past 25 years and is a graduate of Ringling School of Art. \nPrice is $30 per class. Tuesday and Thursday  9:00am – 4:00pm. Rooms A & B at Unity of Sarasota. \nArt Class \n 
URL:https://unityofsarasota.org/event/colleen-cassidy-painting-class-2/2024-06-04/
LOCATION:Unity of Sarasota\, 3023 Proctor Road\, Sarasota\, FL\, 34231\, United States\, Unity of Sarasota\, 3023 Proctor Road\, Sarasota\, FL\, 34231\, United States
CATEGORIES:Class,On-Going Classes
END:VEVENT
BEGIN:VEVENT
DTSTART;TZID=America/New_York:20240606T090000
DTEND;TZID=America/New_York:20240606T160000
DTSTAMP:20260423T233747
CREATED:20221108T140311Z
LAST-MODIFIED:20250927T134100Z
UID:10006982-1717664400-1717689600@unityofsarasota.org
SUMMARY:Colleen Cassidy Painting Class
DESCRIPTION:Colleen Cassidy teaches an open class to people interested in watercolor painting. She had her own art school in Sarasota for the past 25 years and is a graduate of Ringling School of Art. \nPrice is $30 per class. Tuesday and Thursday  9:00am – 4:00pm. Rooms A & B at Unity of Sarasota. \nArt Class \n 
URL:https://unityofsarasota.org/event/colleen-cassidy-painting-class-2/2024-06-06/
LOCATION:Unity of Sarasota\, 3023 Proctor Road\, Sarasota\, FL\, 34231\, United States\, Unity of Sarasota\, 3023 Proctor Road\, Sarasota\, FL\, 34231\, United States
CATEGORIES:Class,On-Going Classes
END:VEVENT
BEGIN:VEVENT
DTSTART;TZID=America/New_York:20240606T140000
DTEND;TZID=America/New_York:20240606T153000
DTSTAMP:20260423T233747
CREATED:20240530T135243Z
LAST-MODIFIED:20240530T135243Z
UID:10015056-1717682400-1717687800@unityofsarasota.org
SUMMARY:New Moon Wisdom with Michele D’Ambrosio
DESCRIPTION:Learn about integrating mental\, physical & spiritual values\nNew Moon Wisdom & Astrology\nNatural ways of health\, wealth\, and enhancing our well-being\n\nContact the Unity Office for more information 941-955-3301 \n 
URL:https://unityofsarasota.org/event/new-moon-wisdom-with-michele-dambrosio/
LOCATION:Unity of Sarasota\, 3023 Proctor Road\, Sarasota\, FL\, 34231\, United States\, Unity of Sarasota\, 3023 Proctor Road\, Sarasota\, FL\, 34231\, United States
CATEGORIES:Class
END:VEVENT
BEGIN:VEVENT
DTSTART;TZID=America/New_York:20240607T090000
DTEND;TZID=America/New_York:20240607T160000
DTSTAMP:20260423T233747
CREATED:20240129T153014Z
LAST-MODIFIED:20250927T133826Z
UID:10014028-1717750800-1717776000@unityofsarasota.org
SUMMARY:Colleen Cassidy Art Class
DESCRIPTION:Colleen Cassidy teaches an open class to people interested in art. She had her own art school in Sarasota for the past 25 years and is a graduate of Ringling School of Art. \nPrice is $30 per class. Friday  9:00am – 4:00pm. Rooms A & B at Unity of Sarasota.
URL:https://unityofsarasota.org/event/colleen-cassidy-art-class-3/2024-06-07/
CATEGORIES:Class
ATTACH;FMTTYPE=image/png:https://unityofsarasota.org/wp-content/uploads/2024/01/Screen-Shot-2024-01-29-at-10.29.19-AM.png
END:VEVENT
BEGIN:VEVENT
DTSTART;TZID=America/New_York:20240608T093000
DTEND;TZID=America/New_York:20240608T130000
DTSTAMP:20260423T233747
CREATED:20240506T191529Z
LAST-MODIFIED:20250927T133804Z
UID:10015051-1717839000-1717851600@unityofsarasota.org
SUMMARY:The Art of Quantum Living
DESCRIPTION:Presenter: Rev. Betty Martin-Lewis \nWeaving together the latest scientific data with the wisdom of the world’s mystical traditions. \nFee: $50 to benefit Unity of Sarasota \nSponsorships now available for Rev. Betty’s class. \nDear One!  \nI am excited that you have chosen to enroll in the Quantum Living Training\, a unique adventure in self-discovery and conscious evolution. You will learn and practice tools that help you release old patterns of feelings\, beliefs\, and behavior that limit your ability to express your full potential. Using this process can free yourself from blockages\, allowing you to become more aware of who you have come here to BE\, your true\, authentic Self!   \nThese outcomes depend on your readiness to fully engage in the two half-day in-person workshops followed by 21 days of practicing the process on your own. We will check in together on zoom each of those 3 weeks in one-hour follow-up sessions. Those meetings will be scheduled during the first class to best accommodate your calendars.  \nFor more information\, contact the Unity office at 941-955-3301 \n 
URL:https://unityofsarasota.org/event/the-art-of-quantum-living-5/2024-06-08/
CATEGORIES:Class
END:VEVENT
BEGIN:VEVENT
DTSTART;TZID=America/New_York:20240611T090000
DTEND;TZID=America/New_York:20240611T160000
DTSTAMP:20260423T233747
CREATED:20221108T140311Z
LAST-MODIFIED:20250927T134100Z
UID:10006983-1718096400-1718121600@unityofsarasota.org
SUMMARY:Colleen Cassidy Painting Class
DESCRIPTION:Colleen Cassidy teaches an open class to people interested in watercolor painting. She had her own art school in Sarasota for the past 25 years and is a graduate of Ringling School of Art. \nPrice is $30 per class. Tuesday and Thursday  9:00am – 4:00pm. Rooms A & B at Unity of Sarasota. \nArt Class \n 
URL:https://unityofsarasota.org/event/colleen-cassidy-painting-class-2/2024-06-11/
LOCATION:Unity of Sarasota\, 3023 Proctor Road\, Sarasota\, FL\, 34231\, United States\, Unity of Sarasota\, 3023 Proctor Road\, Sarasota\, FL\, 34231\, United States
CATEGORIES:Class,On-Going Classes
END:VEVENT
BEGIN:VEVENT
DTSTART;TZID=America/New_York:20240613T090000
DTEND;TZID=America/New_York:20240613T160000
DTSTAMP:20260423T233747
CREATED:20221108T140311Z
LAST-MODIFIED:20250927T134100Z
UID:10006984-1718269200-1718294400@unityofsarasota.org
SUMMARY:Colleen Cassidy Painting Class
DESCRIPTION:Colleen Cassidy teaches an open class to people interested in watercolor painting. She had her own art school in Sarasota for the past 25 years and is a graduate of Ringling School of Art. \nPrice is $30 per class. Tuesday and Thursday  9:00am – 4:00pm. Rooms A & B at Unity of Sarasota. \nArt Class \n 
URL:https://unityofsarasota.org/event/colleen-cassidy-painting-class-2/2024-06-13/
LOCATION:Unity of Sarasota\, 3023 Proctor Road\, Sarasota\, FL\, 34231\, United States\, Unity of Sarasota\, 3023 Proctor Road\, Sarasota\, FL\, 34231\, United States
CATEGORIES:Class,On-Going Classes
END:VEVENT
BEGIN:VEVENT
DTSTART;TZID=America/New_York:20240614T090000
DTEND;TZID=America/New_York:20240614T160000
DTSTAMP:20260423T233747
CREATED:20240129T153014Z
LAST-MODIFIED:20250927T133826Z
UID:10014029-1718355600-1718380800@unityofsarasota.org
SUMMARY:Colleen Cassidy Art Class
DESCRIPTION:Colleen Cassidy teaches an open class to people interested in art. She had her own art school in Sarasota for the past 25 years and is a graduate of Ringling School of Art. \nPrice is $30 per class. Friday  9:00am – 4:00pm. Rooms A & B at Unity of Sarasota.
URL:https://unityofsarasota.org/event/colleen-cassidy-art-class-3/2024-06-14/
CATEGORIES:Class
ATTACH;FMTTYPE=image/png:https://unityofsarasota.org/wp-content/uploads/2024/01/Screen-Shot-2024-01-29-at-10.29.19-AM.png
END:VEVENT
BEGIN:VEVENT
DTSTART;TZID=America/New_York:20240615T093000
DTEND;TZID=America/New_York:20240615T130000
DTSTAMP:20260423T233747
CREATED:20240506T191529Z
LAST-MODIFIED:20250927T133804Z
UID:10015052-1718443800-1718456400@unityofsarasota.org
SUMMARY:The Art of Quantum Living
DESCRIPTION:Presenter: Rev. Betty Martin-Lewis \nWeaving together the latest scientific data with the wisdom of the world’s mystical traditions. \nFee: $50 to benefit Unity of Sarasota \nSponsorships now available for Rev. Betty’s class. \nDear One!  \nI am excited that you have chosen to enroll in the Quantum Living Training\, a unique adventure in self-discovery and conscious evolution. You will learn and practice tools that help you release old patterns of feelings\, beliefs\, and behavior that limit your ability to express your full potential. Using this process can free yourself from blockages\, allowing you to become more aware of who you have come here to BE\, your true\, authentic Self!   \nThese outcomes depend on your readiness to fully engage in the two half-day in-person workshops followed by 21 days of practicing the process on your own. We will check in together on zoom each of those 3 weeks in one-hour follow-up sessions. Those meetings will be scheduled during the first class to best accommodate your calendars.  \nFor more information\, contact the Unity office at 941-955-3301 \n 
URL:https://unityofsarasota.org/event/the-art-of-quantum-living-5/2024-06-15/
CATEGORIES:Class
END:VEVENT
BEGIN:VEVENT
DTSTART;TZID=America/New_York:20240618T090000
DTEND;TZID=America/New_York:20240618T160000
DTSTAMP:20260423T233747
CREATED:20221108T140311Z
LAST-MODIFIED:20250927T134100Z
UID:10006985-1718701200-1718726400@unityofsarasota.org
SUMMARY:Colleen Cassidy Painting Class
DESCRIPTION:Colleen Cassidy teaches an open class to people interested in watercolor painting. She had her own art school in Sarasota for the past 25 years and is a graduate of Ringling School of Art. \nPrice is $30 per class. Tuesday and Thursday  9:00am – 4:00pm. Rooms A & B at Unity of Sarasota. \nArt Class \n 
URL:https://unityofsarasota.org/event/colleen-cassidy-painting-class-2/2024-06-18/
LOCATION:Unity of Sarasota\, 3023 Proctor Road\, Sarasota\, FL\, 34231\, United States\, Unity of Sarasota\, 3023 Proctor Road\, Sarasota\, FL\, 34231\, United States
CATEGORIES:Class,On-Going Classes
END:VEVENT
BEGIN:VEVENT
DTSTART;TZID=America/New_York:20240620T090000
DTEND;TZID=America/New_York:20240620T160000
DTSTAMP:20260423T233747
CREATED:20221108T140311Z
LAST-MODIFIED:20250927T134100Z
UID:10006986-1718874000-1718899200@unityofsarasota.org
SUMMARY:Colleen Cassidy Painting Class
DESCRIPTION:Colleen Cassidy teaches an open class to people interested in watercolor painting. She had her own art school in Sarasota for the past 25 years and is a graduate of Ringling School of Art. \nPrice is $30 per class. Tuesday and Thursday  9:00am – 4:00pm. Rooms A & B at Unity of Sarasota. \nArt Class \n 
URL:https://unityofsarasota.org/event/colleen-cassidy-painting-class-2/2024-06-20/
LOCATION:Unity of Sarasota\, 3023 Proctor Road\, Sarasota\, FL\, 34231\, United States\, Unity of Sarasota\, 3023 Proctor Road\, Sarasota\, FL\, 34231\, United States
CATEGORIES:Class,On-Going Classes
END:VEVENT
BEGIN:VEVENT
DTSTART;TZID=America/New_York:20240621T090000
DTEND;TZID=America/New_York:20240621T160000
DTSTAMP:20260423T233747
CREATED:20240129T153014Z
LAST-MODIFIED:20250927T133826Z
UID:10014030-1718960400-1718985600@unityofsarasota.org
SUMMARY:Colleen Cassidy Art Class
DESCRIPTION:Colleen Cassidy teaches an open class to people interested in art. She had her own art school in Sarasota for the past 25 years and is a graduate of Ringling School of Art. \nPrice is $30 per class. Friday  9:00am – 4:00pm. Rooms A & B at Unity of Sarasota.
URL:https://unityofsarasota.org/event/colleen-cassidy-art-class-3/2024-06-21/
CATEGORIES:Class
ATTACH;FMTTYPE=image/png:https://unityofsarasota.org/wp-content/uploads/2024/01/Screen-Shot-2024-01-29-at-10.29.19-AM.png
END:VEVENT
BEGIN:VEVENT
DTSTART;TZID=America/New_York:20240625T090000
DTEND;TZID=America/New_York:20240625T160000
DTSTAMP:20260423T233747
CREATED:20221108T140311Z
LAST-MODIFIED:20250927T134100Z
UID:10006987-1719306000-1719331200@unityofsarasota.org
SUMMARY:Colleen Cassidy Painting Class
DESCRIPTION:Colleen Cassidy teaches an open class to people interested in watercolor painting. She had her own art school in Sarasota for the past 25 years and is a graduate of Ringling School of Art. \nPrice is $30 per class. Tuesday and Thursday  9:00am – 4:00pm. Rooms A & B at Unity of Sarasota. \nArt Class \n 
URL:https://unityofsarasota.org/event/colleen-cassidy-painting-class-2/2024-06-25/
LOCATION:Unity of Sarasota\, 3023 Proctor Road\, Sarasota\, FL\, 34231\, United States\, Unity of Sarasota\, 3023 Proctor Road\, Sarasota\, FL\, 34231\, United States
CATEGORIES:Class,On-Going Classes
END:VEVENT
BEGIN:VEVENT
DTSTART;TZID=America/New_York:20240627T090000
DTEND;TZID=America/New_York:20240627T160000
DTSTAMP:20260423T233747
CREATED:20221108T140311Z
LAST-MODIFIED:20250927T134100Z
UID:10006988-1719478800-1719504000@unityofsarasota.org
SUMMARY:Colleen Cassidy Painting Class
DESCRIPTION:Colleen Cassidy teaches an open class to people interested in watercolor painting. She had her own art school in Sarasota for the past 25 years and is a graduate of Ringling School of Art. \nPrice is $30 per class. Tuesday and Thursday  9:00am – 4:00pm. Rooms A & B at Unity of Sarasota. \nArt Class \n 
URL:https://unityofsarasota.org/event/colleen-cassidy-painting-class-2/2024-06-27/
LOCATION:Unity of Sarasota\, 3023 Proctor Road\, Sarasota\, FL\, 34231\, United States\, Unity of Sarasota\, 3023 Proctor Road\, Sarasota\, FL\, 34231\, United States
CATEGORIES:Class,On-Going Classes
END:VEVENT
BEGIN:VEVENT
DTSTART;TZID=America/New_York:20240628T090000
DTEND;TZID=America/New_York:20240628T160000
DTSTAMP:20260423T233747
CREATED:20240129T153014Z
LAST-MODIFIED:20250927T133826Z
UID:10014031-1719565200-1719590400@unityofsarasota.org
SUMMARY:Colleen Cassidy Art Class
DESCRIPTION:Colleen Cassidy teaches an open class to people interested in art. She had her own art school in Sarasota for the past 25 years and is a graduate of Ringling School of Art. \nPrice is $30 per class. Friday  9:00am – 4:00pm. Rooms A & B at Unity of Sarasota.
URL:https://unityofsarasota.org/event/colleen-cassidy-art-class-3/2024-06-28/
CATEGORIES:Class
ATTACH;FMTTYPE=image/png:https://unityofsarasota.org/wp-content/uploads/2024/01/Screen-Shot-2024-01-29-at-10.29.19-AM.png
END:VEVENT
BEGIN:VEVENT
DTSTART;TZID=America/New_York:20240702T090000
DTEND;TZID=America/New_York:20240702T160000
DTSTAMP:20260423T233747
CREATED:20221108T140311Z
LAST-MODIFIED:20250927T134100Z
UID:10006989-1719910800-1719936000@unityofsarasota.org
SUMMARY:Colleen Cassidy Painting Class
DESCRIPTION:Colleen Cassidy teaches an open class to people interested in watercolor painting. She had her own art school in Sarasota for the past 25 years and is a graduate of Ringling School of Art. \nPrice is $30 per class. Tuesday and Thursday  9:00am – 4:00pm. Rooms A & B at Unity of Sarasota. \nArt Class \n 
URL:https://unityofsarasota.org/event/colleen-cassidy-painting-class-2/2024-07-02/
LOCATION:Unity of Sarasota\, 3023 Proctor Road\, Sarasota\, FL\, 34231\, United States\, Unity of Sarasota\, 3023 Proctor Road\, Sarasota\, FL\, 34231\, United States
CATEGORIES:Class,On-Going Classes
END:VEVENT
BEGIN:VEVENT
DTSTART;TZID=America/New_York:20240704T090000
DTEND;TZID=America/New_York:20240704T160000
DTSTAMP:20260423T233747
CREATED:20221108T140311Z
LAST-MODIFIED:20250927T134100Z
UID:10006990-1720083600-1720108800@unityofsarasota.org
SUMMARY:Colleen Cassidy Painting Class
DESCRIPTION:Colleen Cassidy teaches an open class to people interested in watercolor painting. She had her own art school in Sarasota for the past 25 years and is a graduate of Ringling School of Art. \nPrice is $30 per class. Tuesday and Thursday  9:00am – 4:00pm. Rooms A & B at Unity of Sarasota. \nArt Class \n 
URL:https://unityofsarasota.org/event/colleen-cassidy-painting-class-2/2024-07-04/
LOCATION:Unity of Sarasota\, 3023 Proctor Road\, Sarasota\, FL\, 34231\, United States\, Unity of Sarasota\, 3023 Proctor Road\, Sarasota\, FL\, 34231\, United States
CATEGORIES:Class,On-Going Classes
END:VEVENT
BEGIN:VEVENT
DTSTART;TZID=America/New_York:20240705T090000
DTEND;TZID=America/New_York:20240705T160000
DTSTAMP:20260423T233747
CREATED:20240129T153014Z
LAST-MODIFIED:20250927T133826Z
UID:10014032-1720170000-1720195200@unityofsarasota.org
SUMMARY:Colleen Cassidy Art Class
DESCRIPTION:Colleen Cassidy teaches an open class to people interested in art. She had her own art school in Sarasota for the past 25 years and is a graduate of Ringling School of Art. \nPrice is $30 per class. Friday  9:00am – 4:00pm. Rooms A & B at Unity of Sarasota.
URL:https://unityofsarasota.org/event/colleen-cassidy-art-class-3/2024-07-05/
CATEGORIES:Class
ATTACH;FMTTYPE=image/png:https://unityofsarasota.org/wp-content/uploads/2024/01/Screen-Shot-2024-01-29-at-10.29.19-AM.png
END:VEVENT
BEGIN:VEVENT
DTSTART;TZID=America/New_York:20240709T090000
DTEND;TZID=America/New_York:20240709T160000
DTSTAMP:20260423T233747
CREATED:20221108T140311Z
LAST-MODIFIED:20250927T134100Z
UID:10006991-1720515600-1720540800@unityofsarasota.org
SUMMARY:Colleen Cassidy Painting Class
DESCRIPTION:Colleen Cassidy teaches an open class to people interested in watercolor painting. She had her own art school in Sarasota for the past 25 years and is a graduate of Ringling School of Art. \nPrice is $30 per class. Tuesday and Thursday  9:00am – 4:00pm. Rooms A & B at Unity of Sarasota. \nArt Class \n 
URL:https://unityofsarasota.org/event/colleen-cassidy-painting-class-2/2024-07-09/
LOCATION:Unity of Sarasota\, 3023 Proctor Road\, Sarasota\, FL\, 34231\, United States\, Unity of Sarasota\, 3023 Proctor Road\, Sarasota\, FL\, 34231\, United States
CATEGORIES:Class,On-Going Classes
END:VEVENT
BEGIN:VEVENT
DTSTART;TZID=America/New_York:20240711T090000
DTEND;TZID=America/New_York:20240711T160000
DTSTAMP:20260423T233747
CREATED:20221108T140311Z
LAST-MODIFIED:20250927T134100Z
UID:10006992-1720688400-1720713600@unityofsarasota.org
SUMMARY:Colleen Cassidy Painting Class
DESCRIPTION:Colleen Cassidy teaches an open class to people interested in watercolor painting. She had her own art school in Sarasota for the past 25 years and is a graduate of Ringling School of Art. \nPrice is $30 per class. Tuesday and Thursday  9:00am – 4:00pm. Rooms A & B at Unity of Sarasota. \nArt Class \n 
URL:https://unityofsarasota.org/event/colleen-cassidy-painting-class-2/2024-07-11/
LOCATION:Unity of Sarasota\, 3023 Proctor Road\, Sarasota\, FL\, 34231\, United States\, Unity of Sarasota\, 3023 Proctor Road\, Sarasota\, FL\, 34231\, United States
CATEGORIES:Class,On-Going Classes
END:VEVENT
BEGIN:VEVENT
DTSTART;TZID=America/New_York:20240711T140000
DTEND;TZID=America/New_York:20240711T153000
DTSTAMP:20260423T233747
CREATED:20240612T201846Z
LAST-MODIFIED:20250927T133801Z
UID:10015066-1720706400-1720711800@unityofsarasota.org
SUMMARY:The Art Of Transformative Prayer with Rev. Elizabeth Longo
DESCRIPTION:In this class we will be introducing and practicing Unity’s methodology of prayer and how to live the Unity Principles. Gain confidence in prayer as you develop and enrich your life of prayer. This course explores prayer practices that allow us to stand as beacons of light for oneself and each other while seeing the divinity in all. This course will include in class discussions\, small group discussions\, mini-lectures\, and experiential time for practicing prayer skills. This class is based on the Book: “How to Pray Without Talking to God.” Rev. Linda Martella-Whitsett. (2011). Hampton Roads Publishing. \nSuggested Love Offering: $20
URL:https://unityofsarasota.org/event/the-art-of-transformative-prayer-with-rev-elizabeth-longo-2/2024-07-11/
LOCATION:Unity of Sarasota\, 3023 Proctor Road\, Sarasota\, FL\, 34231\, United States\, Unity of Sarasota\, 3023 Proctor Road\, Sarasota\, FL\, 34231\, United States
CATEGORIES:Class
END:VEVENT
BEGIN:VEVENT
DTSTART;TZID=America/New_York:20240712T090000
DTEND;TZID=America/New_York:20240712T160000
DTSTAMP:20260423T233747
CREATED:20240129T153014Z
LAST-MODIFIED:20250927T133826Z
UID:10014033-1720774800-1720800000@unityofsarasota.org
SUMMARY:Colleen Cassidy Art Class
DESCRIPTION:Colleen Cassidy teaches an open class to people interested in art. She had her own art school in Sarasota for the past 25 years and is a graduate of Ringling School of Art. \nPrice is $30 per class. Friday  9:00am – 4:00pm. Rooms A & B at Unity of Sarasota.
URL:https://unityofsarasota.org/event/colleen-cassidy-art-class-3/2024-07-12/
CATEGORIES:Class
ATTACH;FMTTYPE=image/png:https://unityofsarasota.org/wp-content/uploads/2024/01/Screen-Shot-2024-01-29-at-10.29.19-AM.png
END:VEVENT
BEGIN:VEVENT
DTSTART;TZID=America/New_York:20240716T090000
DTEND;TZID=America/New_York:20240716T160000
DTSTAMP:20260423T233747
CREATED:20221108T140311Z
LAST-MODIFIED:20250927T134100Z
UID:10006993-1721120400-1721145600@unityofsarasota.org
SUMMARY:Colleen Cassidy Painting Class
DESCRIPTION:Colleen Cassidy teaches an open class to people interested in watercolor painting. She had her own art school in Sarasota for the past 25 years and is a graduate of Ringling School of Art. \nPrice is $30 per class. Tuesday and Thursday  9:00am – 4:00pm. Rooms A & B at Unity of Sarasota. \nArt Class \n 
URL:https://unityofsarasota.org/event/colleen-cassidy-painting-class-2/2024-07-16/
LOCATION:Unity of Sarasota\, 3023 Proctor Road\, Sarasota\, FL\, 34231\, United States\, Unity of Sarasota\, 3023 Proctor Road\, Sarasota\, FL\, 34231\, United States
CATEGORIES:Class,On-Going Classes
END:VEVENT
BEGIN:VEVENT
DTSTART;TZID=America/New_York:20240718T090000
DTEND;TZID=America/New_York:20240718T160000
DTSTAMP:20260423T233747
CREATED:20221108T140311Z
LAST-MODIFIED:20250927T134100Z
UID:10006994-1721293200-1721318400@unityofsarasota.org
SUMMARY:Colleen Cassidy Painting Class
DESCRIPTION:Colleen Cassidy teaches an open class to people interested in watercolor painting. She had her own art school in Sarasota for the past 25 years and is a graduate of Ringling School of Art. \nPrice is $30 per class. Tuesday and Thursday  9:00am – 4:00pm. Rooms A & B at Unity of Sarasota. \nArt Class \n 
URL:https://unityofsarasota.org/event/colleen-cassidy-painting-class-2/2024-07-18/
LOCATION:Unity of Sarasota\, 3023 Proctor Road\, Sarasota\, FL\, 34231\, United States\, Unity of Sarasota\, 3023 Proctor Road\, Sarasota\, FL\, 34231\, United States
CATEGORIES:Class,On-Going Classes
END:VEVENT
BEGIN:VEVENT
DTSTART;TZID=America/New_York:20240718T140000
DTEND;TZID=America/New_York:20240718T153000
DTSTAMP:20260423T233747
CREATED:20240612T201846Z
LAST-MODIFIED:20250927T133801Z
UID:10015067-1721311200-1721316600@unityofsarasota.org
SUMMARY:The Art Of Transformative Prayer with Rev. Elizabeth Longo
DESCRIPTION:In this class we will be introducing and practicing Unity’s methodology of prayer and how to live the Unity Principles. Gain confidence in prayer as you develop and enrich your life of prayer. This course explores prayer practices that allow us to stand as beacons of light for oneself and each other while seeing the divinity in all. This course will include in class discussions\, small group discussions\, mini-lectures\, and experiential time for practicing prayer skills. This class is based on the Book: “How to Pray Without Talking to God.” Rev. Linda Martella-Whitsett. (2011). Hampton Roads Publishing. \nSuggested Love Offering: $20
URL:https://unityofsarasota.org/event/the-art-of-transformative-prayer-with-rev-elizabeth-longo-2/2024-07-18/
LOCATION:Unity of Sarasota\, 3023 Proctor Road\, Sarasota\, FL\, 34231\, United States\, Unity of Sarasota\, 3023 Proctor Road\, Sarasota\, FL\, 34231\, United States
CATEGORIES:Class
END:VEVENT
BEGIN:VEVENT
DTSTART;TZID=America/New_York:20240719T090000
DTEND;TZID=America/New_York:20240719T160000
DTSTAMP:20260423T233747
CREATED:20240129T153014Z
LAST-MODIFIED:20250927T133826Z
UID:10014034-1721379600-1721404800@unityofsarasota.org
SUMMARY:Colleen Cassidy Art Class
DESCRIPTION:Colleen Cassidy teaches an open class to people interested in art. She had her own art school in Sarasota for the past 25 years and is a graduate of Ringling School of Art. \nPrice is $30 per class. Friday  9:00am – 4:00pm. Rooms A & B at Unity of Sarasota.
URL:https://unityofsarasota.org/event/colleen-cassidy-art-class-3/2024-07-19/
CATEGORIES:Class
ATTACH;FMTTYPE=image/png:https://unityofsarasota.org/wp-content/uploads/2024/01/Screen-Shot-2024-01-29-at-10.29.19-AM.png
END:VEVENT
BEGIN:VEVENT
DTSTART;TZID=America/New_York:20240723T090000
DTEND;TZID=America/New_York:20240723T160000
DTSTAMP:20260423T233747
CREATED:20221108T140311Z
LAST-MODIFIED:20250927T134100Z
UID:10006995-1721725200-1721750400@unityofsarasota.org
SUMMARY:Colleen Cassidy Painting Class
DESCRIPTION:Colleen Cassidy teaches an open class to people interested in watercolor painting. She had her own art school in Sarasota for the past 25 years and is a graduate of Ringling School of Art. \nPrice is $30 per class. Tuesday and Thursday  9:00am – 4:00pm. Rooms A & B at Unity of Sarasota. \nArt Class \n 
URL:https://unityofsarasota.org/event/colleen-cassidy-painting-class-2/2024-07-23/
LOCATION:Unity of Sarasota\, 3023 Proctor Road\, Sarasota\, FL\, 34231\, United States\, Unity of Sarasota\, 3023 Proctor Road\, Sarasota\, FL\, 34231\, United States
CATEGORIES:Class,On-Going Classes
END:VEVENT
BEGIN:VEVENT
DTSTART;TZID=America/New_York:20240725T090000
DTEND;TZID=America/New_York:20240725T160000
DTSTAMP:20260423T233747
CREATED:20221108T140311Z
LAST-MODIFIED:20250927T134100Z
UID:10006996-1721898000-1721923200@unityofsarasota.org
SUMMARY:Colleen Cassidy Painting Class
DESCRIPTION:Colleen Cassidy teaches an open class to people interested in watercolor painting. She had her own art school in Sarasota for the past 25 years and is a graduate of Ringling School of Art. \nPrice is $30 per class. Tuesday and Thursday  9:00am – 4:00pm. Rooms A & B at Unity of Sarasota. \nArt Class \n 
URL:https://unityofsarasota.org/event/colleen-cassidy-painting-class-2/2024-07-25/
LOCATION:Unity of Sarasota\, 3023 Proctor Road\, Sarasota\, FL\, 34231\, United States\, Unity of Sarasota\, 3023 Proctor Road\, Sarasota\, FL\, 34231\, United States
CATEGORIES:Class,On-Going Classes
END:VEVENT
BEGIN:VEVENT
DTSTART;TZID=America/New_York:20240725T140000
DTEND;TZID=America/New_York:20240725T153000
DTSTAMP:20260423T233747
CREATED:20240612T201846Z
LAST-MODIFIED:20250927T133801Z
UID:10015068-1721916000-1721921400@unityofsarasota.org
SUMMARY:The Art Of Transformative Prayer with Rev. Elizabeth Longo
DESCRIPTION:In this class we will be introducing and practicing Unity’s methodology of prayer and how to live the Unity Principles. Gain confidence in prayer as you develop and enrich your life of prayer. This course explores prayer practices that allow us to stand as beacons of light for oneself and each other while seeing the divinity in all. This course will include in class discussions\, small group discussions\, mini-lectures\, and experiential time for practicing prayer skills. This class is based on the Book: “How to Pray Without Talking to God.” Rev. Linda Martella-Whitsett. (2011). Hampton Roads Publishing. \nSuggested Love Offering: $20
URL:https://unityofsarasota.org/event/the-art-of-transformative-prayer-with-rev-elizabeth-longo-2/2024-07-25/
LOCATION:Unity of Sarasota\, 3023 Proctor Road\, Sarasota\, FL\, 34231\, United States\, Unity of Sarasota\, 3023 Proctor Road\, Sarasota\, FL\, 34231\, United States
CATEGORIES:Class
END:VEVENT
BEGIN:VEVENT
DTSTART;TZID=America/New_York:20240726T090000
DTEND;TZID=America/New_York:20240726T160000
DTSTAMP:20260423T233747
CREATED:20240129T153014Z
LAST-MODIFIED:20250927T133826Z
UID:10014035-1721984400-1722009600@unityofsarasota.org
SUMMARY:Colleen Cassidy Art Class
DESCRIPTION:Colleen Cassidy teaches an open class to people interested in art. She had her own art school in Sarasota for the past 25 years and is a graduate of Ringling School of Art. \nPrice is $30 per class. Friday  9:00am – 4:00pm. Rooms A & B at Unity of Sarasota.
URL:https://unityofsarasota.org/event/colleen-cassidy-art-class-3/2024-07-26/
CATEGORIES:Class
ATTACH;FMTTYPE=image/png:https://unityofsarasota.org/wp-content/uploads/2024/01/Screen-Shot-2024-01-29-at-10.29.19-AM.png
END:VEVENT
END:VCALENDAR