BEGIN:VCALENDAR
VERSION:2.0
PRODID:-//Unity of Sarasota - ECPv6.15.17.1//NONSGML v1.0//EN
CALSCALE:GREGORIAN
METHOD:PUBLISH
X-WR-CALNAME:Unity of Sarasota
X-ORIGINAL-URL:https://unityofsarasota.org
X-WR-CALDESC:Events for Unity of Sarasota
REFRESH-INTERVAL;VALUE=DURATION:PT1H
X-Robots-Tag:noindex
X-PUBLISHED-TTL:PT1H
BEGIN:VTIMEZONE
TZID:America/New_York
BEGIN:DAYLIGHT
TZOFFSETFROM:-0500
TZOFFSETTO:-0400
TZNAME:EDT
DTSTART:20240310T070000
END:DAYLIGHT
BEGIN:STANDARD
TZOFFSETFROM:-0400
TZOFFSETTO:-0500
TZNAME:EST
DTSTART:20241103T060000
END:STANDARD
BEGIN:DAYLIGHT
TZOFFSETFROM:-0500
TZOFFSETTO:-0400
TZNAME:EDT
DTSTART:20250309T070000
END:DAYLIGHT
BEGIN:STANDARD
TZOFFSETFROM:-0400
TZOFFSETTO:-0500
TZNAME:EST
DTSTART:20251102T060000
END:STANDARD
BEGIN:DAYLIGHT
TZOFFSETFROM:-0500
TZOFFSETTO:-0400
TZNAME:EDT
DTSTART:20260308T070000
END:DAYLIGHT
BEGIN:STANDARD
TZOFFSETFROM:-0400
TZOFFSETTO:-0500
TZNAME:EST
DTSTART:20261101T060000
END:STANDARD
END:VTIMEZONE
BEGIN:VEVENT
DTSTART;TZID=America/New_York:20251111T183000
DTEND;TZID=America/New_York:20251111T200000
DTSTAMP:20260421T152922
CREATED:20251016T141107Z
LAST-MODIFIED:20251016T141108Z
UID:10016487-1762885800-1762891200@unityofsarasota.org
SUMMARY:Veterans Day Special Event Movie Screening
DESCRIPTION:Veterans Day Special! \nA great way to complete a day to honor all veterans! \nPlease join us at Unity of Sarasota for the movie and meet the film producer and author after the film. \nWhy Can’t We Serve is an important documentary\, focused on reducing veteran suicides in our country. \n“It’s an ongoing tragedy and I won’t relax until there are absolutely no more vets dying by suicide.” Veteran Marty Klein\, SGT USAF. \nWhen: On Veterans Day\, Tuesday\, November 11 at  6:30pm.\nWhere: At the Unity of Sarasota (address)\nCost: FREE. \, love donations appreciated  by Unity of Sarasota \nBlind veteran\, Marty Klein\, has created an honest and  realistic\, yet inspiring look at the veteran story in our country \nIt’s a meaningful film to raise awareness about the veteran suicides\, along with ideas to help reduce the suicide rate. \nThis movie as also an  uplifting and inspiring wake up call toward the truth about people with disabilities. They do have special needs\, but they also are incredibly talented. \nKlein will appear for a Q and A period after the film\, and share his story\, “My life today is so much better than it ever was when I had 20/20 vision.” \nHe is also donating his book on healing\, as a fund raiser for Unity of Sarasota. All proceeds from the sale of his book go directly to Unity of Sarasota. \nThe book\, “Emotional Cleansing\, the Spiritual Journey Toward a CLEAR HEART” is a guide toward health and well being.
URL:https://unityofsarasota.org/event/veterans-day-special-event-movie-screening/
LOCATION:Unity of Sarasota\, 3023 Proctor Road\, Sarasota\, FL\, 34231\, United States\, Unity of Sarasota\, 3023 Proctor Road\, Sarasota\, FL\, 34231\, United States
CATEGORIES:Event,Fundraising
END:VEVENT
END:VCALENDAR