BEGIN:VCALENDAR
VERSION:2.0
PRODID:-//Unity of Sarasota - ECPv6.15.17.1//NONSGML v1.0//EN
CALSCALE:GREGORIAN
METHOD:PUBLISH
X-WR-CALNAME:Unity of Sarasota
X-ORIGINAL-URL:https://unityofsarasota.org
X-WR-CALDESC:Events for Unity of Sarasota
REFRESH-INTERVAL;VALUE=DURATION:PT1H
X-Robots-Tag:noindex
X-PUBLISHED-TTL:PT1H
BEGIN:VTIMEZONE
TZID:America/New_York
BEGIN:DAYLIGHT
TZOFFSETFROM:-0500
TZOFFSETTO:-0400
TZNAME:EDT
DTSTART:20190310T070000
END:DAYLIGHT
BEGIN:STANDARD
TZOFFSETFROM:-0400
TZOFFSETTO:-0500
TZNAME:EST
DTSTART:20191103T060000
END:STANDARD
BEGIN:DAYLIGHT
TZOFFSETFROM:-0500
TZOFFSETTO:-0400
TZNAME:EDT
DTSTART:20200308T070000
END:DAYLIGHT
BEGIN:STANDARD
TZOFFSETFROM:-0400
TZOFFSETTO:-0500
TZNAME:EST
DTSTART:20201101T060000
END:STANDARD
BEGIN:DAYLIGHT
TZOFFSETFROM:-0500
TZOFFSETTO:-0400
TZNAME:EDT
DTSTART:20210314T070000
END:DAYLIGHT
BEGIN:STANDARD
TZOFFSETFROM:-0400
TZOFFSETTO:-0500
TZNAME:EST
DTSTART:20211107T060000
END:STANDARD
BEGIN:DAYLIGHT
TZOFFSETFROM:-0500
TZOFFSETTO:-0400
TZNAME:EDT
DTSTART:20220313T070000
END:DAYLIGHT
BEGIN:STANDARD
TZOFFSETFROM:-0400
TZOFFSETTO:-0500
TZNAME:EST
DTSTART:20221106T060000
END:STANDARD
BEGIN:DAYLIGHT
TZOFFSETFROM:-0500
TZOFFSETTO:-0400
TZNAME:EDT
DTSTART:20230312T070000
END:DAYLIGHT
BEGIN:STANDARD
TZOFFSETFROM:-0400
TZOFFSETTO:-0500
TZNAME:EST
DTSTART:20231105T060000
END:STANDARD
END:VTIMEZONE
BEGIN:VEVENT
DTSTART;TZID=America/New_York:20220603T190000
DTEND;TZID=America/New_York:20220603T200000
DTSTAMP:20260422T004112
CREATED:20220322T214725Z
LAST-MODIFIED:20220322T214856Z
UID:10003476-1654282800-1654286400@unityofsarasota.org
SUMMARY:Kirtan with Cheryl Chaffee at Unity of Sarasota
DESCRIPTION:Kirtan with Cheryl Chaffee will be held once a month at Unity of Sarasota in Fellowship Hall.  By donation to benefit Unity of Sarasota – Love Offering \n \n  \nKirtan is a very different kind of music. Based on ancient chants\, it has the ability to quiet the mind if listened to with intention. Everyone experiences kirtan differently\, and it doesn’t have to be a religious experience. You can think of it as a sing-along. A kirtan concert is not your typical concert either. \nThe wallah (leader) sings the mantra\, and the audience sings it back. As you sing with each other you experience a deep connection with the musicians\, the other audience members and yourself. And when the music stops\, your mind is quiet. \nBecause kirtan has roots in India\, many of the songs are sung in Sanskrit. If you’ve ever chanted responses in Latin or Hebrew in your religious tradition\, then you know how powerful singing in an ancient\, holy language can be. You can be completely immersed in the sound\, with no words to distract the mind. The magic of the chants can then carry you within.\nKirtan is non-denominational\, the Universal language of Spirit\, the song of the Soul.
URL:https://unityofsarasota.org/event/kirtan-with-cheryl-chaffee-at-unity-of-sarasota/2022-06-03/
LOCATION:Unity of Sarasota\, 3023 Proctor Road\, Sarasota\, FL\, 34231\, United States\, Unity of Sarasota\, 3023 Proctor Road\, Sarasota\, FL\, 34231\, United States
CATEGORIES:Kirtan,Music and Inspiration,upcoming
END:VEVENT
BEGIN:VEVENT
DTSTART;TZID=America/New_York:20220506T190000
DTEND;TZID=America/New_York:20220506T200000
DTSTAMP:20260422T004112
CREATED:20220322T214725Z
LAST-MODIFIED:20220322T214856Z
UID:10003475-1651863600-1651867200@unityofsarasota.org
SUMMARY:Kirtan with Cheryl Chaffee at Unity of Sarasota
DESCRIPTION:Kirtan with Cheryl Chaffee will be held once a month at Unity of Sarasota in Fellowship Hall.  By donation to benefit Unity of Sarasota – Love Offering \n \n  \nKirtan is a very different kind of music. Based on ancient chants\, it has the ability to quiet the mind if listened to with intention. Everyone experiences kirtan differently\, and it doesn’t have to be a religious experience. You can think of it as a sing-along. A kirtan concert is not your typical concert either. \nThe wallah (leader) sings the mantra\, and the audience sings it back. As you sing with each other you experience a deep connection with the musicians\, the other audience members and yourself. And when the music stops\, your mind is quiet. \nBecause kirtan has roots in India\, many of the songs are sung in Sanskrit. If you’ve ever chanted responses in Latin or Hebrew in your religious tradition\, then you know how powerful singing in an ancient\, holy language can be. You can be completely immersed in the sound\, with no words to distract the mind. The magic of the chants can then carry you within.\nKirtan is non-denominational\, the Universal language of Spirit\, the song of the Soul.
URL:https://unityofsarasota.org/event/kirtan-with-cheryl-chaffee-at-unity-of-sarasota/2022-05-06/
LOCATION:Unity of Sarasota\, 3023 Proctor Road\, Sarasota\, FL\, 34231\, United States\, Unity of Sarasota\, 3023 Proctor Road\, Sarasota\, FL\, 34231\, United States
CATEGORIES:Kirtan,Music and Inspiration,upcoming
END:VEVENT
BEGIN:VEVENT
DTSTART;TZID=America/New_York:20220401T190000
DTEND;TZID=America/New_York:20220401T200000
DTSTAMP:20260422T004112
CREATED:20220322T214725Z
LAST-MODIFIED:20220322T214856Z
UID:10003474-1648839600-1648843200@unityofsarasota.org
SUMMARY:Kirtan with Cheryl Chaffee at Unity of Sarasota
DESCRIPTION:Kirtan with Cheryl Chaffee will be held once a month at Unity of Sarasota in Fellowship Hall.  By donation to benefit Unity of Sarasota – Love Offering \n \n  \nKirtan is a very different kind of music. Based on ancient chants\, it has the ability to quiet the mind if listened to with intention. Everyone experiences kirtan differently\, and it doesn’t have to be a religious experience. You can think of it as a sing-along. A kirtan concert is not your typical concert either. \nThe wallah (leader) sings the mantra\, and the audience sings it back. As you sing with each other you experience a deep connection with the musicians\, the other audience members and yourself. And when the music stops\, your mind is quiet. \nBecause kirtan has roots in India\, many of the songs are sung in Sanskrit. If you’ve ever chanted responses in Latin or Hebrew in your religious tradition\, then you know how powerful singing in an ancient\, holy language can be. You can be completely immersed in the sound\, with no words to distract the mind. The magic of the chants can then carry you within.\nKirtan is non-denominational\, the Universal language of Spirit\, the song of the Soul.
URL:https://unityofsarasota.org/event/kirtan-with-cheryl-chaffee-at-unity-of-sarasota/2022-04-01/
LOCATION:Unity of Sarasota\, 3023 Proctor Road\, Sarasota\, FL\, 34231\, United States\, Unity of Sarasota\, 3023 Proctor Road\, Sarasota\, FL\, 34231\, United States
CATEGORIES:Kirtan,Music and Inspiration,upcoming
END:VEVENT
BEGIN:VEVENT
DTSTART;TZID=America/New_York:20220126T190000
DTEND;TZID=America/New_York:20220126T200000
DTSTAMP:20260422T004112
CREATED:20211211T021609Z
LAST-MODIFIED:20211211T021609Z
UID:10003132-1643223600-1643227200@unityofsarasota.org
SUMMARY:Charley Thweatt in Concert at Unity of Sarasota on 1/26/2022
DESCRIPTION:Charley Thweatt brings his gifts of warmth\, humor\, presence\, and music to Unity of Sarasota.  On Wednesday  1/26/22 at 7:00 pm hear Charley Tweatt in concert–Love Offering. \nCharley has been on TV\, radio & collaborated with: Wayne Dyer\, Marianne Williamson\, Deepak Chopra and many others. \n \n 
URL:https://unityofsarasota.org/event/charley-thweatt-in-concert-at-unity-of-sarasota-on-1-26-2022/
LOCATION:Unity of Sarasota\, 3023 Proctor Road\, Sarasota\, FL\, 34231\, United States\, Unity of Sarasota\, 3023 Proctor Road\, Sarasota\, FL\, 34231\, United States
CATEGORIES:Concerts,Music and Inspiration
END:VEVENT
BEGIN:VEVENT
DTSTART;TZID=America/New_York:20220123T103000
DTEND;TZID=America/New_York:20220123T103000
DTSTAMP:20260422T004112
CREATED:20211211T020456Z
LAST-MODIFIED:20211211T020456Z
UID:10003131-1642933800-1642933800@unityofsarasota.org
SUMMARY:Charley Thweatt at our Sunday Celebration Service 1/23/2022
DESCRIPTION:Charley Thweatt brings his gifts of warmth\, humor\, presence\, and music to Unity of Sarasota on Sunday 1/23/22 at 10:30 am. Charley will share his music & real-life stories about how stepping into trust transformed everything. \n  \n 
URL:https://unityofsarasota.org/event/charley-thweatt-at-our-sunday-celebration-service-1-23-2022/
LOCATION:Unity of Sarasota\, 3023 Proctor Road\, Sarasota\, FL\, 34231\, United States\, Unity of Sarasota\, 3023 Proctor Road\, Sarasota\, FL\, 34231\, United States
CATEGORIES:Concerts,Music and Inspiration,Services
ATTACH;FMTTYPE=image/jpeg:https://unityofsarasota.org/wp-content/uploads/2021/12/January-ad-rgb.jpg
END:VEVENT
BEGIN:VEVENT
DTSTART;TZID=America/New_York:20200410T190000
DTEND;TZID=America/New_York:20200410T200000
DTSTAMP:20260422T004112
CREATED:20200318T182350Z
LAST-MODIFIED:20200318T182350Z
UID:10003617-1586545200-1586548800@unityofsarasota.org
SUMMARY:Good Friday: 7 Last Teachings of Jesus from the Cross  - Virtual Service
DESCRIPTION:Join us virtually on Good Friday.  Please don’t forget to donate to Unity of Sarasota.  To do so\, go here:  https://unityofsarasota.org/contribute/ \n 
URL:https://unityofsarasota.org/event/good-friday-7-last-teachings-of-jesus-from-the-cross-virtual-service/
LOCATION:Unity of Sarasota\, 3023 Proctor Road\, Sarasota\, FL\, 34231\, United States\, Unity of Sarasota\, 3023 Proctor Road\, Sarasota\, FL\, 34231\, United States
CATEGORIES:Holiday Events,Music and Inspiration,Services
END:VEVENT
BEGIN:VEVENT
DTSTART;TZID=America/New_York:20200328T140000
DTEND;TZID=America/New_York:20200328T203000
DTSTAMP:20260422T004112
CREATED:20200309T173028Z
LAST-MODIFIED:20230227T164306Z
UID:10003152-1585404000-1585427400@unityofsarasota.org
SUMMARY:Raising Our Voices: A Kirtan Fundraiser! CANCELLED UNTIL FURTHER NOTICE
DESCRIPTION:CANCELLED UNTIL FURTHER NOTICE\nGarden of the Heart Yoga Center\, Unity of Sarasota\,  \nand Ocean of Sound Productions present: \nRAISING OUR VOICES: A KIRTAN FUNDRAISER FOR EDUCATION IN INDIA \nSaturday\, March 28th\, 2020 from  2:00-8:30 pm \nLocation: Unity of Sarasota’s Sanctuary \n  \n \nJoin five local Sarasota kirtan groups for an afternoon and evening of devotional music for a cause. We are raising money and awareness to help improve education in rural Northern India\, through an organization called Friends of Madhuban. \nFeaturing: Sarasota Joe\, Cheryl Chaffee\, Hukam & Regina\, The Sarasota Rockin’ Kirtan Band\, and Orlando FL’s To Bring Devotion. \nTickets are on sale at www.friendsofmadhuban.org for $108\, $54\, or $27. Choose the level of giving that feels best to you. All profits are going directly to train primary education teachers and purchase school supplies.
URL:https://unityofsarasota.org/event/raising-our-voices-a-kirtan-fundraiser/
LOCATION:Unity of Sarasota\, 3023 Proctor Road\, Sarasota\, FL\, 34231\, United States\, Unity of Sarasota\, 3023 Proctor Road\, Sarasota\, FL\, 34231\, United States
CATEGORIES:Concerts,Music and Inspiration
END:VEVENT
BEGIN:VEVENT
DTSTART;TZID=America/New_York:20200304T190000
DTEND;TZID=America/New_York:20200304T200000
DTSTAMP:20260422T004112
CREATED:20200226T003428Z
LAST-MODIFIED:20200226T003833Z
UID:10002500-1583348400-1583352000@unityofsarasota.org
SUMMARY:Om Sound Journey - Transformation
DESCRIPTION:Wednesday Evening Music and Inspiration on March 4th at 7 p.m.  \n \n  \nThe OM Collective will present an original composition created for Unity of Sarasota titled Transformation. This Sound Journey takes participants through an experience of personal transformation employing the power of sound and professional hypnosis. \nAn OM Sound Journey is a revival of the ancient practice of sound healing and meditation for holistic wellness. The OM Collective skillfully combines modern understandings of the mind-body with ancient musical\, meditative\, and inner journey practices! Come experience sound and trance work as over 50 world instruments including Violin and Dobro are combined in a seamless transcendental experience. \nCome experience sound and trance work as world instruments\, including Violin and Dobro\, are combined in a seamless transcendental experience.  Love Offering ? \n  \nTo learn more about The Om Shoppe\, click here.  It’s about Body\, Mind and Spirit!
URL:https://unityofsarasota.org/event/om-sound-journey-transformation/
LOCATION:Unity of Sarasota\, 3023 Proctor Road\, Sarasota\, FL\, 34231\, United States\, Unity of Sarasota\, 3023 Proctor Road\, Sarasota\, FL\, 34231\, United States
CATEGORIES:Music and Inspiration,Services,upcoming
END:VEVENT
END:VCALENDAR