BEGIN:VCALENDAR
VERSION:2.0
PRODID:-//Unity of Sarasota - ECPv6.15.17.1//NONSGML v1.0//EN
CALSCALE:GREGORIAN
METHOD:PUBLISH
X-WR-CALNAME:Unity of Sarasota
X-ORIGINAL-URL:https://unityofsarasota.org
X-WR-CALDESC:Events for Unity of Sarasota
REFRESH-INTERVAL;VALUE=DURATION:PT1H
X-Robots-Tag:noindex
X-PUBLISHED-TTL:PT1H
BEGIN:VTIMEZONE
TZID:UTC
BEGIN:STANDARD
TZOFFSETFROM:+0000
TZOFFSETTO:+0000
TZNAME:UTC
DTSTART:20180101T000000
END:STANDARD
END:VTIMEZONE
BEGIN:VEVENT
DTSTART;TZID=UTC:20190909T193000
DTEND;TZID=UTC:20190909T203000
DTSTAMP:20260421T105128
CREATED:20190905T134440Z
LAST-MODIFIED:20230227T164306Z
UID:10002078-1568057400-1568061000@unityofsarasota.org
SUMMARY:AA Friends Group (LGBTQ)
DESCRIPTION:AA Friends Group (LGBTQ) – every Monday from 7:30 pm – 8:30 pm
URL:https://unityofsarasota.org/event/aa-friends-group-lgbtq/2019-09-09/
CATEGORIES:previous
END:VEVENT
BEGIN:VEVENT
DTSTART;TZID=UTC:20190909T183000
DTEND;TZID=UTC:20190909T183100
DTSTAMP:20260421T105128
CREATED:20190905T134735Z
LAST-MODIFIED:20220923T211619Z
UID:10000050-1568053800-1568053860@unityofsarasota.org
SUMMARY:Pub Theology
DESCRIPTION:Pub Theology 2nd Monday of every month – 6:30 pm. Where do people go when they have more questions than answers? \nBring a spiritual question and we’ll talk. Join us at Pub 32 Gastropub\, 8383 S. Tamiami Trail.
URL:https://unityofsarasota.org/event/pub-theology/2019-09-09/
CATEGORIES:previous
END:VEVENT
BEGIN:VEVENT
DTSTART;TZID=UTC:20190908T090000
DTEND;TZID=UTC:20190908T100000
DTSTAMP:20260421T105128
CREATED:20190905T133450Z
LAST-MODIFIED:20191123T051618Z
UID:10002188-1567933200-1567936800@unityofsarasota.org
SUMMARY:Sunday Morning Awakening Class (SMAC)
DESCRIPTION:David Hawkins invites you to enrich your life in Classroom A. SMAC is devoted to awakening the Christ nature you already are. The class intention is to present Truth principles with practical usable lessons. Wake up! Come join the Class!! Awaken to the vibrant life you know you are meant to Live. SMAC\, along with coffee is a true awakening!!
URL:https://unityofsarasota.org/event/sunday-morning-awakening-class-smac/2019-09-08/
CATEGORIES:previous
END:VEVENT
END:VCALENDAR