BEGIN:VCALENDAR
VERSION:2.0
PRODID:-//Unity of Sarasota - ECPv6.15.17.1//NONSGML v1.0//EN
CALSCALE:GREGORIAN
METHOD:PUBLISH
X-ORIGINAL-URL:https://unityofsarasota.org
X-WR-CALDESC:Events for Unity of Sarasota
REFRESH-INTERVAL;VALUE=DURATION:PT1H
X-Robots-Tag:noindex
X-PUBLISHED-TTL:PT1H
BEGIN:VTIMEZONE
TZID:America/New_York
BEGIN:DAYLIGHT
TZOFFSETFROM:-0500
TZOFFSETTO:-0400
TZNAME:EDT
DTSTART:20230312T070000
END:DAYLIGHT
BEGIN:STANDARD
TZOFFSETFROM:-0400
TZOFFSETTO:-0500
TZNAME:EST
DTSTART:20231105T060000
END:STANDARD
BEGIN:DAYLIGHT
TZOFFSETFROM:-0500
TZOFFSETTO:-0400
TZNAME:EDT
DTSTART:20240310T070000
END:DAYLIGHT
BEGIN:STANDARD
TZOFFSETFROM:-0400
TZOFFSETTO:-0500
TZNAME:EST
DTSTART:20241103T060000
END:STANDARD
BEGIN:DAYLIGHT
TZOFFSETFROM:-0500
TZOFFSETTO:-0400
TZNAME:EDT
DTSTART:20250309T070000
END:DAYLIGHT
BEGIN:STANDARD
TZOFFSETFROM:-0400
TZOFFSETTO:-0500
TZNAME:EST
DTSTART:20251102T060000
END:STANDARD
END:VTIMEZONE
BEGIN:VEVENT
DTSTART;TZID=America/New_York:20241103T103000
DTEND;TZID=America/New_York:20241103T113000
DTSTAMP:20260419T194539
CREATED:20241027T213120Z
LAST-MODIFIED:20260410T155829Z
UID:10015310-1730629800-1730633400@unityofsarasota.org
SUMMARY:Sunday Celebration Service at Unity of Sarasota
DESCRIPTION:Sunday Celebration Service at Unity of Sarasota
URL:https://unityofsarasota.org/event/sunday-celebration-service-at-unity-of-sarasota-3/2024-11-03/
LOCATION:Unity of Sarasota\, 3023 Proctor Road\, Sarasota\, FL\, 34231\, United States\, Unity of Sarasota\, 3023 Proctor Road\, Sarasota\, FL\, 34231\, United States
CATEGORIES:Services
ATTACH;FMTTYPE=image/webp:https://unityofsarasota.org/wp-content/uploads/2019/08/Sunday-Celebration-Service-1.webp
END:VEVENT
BEGIN:VEVENT
DTSTART;TZID=America/New_York:20241103T150000
DTEND;TZID=America/New_York:20241103T160000
DTSTAMP:20260419T194539
CREATED:20230915T010529Z
LAST-MODIFIED:20250927T133849Z
UID:10013239-1730646000-1730649600@unityofsarasota.org
SUMMARY:The Higher Realm Mediumship Service with Natalie Anne
DESCRIPTION:
URL:https://unityofsarasota.org/event/the-higher-realm-mediumship-service-with-natalie-anne/2024-11-03/
CATEGORIES:Services
END:VEVENT
BEGIN:VEVENT
DTSTART;TZID=America/New_York:20241110T103000
DTEND;TZID=America/New_York:20241110T113000
DTSTAMP:20260419T194539
CREATED:20241027T213120Z
LAST-MODIFIED:20260410T155829Z
UID:10015311-1731234600-1731238200@unityofsarasota.org
SUMMARY:Sunday Celebration Service at Unity of Sarasota
DESCRIPTION:Sunday Celebration Service at Unity of Sarasota
URL:https://unityofsarasota.org/event/sunday-celebration-service-at-unity-of-sarasota-3/2024-11-10/
LOCATION:Unity of Sarasota\, 3023 Proctor Road\, Sarasota\, FL\, 34231\, United States\, Unity of Sarasota\, 3023 Proctor Road\, Sarasota\, FL\, 34231\, United States
CATEGORIES:Services
ATTACH;FMTTYPE=image/webp:https://unityofsarasota.org/wp-content/uploads/2019/08/Sunday-Celebration-Service-1.webp
END:VEVENT
BEGIN:VEVENT
DTSTART;TZID=America/New_York:20241110T150000
DTEND;TZID=America/New_York:20241110T160000
DTSTAMP:20260419T194539
CREATED:20230915T010529Z
LAST-MODIFIED:20250927T133849Z
UID:10013240-1731250800-1731254400@unityofsarasota.org
SUMMARY:The Higher Realm Mediumship Service with Natalie Anne
DESCRIPTION:
URL:https://unityofsarasota.org/event/the-higher-realm-mediumship-service-with-natalie-anne/2024-11-10/
CATEGORIES:Services
END:VEVENT
BEGIN:VEVENT
DTSTART;TZID=America/New_York:20241117T103000
DTEND;TZID=America/New_York:20241117T113000
DTSTAMP:20260419T194539
CREATED:20241027T213120Z
LAST-MODIFIED:20260410T155829Z
UID:10015312-1731839400-1731843000@unityofsarasota.org
SUMMARY:Sunday Celebration Service at Unity of Sarasota
DESCRIPTION:Sunday Celebration Service at Unity of Sarasota
URL:https://unityofsarasota.org/event/sunday-celebration-service-at-unity-of-sarasota-3/2024-11-17/
LOCATION:Unity of Sarasota\, 3023 Proctor Road\, Sarasota\, FL\, 34231\, United States\, Unity of Sarasota\, 3023 Proctor Road\, Sarasota\, FL\, 34231\, United States
CATEGORIES:Services
ATTACH;FMTTYPE=image/webp:https://unityofsarasota.org/wp-content/uploads/2019/08/Sunday-Celebration-Service-1.webp
END:VEVENT
BEGIN:VEVENT
DTSTART;TZID=America/New_York:20241117T150000
DTEND;TZID=America/New_York:20241117T160000
DTSTAMP:20260419T194539
CREATED:20230915T010529Z
LAST-MODIFIED:20250927T133849Z
UID:10013241-1731855600-1731859200@unityofsarasota.org
SUMMARY:The Higher Realm Mediumship Service with Natalie Anne
DESCRIPTION:
URL:https://unityofsarasota.org/event/the-higher-realm-mediumship-service-with-natalie-anne/2024-11-17/
CATEGORIES:Services
END:VEVENT
BEGIN:VEVENT
DTSTART;TZID=America/New_York:20241124T103000
DTEND;TZID=America/New_York:20241124T113000
DTSTAMP:20260419T194539
CREATED:20241027T213120Z
LAST-MODIFIED:20260410T155829Z
UID:10015313-1732444200-1732447800@unityofsarasota.org
SUMMARY:Sunday Celebration Service at Unity of Sarasota
DESCRIPTION:Sunday Celebration Service at Unity of Sarasota
URL:https://unityofsarasota.org/event/sunday-celebration-service-at-unity-of-sarasota-3/2024-11-24/
LOCATION:Unity of Sarasota\, 3023 Proctor Road\, Sarasota\, FL\, 34231\, United States\, Unity of Sarasota\, 3023 Proctor Road\, Sarasota\, FL\, 34231\, United States
CATEGORIES:Services
ATTACH;FMTTYPE=image/webp:https://unityofsarasota.org/wp-content/uploads/2019/08/Sunday-Celebration-Service-1.webp
END:VEVENT
BEGIN:VEVENT
DTSTART;TZID=America/New_York:20241124T150000
DTEND;TZID=America/New_York:20241124T160000
DTSTAMP:20260419T194539
CREATED:20230915T010529Z
LAST-MODIFIED:20250927T133849Z
UID:10013242-1732460400-1732464000@unityofsarasota.org
SUMMARY:The Higher Realm Mediumship Service with Natalie Anne
DESCRIPTION:
URL:https://unityofsarasota.org/event/the-higher-realm-mediumship-service-with-natalie-anne/2024-11-24/
CATEGORIES:Services
END:VEVENT
END:VCALENDAR