BEGIN:VCALENDAR
VERSION:2.0
PRODID:-//Unity of Sarasota - ECPv6.15.17.1//NONSGML v1.0//EN
CALSCALE:GREGORIAN
METHOD:PUBLISH
X-ORIGINAL-URL:https://unityofsarasota.org
X-WR-CALDESC:Events for Unity of Sarasota
REFRESH-INTERVAL;VALUE=DURATION:PT1H
X-Robots-Tag:noindex
X-PUBLISHED-TTL:PT1H
BEGIN:VTIMEZONE
TZID:America/New_York
BEGIN:DAYLIGHT
TZOFFSETFROM:-0500
TZOFFSETTO:-0400
TZNAME:EDT
DTSTART:20260308T070000
END:DAYLIGHT
BEGIN:STANDARD
TZOFFSETFROM:-0400
TZOFFSETTO:-0500
TZNAME:EST
DTSTART:20261101T060000
END:STANDARD
BEGIN:DAYLIGHT
TZOFFSETFROM:-0500
TZOFFSETTO:-0400
TZNAME:EDT
DTSTART:20270314T070000
END:DAYLIGHT
BEGIN:STANDARD
TZOFFSETFROM:-0400
TZOFFSETTO:-0500
TZNAME:EST
DTSTART:20271107T060000
END:STANDARD
BEGIN:DAYLIGHT
TZOFFSETFROM:-0500
TZOFFSETTO:-0400
TZNAME:EDT
DTSTART:20280312T070000
END:DAYLIGHT
BEGIN:STANDARD
TZOFFSETFROM:-0400
TZOFFSETTO:-0500
TZNAME:EST
DTSTART:20281105T060000
END:STANDARD
END:VTIMEZONE
BEGIN:VEVENT
DTSTART;TZID=America/New_York:20270606T103000
DTEND;TZID=America/New_York:20270606T113000
DTSTAMP:20260419T143320
CREATED:20241027T213120Z
LAST-MODIFIED:20260410T155829Z
UID:10015445-1812277800-1812281400@unityofsarasota.org
SUMMARY:Sunday Celebration Service at Unity of Sarasota
DESCRIPTION:Sunday Celebration Service at Unity of Sarasota
URL:https://unityofsarasota.org/event/sunday-celebration-service-at-unity-of-sarasota-3/2027-06-06/
LOCATION:Unity of Sarasota\, 3023 Proctor Road\, Sarasota\, FL\, 34231\, United States\, Unity of Sarasota\, 3023 Proctor Road\, Sarasota\, FL\, 34231\, United States
CATEGORIES:Services
ATTACH;FMTTYPE=image/webp:https://unityofsarasota.org/wp-content/uploads/2019/08/Sunday-Celebration-Service-1.webp
END:VEVENT
BEGIN:VEVENT
DTSTART;TZID=America/New_York:20270613T103000
DTEND;TZID=America/New_York:20270613T113000
DTSTAMP:20260419T143320
CREATED:20241027T213120Z
LAST-MODIFIED:20260410T155829Z
UID:10015446-1812882600-1812886200@unityofsarasota.org
SUMMARY:Sunday Celebration Service at Unity of Sarasota
DESCRIPTION:Sunday Celebration Service at Unity of Sarasota
URL:https://unityofsarasota.org/event/sunday-celebration-service-at-unity-of-sarasota-3/2027-06-13/
LOCATION:Unity of Sarasota\, 3023 Proctor Road\, Sarasota\, FL\, 34231\, United States\, Unity of Sarasota\, 3023 Proctor Road\, Sarasota\, FL\, 34231\, United States
CATEGORIES:Services
ATTACH;FMTTYPE=image/webp:https://unityofsarasota.org/wp-content/uploads/2019/08/Sunday-Celebration-Service-1.webp
END:VEVENT
BEGIN:VEVENT
DTSTART;TZID=America/New_York:20270620T103000
DTEND;TZID=America/New_York:20270620T113000
DTSTAMP:20260419T143320
CREATED:20241027T213120Z
LAST-MODIFIED:20260410T155829Z
UID:10015447-1813487400-1813491000@unityofsarasota.org
SUMMARY:Sunday Celebration Service at Unity of Sarasota
DESCRIPTION:Sunday Celebration Service at Unity of Sarasota
URL:https://unityofsarasota.org/event/sunday-celebration-service-at-unity-of-sarasota-3/2027-06-20/
LOCATION:Unity of Sarasota\, 3023 Proctor Road\, Sarasota\, FL\, 34231\, United States\, Unity of Sarasota\, 3023 Proctor Road\, Sarasota\, FL\, 34231\, United States
CATEGORIES:Services
ATTACH;FMTTYPE=image/webp:https://unityofsarasota.org/wp-content/uploads/2019/08/Sunday-Celebration-Service-1.webp
END:VEVENT
BEGIN:VEVENT
DTSTART;TZID=America/New_York:20270627T103000
DTEND;TZID=America/New_York:20270627T113000
DTSTAMP:20260419T143320
CREATED:20241027T213120Z
LAST-MODIFIED:20260410T155829Z
UID:10015448-1814092200-1814095800@unityofsarasota.org
SUMMARY:Sunday Celebration Service at Unity of Sarasota
DESCRIPTION:Sunday Celebration Service at Unity of Sarasota
URL:https://unityofsarasota.org/event/sunday-celebration-service-at-unity-of-sarasota-3/2027-06-27/
LOCATION:Unity of Sarasota\, 3023 Proctor Road\, Sarasota\, FL\, 34231\, United States\, Unity of Sarasota\, 3023 Proctor Road\, Sarasota\, FL\, 34231\, United States
CATEGORIES:Services
ATTACH;FMTTYPE=image/webp:https://unityofsarasota.org/wp-content/uploads/2019/08/Sunday-Celebration-Service-1.webp
END:VEVENT
END:VCALENDAR