BEGIN:VCALENDAR
VERSION:2.0
PRODID:-//Unity of Sarasota - ECPv6.15.17.1//NONSGML v1.0//EN
CALSCALE:GREGORIAN
METHOD:PUBLISH
X-WR-CALNAME:Unity of Sarasota
X-ORIGINAL-URL:https://unityofsarasota.org
X-WR-CALDESC:Events for Unity of Sarasota
REFRESH-INTERVAL;VALUE=DURATION:PT1H
X-Robots-Tag:noindex
X-PUBLISHED-TTL:PT1H
BEGIN:VTIMEZONE
TZID:America/New_York
BEGIN:DAYLIGHT
TZOFFSETFROM:-0500
TZOFFSETTO:-0400
TZNAME:EDT
DTSTART:20260308T070000
END:DAYLIGHT
BEGIN:STANDARD
TZOFFSETFROM:-0400
TZOFFSETTO:-0500
TZNAME:EST
DTSTART:20261101T060000
END:STANDARD
BEGIN:DAYLIGHT
TZOFFSETFROM:-0500
TZOFFSETTO:-0400
TZNAME:EDT
DTSTART:20270314T070000
END:DAYLIGHT
BEGIN:STANDARD
TZOFFSETFROM:-0400
TZOFFSETTO:-0500
TZNAME:EST
DTSTART:20271107T060000
END:STANDARD
BEGIN:DAYLIGHT
TZOFFSETFROM:-0500
TZOFFSETTO:-0400
TZNAME:EDT
DTSTART:20280312T070000
END:DAYLIGHT
BEGIN:STANDARD
TZOFFSETFROM:-0400
TZOFFSETTO:-0500
TZNAME:EST
DTSTART:20281105T060000
END:STANDARD
END:VTIMEZONE
BEGIN:VEVENT
DTSTART;TZID=America/New_York:20271003T103000
DTEND;TZID=America/New_York:20271003T113000
DTSTAMP:20260424T101905
CREATED:20241027T213120Z
LAST-MODIFIED:20260410T155829Z
UID:10015462-1822559400-1822563000@unityofsarasota.org
SUMMARY:Sunday Celebration Service at Unity of Sarasota
DESCRIPTION:Sunday Celebration Service at Unity of Sarasota
URL:https://unityofsarasota.org/event/sunday-celebration-service-at-unity-of-sarasota-3/2027-10-03/
LOCATION:Unity of Sarasota\, 3023 Proctor Road\, Sarasota\, FL\, 34231\, United States\, Unity of Sarasota\, 3023 Proctor Road\, Sarasota\, FL\, 34231\, United States
CATEGORIES:Services
ATTACH;FMTTYPE=image/webp:https://unityofsarasota.org/wp-content/uploads/2019/08/Sunday-Celebration-Service-1.webp
END:VEVENT
BEGIN:VEVENT
DTSTART;TZID=America/New_York:20271010T103000
DTEND;TZID=America/New_York:20271010T113000
DTSTAMP:20260424T101905
CREATED:20241027T213120Z
LAST-MODIFIED:20260410T155829Z
UID:10015463-1823164200-1823167800@unityofsarasota.org
SUMMARY:Sunday Celebration Service at Unity of Sarasota
DESCRIPTION:Sunday Celebration Service at Unity of Sarasota
URL:https://unityofsarasota.org/event/sunday-celebration-service-at-unity-of-sarasota-3/2027-10-10/
LOCATION:Unity of Sarasota\, 3023 Proctor Road\, Sarasota\, FL\, 34231\, United States\, Unity of Sarasota\, 3023 Proctor Road\, Sarasota\, FL\, 34231\, United States
CATEGORIES:Services
ATTACH;FMTTYPE=image/webp:https://unityofsarasota.org/wp-content/uploads/2019/08/Sunday-Celebration-Service-1.webp
END:VEVENT
BEGIN:VEVENT
DTSTART;TZID=America/New_York:20271017T103000
DTEND;TZID=America/New_York:20271017T113000
DTSTAMP:20260424T101905
CREATED:20241027T213120Z
LAST-MODIFIED:20260410T155829Z
UID:10015464-1823769000-1823772600@unityofsarasota.org
SUMMARY:Sunday Celebration Service at Unity of Sarasota
DESCRIPTION:Sunday Celebration Service at Unity of Sarasota
URL:https://unityofsarasota.org/event/sunday-celebration-service-at-unity-of-sarasota-3/2027-10-17/
LOCATION:Unity of Sarasota\, 3023 Proctor Road\, Sarasota\, FL\, 34231\, United States\, Unity of Sarasota\, 3023 Proctor Road\, Sarasota\, FL\, 34231\, United States
CATEGORIES:Services
ATTACH;FMTTYPE=image/webp:https://unityofsarasota.org/wp-content/uploads/2019/08/Sunday-Celebration-Service-1.webp
END:VEVENT
BEGIN:VEVENT
DTSTART;TZID=America/New_York:20271024T103000
DTEND;TZID=America/New_York:20271024T113000
DTSTAMP:20260424T101905
CREATED:20241027T213120Z
LAST-MODIFIED:20260410T155829Z
UID:10015465-1824373800-1824377400@unityofsarasota.org
SUMMARY:Sunday Celebration Service at Unity of Sarasota
DESCRIPTION:Sunday Celebration Service at Unity of Sarasota
URL:https://unityofsarasota.org/event/sunday-celebration-service-at-unity-of-sarasota-3/2027-10-24/
LOCATION:Unity of Sarasota\, 3023 Proctor Road\, Sarasota\, FL\, 34231\, United States\, Unity of Sarasota\, 3023 Proctor Road\, Sarasota\, FL\, 34231\, United States
CATEGORIES:Services
ATTACH;FMTTYPE=image/webp:https://unityofsarasota.org/wp-content/uploads/2019/08/Sunday-Celebration-Service-1.webp
END:VEVENT
BEGIN:VEVENT
DTSTART;TZID=America/New_York:20271031T103000
DTEND;TZID=America/New_York:20271031T113000
DTSTAMP:20260424T101905
CREATED:20241027T213120Z
LAST-MODIFIED:20260410T155829Z
UID:10015466-1824978600-1824982200@unityofsarasota.org
SUMMARY:Sunday Celebration Service at Unity of Sarasota
DESCRIPTION:Sunday Celebration Service at Unity of Sarasota
URL:https://unityofsarasota.org/event/sunday-celebration-service-at-unity-of-sarasota-3/2027-10-31/
LOCATION:Unity of Sarasota\, 3023 Proctor Road\, Sarasota\, FL\, 34231\, United States\, Unity of Sarasota\, 3023 Proctor Road\, Sarasota\, FL\, 34231\, United States
CATEGORIES:Services
ATTACH;FMTTYPE=image/webp:https://unityofsarasota.org/wp-content/uploads/2019/08/Sunday-Celebration-Service-1.webp
END:VEVENT
END:VCALENDAR