BEGIN:VCALENDAR
VERSION:2.0
PRODID:-//Unity of Sarasota - ECPv6.15.17.1//NONSGML v1.0//EN
CALSCALE:GREGORIAN
METHOD:PUBLISH
X-ORIGINAL-URL:https://unityofsarasota.org
X-WR-CALDESC:Events for Unity of Sarasota
REFRESH-INTERVAL;VALUE=DURATION:PT1H
X-Robots-Tag:noindex
X-PUBLISHED-TTL:PT1H
BEGIN:VTIMEZONE
TZID:America/New_York
BEGIN:DAYLIGHT
TZOFFSETFROM:-0500
TZOFFSETTO:-0400
TZNAME:EDT
DTSTART:20210314T070000
END:DAYLIGHT
BEGIN:STANDARD
TZOFFSETFROM:-0400
TZOFFSETTO:-0500
TZNAME:EST
DTSTART:20211107T060000
END:STANDARD
BEGIN:DAYLIGHT
TZOFFSETFROM:-0500
TZOFFSETTO:-0400
TZNAME:EDT
DTSTART:20220313T070000
END:DAYLIGHT
BEGIN:STANDARD
TZOFFSETFROM:-0400
TZOFFSETTO:-0500
TZNAME:EST
DTSTART:20221106T060000
END:STANDARD
BEGIN:DAYLIGHT
TZOFFSETFROM:-0500
TZOFFSETTO:-0400
TZNAME:EDT
DTSTART:20230312T070000
END:DAYLIGHT
BEGIN:STANDARD
TZOFFSETFROM:-0400
TZOFFSETTO:-0500
TZNAME:EST
DTSTART:20231105T060000
END:STANDARD
END:VTIMEZONE
BEGIN:VEVENT
DTSTART;TZID=America/New_York:20221224T180000
DTEND;TZID=America/New_York:20221224T190000
DTSTAMP:20260420T201909
CREATED:20221111T191051Z
LAST-MODIFIED:20221207T141932Z
UID:10008923-1671904800-1671908400@unityofsarasota.org
SUMMARY:Christmas Eve Candle-Lighting Service at Unity of Sarasota
DESCRIPTION:Christmas Eve Candle-Lighting Service … Christmas Eve by the Fire – The Other Wise Man at Unity of Sarasota.   Love Offering are appreciated. \n 
URL:https://unityofsarasota.org/event/christmas-eve-candle-lighting-service-at-unity-of-sarasota-2/
LOCATION:Unity of Sarasota\, 3023 Proctor Road\, Sarasota\, FL\, 34231\, United States\, Unity of Sarasota\, 3023 Proctor Road\, Sarasota\, FL\, 34231\, United States
CATEGORIES:Holiday Events,Services
ATTACH;FMTTYPE=image/jpeg:https://unityofsarasota.org/wp-content/uploads/2022/11/Christmas-Eve-Candle-Lighting-Service-2022-copy-scaled.jpg
END:VEVENT
END:VCALENDAR