BEGIN:VCALENDAR
VERSION:2.0
PRODID:-//Unity of Sarasota - ECPv6.15.17.1//NONSGML v1.0//EN
CALSCALE:GREGORIAN
METHOD:PUBLISH
X-WR-CALNAME:Unity of Sarasota
X-ORIGINAL-URL:https://unityofsarasota.org
X-WR-CALDESC:Events for Unity of Sarasota
REFRESH-INTERVAL;VALUE=DURATION:PT1H
X-Robots-Tag:noindex
X-PUBLISHED-TTL:PT1H
BEGIN:VTIMEZONE
TZID:America/New_York
BEGIN:DAYLIGHT
TZOFFSETFROM:-0500
TZOFFSETTO:-0400
TZNAME:EDT
DTSTART:20230312T070000
END:DAYLIGHT
BEGIN:STANDARD
TZOFFSETFROM:-0400
TZOFFSETTO:-0500
TZNAME:EST
DTSTART:20231105T060000
END:STANDARD
BEGIN:DAYLIGHT
TZOFFSETFROM:-0500
TZOFFSETTO:-0400
TZNAME:EDT
DTSTART:20240310T070000
END:DAYLIGHT
BEGIN:STANDARD
TZOFFSETFROM:-0400
TZOFFSETTO:-0500
TZNAME:EST
DTSTART:20241103T060000
END:STANDARD
BEGIN:DAYLIGHT
TZOFFSETFROM:-0500
TZOFFSETTO:-0400
TZNAME:EDT
DTSTART:20250309T070000
END:DAYLIGHT
BEGIN:STANDARD
TZOFFSETFROM:-0400
TZOFFSETTO:-0500
TZNAME:EST
DTSTART:20251102T060000
END:STANDARD
END:VTIMEZONE
BEGIN:VEVENT
DTSTART;TZID=America/New_York:20240329T190000
DTEND;TZID=America/New_York:20240329T200000
DTSTAMP:20260422T022202
CREATED:20240327T023451Z
LAST-MODIFIED:20240327T023451Z
UID:10015016-1711738800-1711742400@unityofsarasota.org
SUMMARY:GOOD FRIDAY SERVICE AT 7PM
DESCRIPTION:GOOD FRIDAY SERVICE AT 7 ON 3/29 \nInspirational music & sacred readings will bring you a new understanding of Jesus’ last words as He made His transition to the next dimension in the flow of Eternal Life. This is a `beautful\, contemplative service that demonstrates the relevance of the story of crucifixion in our own lived experiences.
URL:https://unityofsarasota.org/event/good-friday-service-at-7pm/
CATEGORIES:Services
END:VEVENT
BEGIN:VEVENT
DTSTART;TZID=America/New_York:20240331T103000
DTEND;TZID=America/New_York:20240331T113000
DTSTAMP:20260422T022202
CREATED:20221221T192331Z
LAST-MODIFIED:20250927T134047Z
UID:10002994-1711881000-1711884600@unityofsarasota.org
SUMMARY:Sunday Morning Celebration Service - All Are Welcome Here!
DESCRIPTION:The Sunday Morning Celebration Service is one of joy and reverence for the divine spark in all of us. We gather together in-person and virtually to pray\, sing\, listen\, and rejoice in the celebration of life.  All are welcome here! Unity of Sarasota is a diverse\, inclusive\, accepting and welcoming safe space for everyone! \nPlease remember that we need your support more than ever to keep Unity of Sarasota a Beacon of Light and Love.   Click here to donate now \n  \n  \n  \n  \n 
URL:https://unityofsarasota.org/event/sunday-morning-celebration-service-all-are-welcome-here-2/2024-03-31/
LOCATION:Unity of Sarasota\, 3023 Proctor Road\, Sarasota\, FL\, 34231\, United States\, Unity of Sarasota\, 3023 Proctor Road\, Sarasota\, FL\, 34231\, United States
CATEGORIES:Services
ATTACH;FMTTYPE=image/jpeg:https://unityofsarasota.org/wp-content/uploads/2020/01/All-are-welcome-here-horizontalDec-scaled.jpg
END:VEVENT
BEGIN:VEVENT
DTSTART;TZID=America/New_York:20240331T150000
DTEND;TZID=America/New_York:20240331T160000
DTSTAMP:20260422T022202
CREATED:20230915T010529Z
LAST-MODIFIED:20250927T133849Z
UID:10013208-1711897200-1711900800@unityofsarasota.org
SUMMARY:The Higher Realm Mediumship Service with Natalie Anne
DESCRIPTION:
URL:https://unityofsarasota.org/event/the-higher-realm-mediumship-service-with-natalie-anne/2024-03-31/
CATEGORIES:Services
END:VEVENT
BEGIN:VEVENT
DTSTART;TZID=America/New_York:20240407T103000
DTEND;TZID=America/New_York:20240407T113000
DTSTAMP:20260422T022202
CREATED:20221221T192331Z
LAST-MODIFIED:20250927T134047Z
UID:10002995-1712485800-1712489400@unityofsarasota.org
SUMMARY:Sunday Morning Celebration Service - All Are Welcome Here!
DESCRIPTION:The Sunday Morning Celebration Service is one of joy and reverence for the divine spark in all of us. We gather together in-person and virtually to pray\, sing\, listen\, and rejoice in the celebration of life.  All are welcome here! Unity of Sarasota is a diverse\, inclusive\, accepting and welcoming safe space for everyone! \nPlease remember that we need your support more than ever to keep Unity of Sarasota a Beacon of Light and Love.   Click here to donate now \n  \n  \n  \n  \n 
URL:https://unityofsarasota.org/event/sunday-morning-celebration-service-all-are-welcome-here-2/2024-04-07/
LOCATION:Unity of Sarasota\, 3023 Proctor Road\, Sarasota\, FL\, 34231\, United States\, Unity of Sarasota\, 3023 Proctor Road\, Sarasota\, FL\, 34231\, United States
CATEGORIES:Services
ATTACH;FMTTYPE=image/jpeg:https://unityofsarasota.org/wp-content/uploads/2020/01/All-are-welcome-here-horizontalDec-scaled.jpg
END:VEVENT
BEGIN:VEVENT
DTSTART;TZID=America/New_York:20240407T103000
DTEND;TZID=America/New_York:20240407T113000
DTSTAMP:20260422T022202
CREATED:20240308T041324Z
LAST-MODIFIED:20240308T041419Z
UID:10014606-1712485800-1712489400@unityofsarasota.org
SUMMARY:Guest Speaker  Charley Thweatt
DESCRIPTION:Sunday April 7th – Guest Speaker Charley Thweatt \n“Living in Connection ~ Are You On God’s WIFI?”
URL:https://unityofsarasota.org/event/guest-speaker-charley-thweatt/
CATEGORIES:Services
END:VEVENT
BEGIN:VEVENT
DTSTART;TZID=America/New_York:20240407T103000
DTEND;TZID=America/New_York:20240407T233000
DTSTAMP:20260422T022202
CREATED:20240313T151823Z
LAST-MODIFIED:20240313T151823Z
UID:10014879-1712485800-1712532600@unityofsarasota.org
SUMMARY:Charley Thweatt to hold Sunday Service
DESCRIPTION:
URL:https://unityofsarasota.org/event/charley-thweatt-to-hold-sunday-service/
CATEGORIES:Services
END:VEVENT
BEGIN:VEVENT
DTSTART;TZID=America/New_York:20240407T150000
DTEND;TZID=America/New_York:20240407T160000
DTSTAMP:20260422T022202
CREATED:20230915T010529Z
LAST-MODIFIED:20250927T133849Z
UID:10013209-1712502000-1712505600@unityofsarasota.org
SUMMARY:The Higher Realm Mediumship Service with Natalie Anne
DESCRIPTION:
URL:https://unityofsarasota.org/event/the-higher-realm-mediumship-service-with-natalie-anne/2024-04-07/
CATEGORIES:Services
END:VEVENT
BEGIN:VEVENT
DTSTART;TZID=America/New_York:20240414T103000
DTEND;TZID=America/New_York:20240414T113000
DTSTAMP:20260422T022202
CREATED:20221221T192331Z
LAST-MODIFIED:20250927T134047Z
UID:10002996-1713090600-1713094200@unityofsarasota.org
SUMMARY:Sunday Morning Celebration Service - All Are Welcome Here!
DESCRIPTION:The Sunday Morning Celebration Service is one of joy and reverence for the divine spark in all of us. We gather together in-person and virtually to pray\, sing\, listen\, and rejoice in the celebration of life.  All are welcome here! Unity of Sarasota is a diverse\, inclusive\, accepting and welcoming safe space for everyone! \nPlease remember that we need your support more than ever to keep Unity of Sarasota a Beacon of Light and Love.   Click here to donate now \n  \n  \n  \n  \n 
URL:https://unityofsarasota.org/event/sunday-morning-celebration-service-all-are-welcome-here-2/2024-04-14/
LOCATION:Unity of Sarasota\, 3023 Proctor Road\, Sarasota\, FL\, 34231\, United States\, Unity of Sarasota\, 3023 Proctor Road\, Sarasota\, FL\, 34231\, United States
CATEGORIES:Services
ATTACH;FMTTYPE=image/jpeg:https://unityofsarasota.org/wp-content/uploads/2020/01/All-are-welcome-here-horizontalDec-scaled.jpg
END:VEVENT
BEGIN:VEVENT
DTSTART;TZID=America/New_York:20240414T150000
DTEND;TZID=America/New_York:20240414T160000
DTSTAMP:20260422T022202
CREATED:20230915T010529Z
LAST-MODIFIED:20250927T133849Z
UID:10013210-1713106800-1713110400@unityofsarasota.org
SUMMARY:The Higher Realm Mediumship Service with Natalie Anne
DESCRIPTION:
URL:https://unityofsarasota.org/event/the-higher-realm-mediumship-service-with-natalie-anne/2024-04-14/
CATEGORIES:Services
END:VEVENT
BEGIN:VEVENT
DTSTART;TZID=America/New_York:20240421T103000
DTEND;TZID=America/New_York:20240421T113000
DTSTAMP:20260422T022202
CREATED:20221221T192331Z
LAST-MODIFIED:20250927T134047Z
UID:10002997-1713695400-1713699000@unityofsarasota.org
SUMMARY:Sunday Morning Celebration Service - All Are Welcome Here!
DESCRIPTION:The Sunday Morning Celebration Service is one of joy and reverence for the divine spark in all of us. We gather together in-person and virtually to pray\, sing\, listen\, and rejoice in the celebration of life.  All are welcome here! Unity of Sarasota is a diverse\, inclusive\, accepting and welcoming safe space for everyone! \nPlease remember that we need your support more than ever to keep Unity of Sarasota a Beacon of Light and Love.   Click here to donate now \n  \n  \n  \n  \n 
URL:https://unityofsarasota.org/event/sunday-morning-celebration-service-all-are-welcome-here-2/2024-04-21/
LOCATION:Unity of Sarasota\, 3023 Proctor Road\, Sarasota\, FL\, 34231\, United States\, Unity of Sarasota\, 3023 Proctor Road\, Sarasota\, FL\, 34231\, United States
CATEGORIES:Services
ATTACH;FMTTYPE=image/jpeg:https://unityofsarasota.org/wp-content/uploads/2020/01/All-are-welcome-here-horizontalDec-scaled.jpg
END:VEVENT
BEGIN:VEVENT
DTSTART;TZID=America/New_York:20240421T150000
DTEND;TZID=America/New_York:20240421T160000
DTSTAMP:20260422T022202
CREATED:20230915T010529Z
LAST-MODIFIED:20250927T133849Z
UID:10013211-1713711600-1713715200@unityofsarasota.org
SUMMARY:The Higher Realm Mediumship Service with Natalie Anne
DESCRIPTION:
URL:https://unityofsarasota.org/event/the-higher-realm-mediumship-service-with-natalie-anne/2024-04-21/
CATEGORIES:Services
END:VEVENT
BEGIN:VEVENT
DTSTART;TZID=America/New_York:20240428T103000
DTEND;TZID=America/New_York:20240428T113000
DTSTAMP:20260422T022202
CREATED:20221221T192331Z
LAST-MODIFIED:20250927T134047Z
UID:10002998-1714300200-1714303800@unityofsarasota.org
SUMMARY:Sunday Morning Celebration Service - All Are Welcome Here!
DESCRIPTION:The Sunday Morning Celebration Service is one of joy and reverence for the divine spark in all of us. We gather together in-person and virtually to pray\, sing\, listen\, and rejoice in the celebration of life.  All are welcome here! Unity of Sarasota is a diverse\, inclusive\, accepting and welcoming safe space for everyone! \nPlease remember that we need your support more than ever to keep Unity of Sarasota a Beacon of Light and Love.   Click here to donate now \n  \n  \n  \n  \n 
URL:https://unityofsarasota.org/event/sunday-morning-celebration-service-all-are-welcome-here-2/2024-04-28/
LOCATION:Unity of Sarasota\, 3023 Proctor Road\, Sarasota\, FL\, 34231\, United States\, Unity of Sarasota\, 3023 Proctor Road\, Sarasota\, FL\, 34231\, United States
CATEGORIES:Services
ATTACH;FMTTYPE=image/jpeg:https://unityofsarasota.org/wp-content/uploads/2020/01/All-are-welcome-here-horizontalDec-scaled.jpg
END:VEVENT
BEGIN:VEVENT
DTSTART;TZID=America/New_York:20240428T150000
DTEND;TZID=America/New_York:20240428T160000
DTSTAMP:20260422T022202
CREATED:20230915T010529Z
LAST-MODIFIED:20250927T133849Z
UID:10013212-1714316400-1714320000@unityofsarasota.org
SUMMARY:The Higher Realm Mediumship Service with Natalie Anne
DESCRIPTION:
URL:https://unityofsarasota.org/event/the-higher-realm-mediumship-service-with-natalie-anne/2024-04-28/
CATEGORIES:Services
END:VEVENT
BEGIN:VEVENT
DTSTART;TZID=America/New_York:20240505T103000
DTEND;TZID=America/New_York:20240505T113000
DTSTAMP:20260422T022202
CREATED:20221221T192331Z
LAST-MODIFIED:20250927T134047Z
UID:10002999-1714905000-1714908600@unityofsarasota.org
SUMMARY:Sunday Morning Celebration Service - All Are Welcome Here!
DESCRIPTION:The Sunday Morning Celebration Service is one of joy and reverence for the divine spark in all of us. We gather together in-person and virtually to pray\, sing\, listen\, and rejoice in the celebration of life.  All are welcome here! Unity of Sarasota is a diverse\, inclusive\, accepting and welcoming safe space for everyone! \nPlease remember that we need your support more than ever to keep Unity of Sarasota a Beacon of Light and Love.   Click here to donate now \n  \n  \n  \n  \n 
URL:https://unityofsarasota.org/event/sunday-morning-celebration-service-all-are-welcome-here-2/2024-05-05/
LOCATION:Unity of Sarasota\, 3023 Proctor Road\, Sarasota\, FL\, 34231\, United States\, Unity of Sarasota\, 3023 Proctor Road\, Sarasota\, FL\, 34231\, United States
CATEGORIES:Services
ATTACH;FMTTYPE=image/jpeg:https://unityofsarasota.org/wp-content/uploads/2020/01/All-are-welcome-here-horizontalDec-scaled.jpg
END:VEVENT
BEGIN:VEVENT
DTSTART;TZID=America/New_York:20240505T150000
DTEND;TZID=America/New_York:20240505T160000
DTSTAMP:20260422T022202
CREATED:20230915T010529Z
LAST-MODIFIED:20250927T133849Z
UID:10013213-1714921200-1714924800@unityofsarasota.org
SUMMARY:The Higher Realm Mediumship Service with Natalie Anne
DESCRIPTION:
URL:https://unityofsarasota.org/event/the-higher-realm-mediumship-service-with-natalie-anne/2024-05-05/
CATEGORIES:Services
END:VEVENT
BEGIN:VEVENT
DTSTART;TZID=America/New_York:20240512T103000
DTEND;TZID=America/New_York:20240512T113000
DTSTAMP:20260422T022202
CREATED:20221221T192331Z
LAST-MODIFIED:20250927T134047Z
UID:10003000-1715509800-1715513400@unityofsarasota.org
SUMMARY:Sunday Morning Celebration Service - All Are Welcome Here!
DESCRIPTION:The Sunday Morning Celebration Service is one of joy and reverence for the divine spark in all of us. We gather together in-person and virtually to pray\, sing\, listen\, and rejoice in the celebration of life.  All are welcome here! Unity of Sarasota is a diverse\, inclusive\, accepting and welcoming safe space for everyone! \nPlease remember that we need your support more than ever to keep Unity of Sarasota a Beacon of Light and Love.   Click here to donate now \n  \n  \n  \n  \n 
URL:https://unityofsarasota.org/event/sunday-morning-celebration-service-all-are-welcome-here-2/2024-05-12/
LOCATION:Unity of Sarasota\, 3023 Proctor Road\, Sarasota\, FL\, 34231\, United States\, Unity of Sarasota\, 3023 Proctor Road\, Sarasota\, FL\, 34231\, United States
CATEGORIES:Services
ATTACH;FMTTYPE=image/jpeg:https://unityofsarasota.org/wp-content/uploads/2020/01/All-are-welcome-here-horizontalDec-scaled.jpg
END:VEVENT
BEGIN:VEVENT
DTSTART;TZID=America/New_York:20240512T150000
DTEND;TZID=America/New_York:20240512T160000
DTSTAMP:20260422T022202
CREATED:20230915T010529Z
LAST-MODIFIED:20250927T133849Z
UID:10013214-1715526000-1715529600@unityofsarasota.org
SUMMARY:The Higher Realm Mediumship Service with Natalie Anne
DESCRIPTION:
URL:https://unityofsarasota.org/event/the-higher-realm-mediumship-service-with-natalie-anne/2024-05-12/
CATEGORIES:Services
END:VEVENT
BEGIN:VEVENT
DTSTART;TZID=America/New_York:20240519T103000
DTEND;TZID=America/New_York:20240519T113000
DTSTAMP:20260422T022202
CREATED:20221221T192331Z
LAST-MODIFIED:20250927T134047Z
UID:10003001-1716114600-1716118200@unityofsarasota.org
SUMMARY:Sunday Morning Celebration Service - All Are Welcome Here!
DESCRIPTION:The Sunday Morning Celebration Service is one of joy and reverence for the divine spark in all of us. We gather together in-person and virtually to pray\, sing\, listen\, and rejoice in the celebration of life.  All are welcome here! Unity of Sarasota is a diverse\, inclusive\, accepting and welcoming safe space for everyone! \nPlease remember that we need your support more than ever to keep Unity of Sarasota a Beacon of Light and Love.   Click here to donate now \n  \n  \n  \n  \n 
URL:https://unityofsarasota.org/event/sunday-morning-celebration-service-all-are-welcome-here-2/2024-05-19/
LOCATION:Unity of Sarasota\, 3023 Proctor Road\, Sarasota\, FL\, 34231\, United States\, Unity of Sarasota\, 3023 Proctor Road\, Sarasota\, FL\, 34231\, United States
CATEGORIES:Services
ATTACH;FMTTYPE=image/jpeg:https://unityofsarasota.org/wp-content/uploads/2020/01/All-are-welcome-here-horizontalDec-scaled.jpg
END:VEVENT
BEGIN:VEVENT
DTSTART;TZID=America/New_York:20240519T150000
DTEND;TZID=America/New_York:20240519T160000
DTSTAMP:20260422T022202
CREATED:20230915T010529Z
LAST-MODIFIED:20250927T133849Z
UID:10013215-1716130800-1716134400@unityofsarasota.org
SUMMARY:The Higher Realm Mediumship Service with Natalie Anne
DESCRIPTION:
URL:https://unityofsarasota.org/event/the-higher-realm-mediumship-service-with-natalie-anne/2024-05-19/
CATEGORIES:Services
END:VEVENT
BEGIN:VEVENT
DTSTART;TZID=America/New_York:20240526T103000
DTEND;TZID=America/New_York:20240526T113000
DTSTAMP:20260422T022202
CREATED:20221221T192331Z
LAST-MODIFIED:20250927T134047Z
UID:10003002-1716719400-1716723000@unityofsarasota.org
SUMMARY:Sunday Morning Celebration Service - All Are Welcome Here!
DESCRIPTION:The Sunday Morning Celebration Service is one of joy and reverence for the divine spark in all of us. We gather together in-person and virtually to pray\, sing\, listen\, and rejoice in the celebration of life.  All are welcome here! Unity of Sarasota is a diverse\, inclusive\, accepting and welcoming safe space for everyone! \nPlease remember that we need your support more than ever to keep Unity of Sarasota a Beacon of Light and Love.   Click here to donate now \n  \n  \n  \n  \n 
URL:https://unityofsarasota.org/event/sunday-morning-celebration-service-all-are-welcome-here-2/2024-05-26/
LOCATION:Unity of Sarasota\, 3023 Proctor Road\, Sarasota\, FL\, 34231\, United States\, Unity of Sarasota\, 3023 Proctor Road\, Sarasota\, FL\, 34231\, United States
CATEGORIES:Services
ATTACH;FMTTYPE=image/jpeg:https://unityofsarasota.org/wp-content/uploads/2020/01/All-are-welcome-here-horizontalDec-scaled.jpg
END:VEVENT
BEGIN:VEVENT
DTSTART;TZID=America/New_York:20240526T150000
DTEND;TZID=America/New_York:20240526T160000
DTSTAMP:20260422T022202
CREATED:20230915T010529Z
LAST-MODIFIED:20250927T133849Z
UID:10013216-1716735600-1716739200@unityofsarasota.org
SUMMARY:The Higher Realm Mediumship Service with Natalie Anne
DESCRIPTION:
URL:https://unityofsarasota.org/event/the-higher-realm-mediumship-service-with-natalie-anne/2024-05-26/
CATEGORIES:Services
END:VEVENT
BEGIN:VEVENT
DTSTART;TZID=America/New_York:20240602T103000
DTEND;TZID=America/New_York:20240602T113000
DTSTAMP:20260422T022202
CREATED:20221221T192331Z
LAST-MODIFIED:20250927T134047Z
UID:10003003-1717324200-1717327800@unityofsarasota.org
SUMMARY:Sunday Morning Celebration Service - All Are Welcome Here!
DESCRIPTION:The Sunday Morning Celebration Service is one of joy and reverence for the divine spark in all of us. We gather together in-person and virtually to pray\, sing\, listen\, and rejoice in the celebration of life.  All are welcome here! Unity of Sarasota is a diverse\, inclusive\, accepting and welcoming safe space for everyone! \nPlease remember that we need your support more than ever to keep Unity of Sarasota a Beacon of Light and Love.   Click here to donate now \n  \n  \n  \n  \n 
URL:https://unityofsarasota.org/event/sunday-morning-celebration-service-all-are-welcome-here-2/2024-06-02/
LOCATION:Unity of Sarasota\, 3023 Proctor Road\, Sarasota\, FL\, 34231\, United States\, Unity of Sarasota\, 3023 Proctor Road\, Sarasota\, FL\, 34231\, United States
CATEGORIES:Services
ATTACH;FMTTYPE=image/jpeg:https://unityofsarasota.org/wp-content/uploads/2020/01/All-are-welcome-here-horizontalDec-scaled.jpg
END:VEVENT
BEGIN:VEVENT
DTSTART;TZID=America/New_York:20240602T150000
DTEND;TZID=America/New_York:20240602T160000
DTSTAMP:20260422T022202
CREATED:20230915T010529Z
LAST-MODIFIED:20250927T133849Z
UID:10013217-1717340400-1717344000@unityofsarasota.org
SUMMARY:The Higher Realm Mediumship Service with Natalie Anne
DESCRIPTION:
URL:https://unityofsarasota.org/event/the-higher-realm-mediumship-service-with-natalie-anne/2024-06-02/
CATEGORIES:Services
END:VEVENT
BEGIN:VEVENT
DTSTART;TZID=America/New_York:20240609T103000
DTEND;TZID=America/New_York:20240609T113000
DTSTAMP:20260422T022202
CREATED:20221221T192331Z
LAST-MODIFIED:20250927T134047Z
UID:10003004-1717929000-1717932600@unityofsarasota.org
SUMMARY:Sunday Morning Celebration Service - All Are Welcome Here!
DESCRIPTION:The Sunday Morning Celebration Service is one of joy and reverence for the divine spark in all of us. We gather together in-person and virtually to pray\, sing\, listen\, and rejoice in the celebration of life.  All are welcome here! Unity of Sarasota is a diverse\, inclusive\, accepting and welcoming safe space for everyone! \nPlease remember that we need your support more than ever to keep Unity of Sarasota a Beacon of Light and Love.   Click here to donate now \n  \n  \n  \n  \n 
URL:https://unityofsarasota.org/event/sunday-morning-celebration-service-all-are-welcome-here-2/2024-06-09/
LOCATION:Unity of Sarasota\, 3023 Proctor Road\, Sarasota\, FL\, 34231\, United States\, Unity of Sarasota\, 3023 Proctor Road\, Sarasota\, FL\, 34231\, United States
CATEGORIES:Services
ATTACH;FMTTYPE=image/jpeg:https://unityofsarasota.org/wp-content/uploads/2020/01/All-are-welcome-here-horizontalDec-scaled.jpg
END:VEVENT
BEGIN:VEVENT
DTSTART;TZID=America/New_York:20240609T150000
DTEND;TZID=America/New_York:20240609T160000
DTSTAMP:20260422T022202
CREATED:20230915T010529Z
LAST-MODIFIED:20250927T133849Z
UID:10013218-1717945200-1717948800@unityofsarasota.org
SUMMARY:The Higher Realm Mediumship Service with Natalie Anne
DESCRIPTION:
URL:https://unityofsarasota.org/event/the-higher-realm-mediumship-service-with-natalie-anne/2024-06-09/
CATEGORIES:Services
END:VEVENT
BEGIN:VEVENT
DTSTART;TZID=America/New_York:20240616T103000
DTEND;TZID=America/New_York:20240616T113000
DTSTAMP:20260422T022202
CREATED:20221221T192331Z
LAST-MODIFIED:20250927T134047Z
UID:10003005-1718533800-1718537400@unityofsarasota.org
SUMMARY:Sunday Morning Celebration Service - All Are Welcome Here!
DESCRIPTION:The Sunday Morning Celebration Service is one of joy and reverence for the divine spark in all of us. We gather together in-person and virtually to pray\, sing\, listen\, and rejoice in the celebration of life.  All are welcome here! Unity of Sarasota is a diverse\, inclusive\, accepting and welcoming safe space for everyone! \nPlease remember that we need your support more than ever to keep Unity of Sarasota a Beacon of Light and Love.   Click here to donate now \n  \n  \n  \n  \n 
URL:https://unityofsarasota.org/event/sunday-morning-celebration-service-all-are-welcome-here-2/2024-06-16/
LOCATION:Unity of Sarasota\, 3023 Proctor Road\, Sarasota\, FL\, 34231\, United States\, Unity of Sarasota\, 3023 Proctor Road\, Sarasota\, FL\, 34231\, United States
CATEGORIES:Services
ATTACH;FMTTYPE=image/jpeg:https://unityofsarasota.org/wp-content/uploads/2020/01/All-are-welcome-here-horizontalDec-scaled.jpg
END:VEVENT
BEGIN:VEVENT
DTSTART;TZID=America/New_York:20240616T150000
DTEND;TZID=America/New_York:20240616T160000
DTSTAMP:20260422T022202
CREATED:20230915T010529Z
LAST-MODIFIED:20250927T133849Z
UID:10013219-1718550000-1718553600@unityofsarasota.org
SUMMARY:The Higher Realm Mediumship Service with Natalie Anne
DESCRIPTION:
URL:https://unityofsarasota.org/event/the-higher-realm-mediumship-service-with-natalie-anne/2024-06-16/
CATEGORIES:Services
END:VEVENT
BEGIN:VEVENT
DTSTART;TZID=America/New_York:20240623T103000
DTEND;TZID=America/New_York:20240623T113000
DTSTAMP:20260422T022202
CREATED:20221221T192331Z
LAST-MODIFIED:20250927T134047Z
UID:10003006-1719138600-1719142200@unityofsarasota.org
SUMMARY:Sunday Morning Celebration Service - All Are Welcome Here!
DESCRIPTION:The Sunday Morning Celebration Service is one of joy and reverence for the divine spark in all of us. We gather together in-person and virtually to pray\, sing\, listen\, and rejoice in the celebration of life.  All are welcome here! Unity of Sarasota is a diverse\, inclusive\, accepting and welcoming safe space for everyone! \nPlease remember that we need your support more than ever to keep Unity of Sarasota a Beacon of Light and Love.   Click here to donate now \n  \n  \n  \n  \n 
URL:https://unityofsarasota.org/event/sunday-morning-celebration-service-all-are-welcome-here-2/2024-06-23/
LOCATION:Unity of Sarasota\, 3023 Proctor Road\, Sarasota\, FL\, 34231\, United States\, Unity of Sarasota\, 3023 Proctor Road\, Sarasota\, FL\, 34231\, United States
CATEGORIES:Services
ATTACH;FMTTYPE=image/jpeg:https://unityofsarasota.org/wp-content/uploads/2020/01/All-are-welcome-here-horizontalDec-scaled.jpg
END:VEVENT
BEGIN:VEVENT
DTSTART;TZID=America/New_York:20240623T150000
DTEND;TZID=America/New_York:20240623T160000
DTSTAMP:20260422T022202
CREATED:20230915T010529Z
LAST-MODIFIED:20250927T133849Z
UID:10013220-1719154800-1719158400@unityofsarasota.org
SUMMARY:The Higher Realm Mediumship Service with Natalie Anne
DESCRIPTION:
URL:https://unityofsarasota.org/event/the-higher-realm-mediumship-service-with-natalie-anne/2024-06-23/
CATEGORIES:Services
END:VEVENT
BEGIN:VEVENT
DTSTART;TZID=America/New_York:20240630T103000
DTEND;TZID=America/New_York:20240630T113000
DTSTAMP:20260422T022202
CREATED:20221221T192331Z
LAST-MODIFIED:20250927T134047Z
UID:10003007-1719743400-1719747000@unityofsarasota.org
SUMMARY:Sunday Morning Celebration Service - All Are Welcome Here!
DESCRIPTION:The Sunday Morning Celebration Service is one of joy and reverence for the divine spark in all of us. We gather together in-person and virtually to pray\, sing\, listen\, and rejoice in the celebration of life.  All are welcome here! Unity of Sarasota is a diverse\, inclusive\, accepting and welcoming safe space for everyone! \nPlease remember that we need your support more than ever to keep Unity of Sarasota a Beacon of Light and Love.   Click here to donate now \n  \n  \n  \n  \n 
URL:https://unityofsarasota.org/event/sunday-morning-celebration-service-all-are-welcome-here-2/2024-06-30/
LOCATION:Unity of Sarasota\, 3023 Proctor Road\, Sarasota\, FL\, 34231\, United States\, Unity of Sarasota\, 3023 Proctor Road\, Sarasota\, FL\, 34231\, United States
CATEGORIES:Services
ATTACH;FMTTYPE=image/jpeg:https://unityofsarasota.org/wp-content/uploads/2020/01/All-are-welcome-here-horizontalDec-scaled.jpg
END:VEVENT
END:VCALENDAR