BEGIN:VCALENDAR
VERSION:2.0
PRODID:-//Unity of Sarasota - ECPv6.15.17.1//NONSGML v1.0//EN
CALSCALE:GREGORIAN
METHOD:PUBLISH
X-WR-CALNAME:Unity of Sarasota
X-ORIGINAL-URL:https://unityofsarasota.org
X-WR-CALDESC:Events for Unity of Sarasota
REFRESH-INTERVAL;VALUE=DURATION:PT1H
X-Robots-Tag:noindex
X-PUBLISHED-TTL:PT1H
BEGIN:VTIMEZONE
TZID:America/New_York
BEGIN:DAYLIGHT
TZOFFSETFROM:-0500
TZOFFSETTO:-0400
TZNAME:EDT
DTSTART:20280312T070000
END:DAYLIGHT
BEGIN:STANDARD
TZOFFSETFROM:-0400
TZOFFSETTO:-0500
TZNAME:EST
DTSTART:20281105T060000
END:STANDARD
BEGIN:DAYLIGHT
TZOFFSETFROM:-0500
TZOFFSETTO:-0400
TZNAME:EDT
DTSTART:20290311T070000
END:DAYLIGHT
BEGIN:STANDARD
TZOFFSETFROM:-0400
TZOFFSETTO:-0500
TZNAME:EST
DTSTART:20291104T060000
END:STANDARD
BEGIN:DAYLIGHT
TZOFFSETFROM:-0500
TZOFFSETTO:-0400
TZNAME:EDT
DTSTART:20300310T070000
END:DAYLIGHT
BEGIN:STANDARD
TZOFFSETFROM:-0400
TZOFFSETTO:-0500
TZNAME:EST
DTSTART:20301103T060000
END:STANDARD
BEGIN:DAYLIGHT
TZOFFSETFROM:-0500
TZOFFSETTO:-0400
TZNAME:EDT
DTSTART:20310309T070000
END:DAYLIGHT
BEGIN:STANDARD
TZOFFSETFROM:-0400
TZOFFSETTO:-0500
TZNAME:EST
DTSTART:20311102T060000
END:STANDARD
END:VTIMEZONE
BEGIN:VEVENT
DTSTART;TZID=America/New_York:20291104T103000
DTEND;TZID=America/New_York:20291104T113000
DTSTAMP:20260420T151702
CREATED:20241027T213120Z
LAST-MODIFIED:20260410T155829Z
UID:10019388-1888482600-1888486200@unityofsarasota.org
SUMMARY:Sunday Celebration Service at Unity of Sarasota
DESCRIPTION:Sunday Celebration Service at Unity of Sarasota
URL:https://unityofsarasota.org/event/sunday-celebration-service-at-unity-of-sarasota-3/2029-11-04/
LOCATION:Unity of Sarasota\, 3023 Proctor Road\, Sarasota\, FL\, 34231\, United States\, Unity of Sarasota\, 3023 Proctor Road\, Sarasota\, FL\, 34231\, United States
CATEGORIES:Services
ATTACH;FMTTYPE=image/webp:https://unityofsarasota.org/wp-content/uploads/2019/08/Sunday-Celebration-Service-1.webp
END:VEVENT
BEGIN:VEVENT
DTSTART;TZID=America/New_York:20291111T103000
DTEND;TZID=America/New_York:20291111T113000
DTSTAMP:20260420T151702
CREATED:20241027T213120Z
LAST-MODIFIED:20260410T155829Z
UID:10019389-1889087400-1889091000@unityofsarasota.org
SUMMARY:Sunday Celebration Service at Unity of Sarasota
DESCRIPTION:Sunday Celebration Service at Unity of Sarasota
URL:https://unityofsarasota.org/event/sunday-celebration-service-at-unity-of-sarasota-3/2029-11-11/
LOCATION:Unity of Sarasota\, 3023 Proctor Road\, Sarasota\, FL\, 34231\, United States\, Unity of Sarasota\, 3023 Proctor Road\, Sarasota\, FL\, 34231\, United States
CATEGORIES:Services
ATTACH;FMTTYPE=image/webp:https://unityofsarasota.org/wp-content/uploads/2019/08/Sunday-Celebration-Service-1.webp
END:VEVENT
BEGIN:VEVENT
DTSTART;TZID=America/New_York:20291118T103000
DTEND;TZID=America/New_York:20291118T113000
DTSTAMP:20260420T151702
CREATED:20241027T213120Z
LAST-MODIFIED:20260410T155829Z
UID:10019390-1889692200-1889695800@unityofsarasota.org
SUMMARY:Sunday Celebration Service at Unity of Sarasota
DESCRIPTION:Sunday Celebration Service at Unity of Sarasota
URL:https://unityofsarasota.org/event/sunday-celebration-service-at-unity-of-sarasota-3/2029-11-18/
LOCATION:Unity of Sarasota\, 3023 Proctor Road\, Sarasota\, FL\, 34231\, United States\, Unity of Sarasota\, 3023 Proctor Road\, Sarasota\, FL\, 34231\, United States
CATEGORIES:Services
ATTACH;FMTTYPE=image/webp:https://unityofsarasota.org/wp-content/uploads/2019/08/Sunday-Celebration-Service-1.webp
END:VEVENT
BEGIN:VEVENT
DTSTART;TZID=America/New_York:20291125T103000
DTEND;TZID=America/New_York:20291125T113000
DTSTAMP:20260420T151702
CREATED:20241027T213120Z
LAST-MODIFIED:20260410T155829Z
UID:10019391-1890297000-1890300600@unityofsarasota.org
SUMMARY:Sunday Celebration Service at Unity of Sarasota
DESCRIPTION:Sunday Celebration Service at Unity of Sarasota
URL:https://unityofsarasota.org/event/sunday-celebration-service-at-unity-of-sarasota-3/2029-11-25/
LOCATION:Unity of Sarasota\, 3023 Proctor Road\, Sarasota\, FL\, 34231\, United States\, Unity of Sarasota\, 3023 Proctor Road\, Sarasota\, FL\, 34231\, United States
CATEGORIES:Services
ATTACH;FMTTYPE=image/webp:https://unityofsarasota.org/wp-content/uploads/2019/08/Sunday-Celebration-Service-1.webp
END:VEVENT
BEGIN:VEVENT
DTSTART;TZID=America/New_York:20291202T103000
DTEND;TZID=America/New_York:20291202T113000
DTSTAMP:20260420T151702
CREATED:20241027T213120Z
LAST-MODIFIED:20260410T155829Z
UID:10019392-1890901800-1890905400@unityofsarasota.org
SUMMARY:Sunday Celebration Service at Unity of Sarasota
DESCRIPTION:Sunday Celebration Service at Unity of Sarasota
URL:https://unityofsarasota.org/event/sunday-celebration-service-at-unity-of-sarasota-3/2029-12-02/
LOCATION:Unity of Sarasota\, 3023 Proctor Road\, Sarasota\, FL\, 34231\, United States\, Unity of Sarasota\, 3023 Proctor Road\, Sarasota\, FL\, 34231\, United States
CATEGORIES:Services
ATTACH;FMTTYPE=image/webp:https://unityofsarasota.org/wp-content/uploads/2019/08/Sunday-Celebration-Service-1.webp
END:VEVENT
BEGIN:VEVENT
DTSTART;TZID=America/New_York:20291209T103000
DTEND;TZID=America/New_York:20291209T113000
DTSTAMP:20260420T151702
CREATED:20241027T213120Z
LAST-MODIFIED:20260410T155829Z
UID:10019393-1891506600-1891510200@unityofsarasota.org
SUMMARY:Sunday Celebration Service at Unity of Sarasota
DESCRIPTION:Sunday Celebration Service at Unity of Sarasota
URL:https://unityofsarasota.org/event/sunday-celebration-service-at-unity-of-sarasota-3/2029-12-09/
LOCATION:Unity of Sarasota\, 3023 Proctor Road\, Sarasota\, FL\, 34231\, United States\, Unity of Sarasota\, 3023 Proctor Road\, Sarasota\, FL\, 34231\, United States
CATEGORIES:Services
ATTACH;FMTTYPE=image/webp:https://unityofsarasota.org/wp-content/uploads/2019/08/Sunday-Celebration-Service-1.webp
END:VEVENT
BEGIN:VEVENT
DTSTART;TZID=America/New_York:20291216T103000
DTEND;TZID=America/New_York:20291216T113000
DTSTAMP:20260420T151702
CREATED:20241027T213120Z
LAST-MODIFIED:20260410T155829Z
UID:10019394-1892111400-1892115000@unityofsarasota.org
SUMMARY:Sunday Celebration Service at Unity of Sarasota
DESCRIPTION:Sunday Celebration Service at Unity of Sarasota
URL:https://unityofsarasota.org/event/sunday-celebration-service-at-unity-of-sarasota-3/2029-12-16/
LOCATION:Unity of Sarasota\, 3023 Proctor Road\, Sarasota\, FL\, 34231\, United States\, Unity of Sarasota\, 3023 Proctor Road\, Sarasota\, FL\, 34231\, United States
CATEGORIES:Services
ATTACH;FMTTYPE=image/webp:https://unityofsarasota.org/wp-content/uploads/2019/08/Sunday-Celebration-Service-1.webp
END:VEVENT
BEGIN:VEVENT
DTSTART;TZID=America/New_York:20291223T103000
DTEND;TZID=America/New_York:20291223T113000
DTSTAMP:20260420T151702
CREATED:20241027T213120Z
LAST-MODIFIED:20260410T155829Z
UID:10019395-1892716200-1892719800@unityofsarasota.org
SUMMARY:Sunday Celebration Service at Unity of Sarasota
DESCRIPTION:Sunday Celebration Service at Unity of Sarasota
URL:https://unityofsarasota.org/event/sunday-celebration-service-at-unity-of-sarasota-3/2029-12-23/
LOCATION:Unity of Sarasota\, 3023 Proctor Road\, Sarasota\, FL\, 34231\, United States\, Unity of Sarasota\, 3023 Proctor Road\, Sarasota\, FL\, 34231\, United States
CATEGORIES:Services
ATTACH;FMTTYPE=image/webp:https://unityofsarasota.org/wp-content/uploads/2019/08/Sunday-Celebration-Service-1.webp
END:VEVENT
BEGIN:VEVENT
DTSTART;TZID=America/New_York:20291230T103000
DTEND;TZID=America/New_York:20291230T113000
DTSTAMP:20260420T151702
CREATED:20241027T213120Z
LAST-MODIFIED:20260410T155829Z
UID:10019396-1893321000-1893324600@unityofsarasota.org
SUMMARY:Sunday Celebration Service at Unity of Sarasota
DESCRIPTION:Sunday Celebration Service at Unity of Sarasota
URL:https://unityofsarasota.org/event/sunday-celebration-service-at-unity-of-sarasota-3/2029-12-30/
LOCATION:Unity of Sarasota\, 3023 Proctor Road\, Sarasota\, FL\, 34231\, United States\, Unity of Sarasota\, 3023 Proctor Road\, Sarasota\, FL\, 34231\, United States
CATEGORIES:Services
ATTACH;FMTTYPE=image/webp:https://unityofsarasota.org/wp-content/uploads/2019/08/Sunday-Celebration-Service-1.webp
END:VEVENT
BEGIN:VEVENT
DTSTART;TZID=America/New_York:20300106T103000
DTEND;TZID=America/New_York:20300106T113000
DTSTAMP:20260420T151702
CREATED:20241027T213120Z
LAST-MODIFIED:20260410T155829Z
UID:10019397-1893925800-1893929400@unityofsarasota.org
SUMMARY:Sunday Celebration Service at Unity of Sarasota
DESCRIPTION:Sunday Celebration Service at Unity of Sarasota
URL:https://unityofsarasota.org/event/sunday-celebration-service-at-unity-of-sarasota-3/2030-01-06/
LOCATION:Unity of Sarasota\, 3023 Proctor Road\, Sarasota\, FL\, 34231\, United States\, Unity of Sarasota\, 3023 Proctor Road\, Sarasota\, FL\, 34231\, United States
CATEGORIES:Services
ATTACH;FMTTYPE=image/webp:https://unityofsarasota.org/wp-content/uploads/2019/08/Sunday-Celebration-Service-1.webp
END:VEVENT
BEGIN:VEVENT
DTSTART;TZID=America/New_York:20300113T103000
DTEND;TZID=America/New_York:20300113T113000
DTSTAMP:20260420T151702
CREATED:20241027T213120Z
LAST-MODIFIED:20260410T155829Z
UID:10019398-1894530600-1894534200@unityofsarasota.org
SUMMARY:Sunday Celebration Service at Unity of Sarasota
DESCRIPTION:Sunday Celebration Service at Unity of Sarasota
URL:https://unityofsarasota.org/event/sunday-celebration-service-at-unity-of-sarasota-3/2030-01-13/
LOCATION:Unity of Sarasota\, 3023 Proctor Road\, Sarasota\, FL\, 34231\, United States\, Unity of Sarasota\, 3023 Proctor Road\, Sarasota\, FL\, 34231\, United States
CATEGORIES:Services
ATTACH;FMTTYPE=image/webp:https://unityofsarasota.org/wp-content/uploads/2019/08/Sunday-Celebration-Service-1.webp
END:VEVENT
BEGIN:VEVENT
DTSTART;TZID=America/New_York:20300120T103000
DTEND;TZID=America/New_York:20300120T113000
DTSTAMP:20260420T151702
CREATED:20241027T213120Z
LAST-MODIFIED:20260410T155829Z
UID:10019399-1895135400-1895139000@unityofsarasota.org
SUMMARY:Sunday Celebration Service at Unity of Sarasota
DESCRIPTION:Sunday Celebration Service at Unity of Sarasota
URL:https://unityofsarasota.org/event/sunday-celebration-service-at-unity-of-sarasota-3/2030-01-20/
LOCATION:Unity of Sarasota\, 3023 Proctor Road\, Sarasota\, FL\, 34231\, United States\, Unity of Sarasota\, 3023 Proctor Road\, Sarasota\, FL\, 34231\, United States
CATEGORIES:Services
ATTACH;FMTTYPE=image/webp:https://unityofsarasota.org/wp-content/uploads/2019/08/Sunday-Celebration-Service-1.webp
END:VEVENT
BEGIN:VEVENT
DTSTART;TZID=America/New_York:20300127T103000
DTEND;TZID=America/New_York:20300127T113000
DTSTAMP:20260420T151702
CREATED:20241027T213120Z
LAST-MODIFIED:20260410T155829Z
UID:10019400-1895740200-1895743800@unityofsarasota.org
SUMMARY:Sunday Celebration Service at Unity of Sarasota
DESCRIPTION:Sunday Celebration Service at Unity of Sarasota
URL:https://unityofsarasota.org/event/sunday-celebration-service-at-unity-of-sarasota-3/2030-01-27/
LOCATION:Unity of Sarasota\, 3023 Proctor Road\, Sarasota\, FL\, 34231\, United States\, Unity of Sarasota\, 3023 Proctor Road\, Sarasota\, FL\, 34231\, United States
CATEGORIES:Services
ATTACH;FMTTYPE=image/webp:https://unityofsarasota.org/wp-content/uploads/2019/08/Sunday-Celebration-Service-1.webp
END:VEVENT
BEGIN:VEVENT
DTSTART;TZID=America/New_York:20300203T103000
DTEND;TZID=America/New_York:20300203T113000
DTSTAMP:20260420T151702
CREATED:20241027T213120Z
LAST-MODIFIED:20260410T155829Z
UID:10019401-1896345000-1896348600@unityofsarasota.org
SUMMARY:Sunday Celebration Service at Unity of Sarasota
DESCRIPTION:Sunday Celebration Service at Unity of Sarasota
URL:https://unityofsarasota.org/event/sunday-celebration-service-at-unity-of-sarasota-3/2030-02-03/
LOCATION:Unity of Sarasota\, 3023 Proctor Road\, Sarasota\, FL\, 34231\, United States\, Unity of Sarasota\, 3023 Proctor Road\, Sarasota\, FL\, 34231\, United States
CATEGORIES:Services
ATTACH;FMTTYPE=image/webp:https://unityofsarasota.org/wp-content/uploads/2019/08/Sunday-Celebration-Service-1.webp
END:VEVENT
BEGIN:VEVENT
DTSTART;TZID=America/New_York:20300210T103000
DTEND;TZID=America/New_York:20300210T113000
DTSTAMP:20260420T151702
CREATED:20241027T213120Z
LAST-MODIFIED:20260410T155829Z
UID:10019402-1896949800-1896953400@unityofsarasota.org
SUMMARY:Sunday Celebration Service at Unity of Sarasota
DESCRIPTION:Sunday Celebration Service at Unity of Sarasota
URL:https://unityofsarasota.org/event/sunday-celebration-service-at-unity-of-sarasota-3/2030-02-10/
LOCATION:Unity of Sarasota\, 3023 Proctor Road\, Sarasota\, FL\, 34231\, United States\, Unity of Sarasota\, 3023 Proctor Road\, Sarasota\, FL\, 34231\, United States
CATEGORIES:Services
ATTACH;FMTTYPE=image/webp:https://unityofsarasota.org/wp-content/uploads/2019/08/Sunday-Celebration-Service-1.webp
END:VEVENT
BEGIN:VEVENT
DTSTART;TZID=America/New_York:20300217T103000
DTEND;TZID=America/New_York:20300217T113000
DTSTAMP:20260420T151702
CREATED:20241027T213120Z
LAST-MODIFIED:20260410T155829Z
UID:10019403-1897554600-1897558200@unityofsarasota.org
SUMMARY:Sunday Celebration Service at Unity of Sarasota
DESCRIPTION:Sunday Celebration Service at Unity of Sarasota
URL:https://unityofsarasota.org/event/sunday-celebration-service-at-unity-of-sarasota-3/2030-02-17/
LOCATION:Unity of Sarasota\, 3023 Proctor Road\, Sarasota\, FL\, 34231\, United States\, Unity of Sarasota\, 3023 Proctor Road\, Sarasota\, FL\, 34231\, United States
CATEGORIES:Services
ATTACH;FMTTYPE=image/webp:https://unityofsarasota.org/wp-content/uploads/2019/08/Sunday-Celebration-Service-1.webp
END:VEVENT
BEGIN:VEVENT
DTSTART;TZID=America/New_York:20300224T103000
DTEND;TZID=America/New_York:20300224T113000
DTSTAMP:20260420T151702
CREATED:20241027T213120Z
LAST-MODIFIED:20260410T155829Z
UID:10019404-1898159400-1898163000@unityofsarasota.org
SUMMARY:Sunday Celebration Service at Unity of Sarasota
DESCRIPTION:Sunday Celebration Service at Unity of Sarasota
URL:https://unityofsarasota.org/event/sunday-celebration-service-at-unity-of-sarasota-3/2030-02-24/
LOCATION:Unity of Sarasota\, 3023 Proctor Road\, Sarasota\, FL\, 34231\, United States\, Unity of Sarasota\, 3023 Proctor Road\, Sarasota\, FL\, 34231\, United States
CATEGORIES:Services
ATTACH;FMTTYPE=image/webp:https://unityofsarasota.org/wp-content/uploads/2019/08/Sunday-Celebration-Service-1.webp
END:VEVENT
BEGIN:VEVENT
DTSTART;TZID=America/New_York:20300303T103000
DTEND;TZID=America/New_York:20300303T113000
DTSTAMP:20260420T151702
CREATED:20241027T213120Z
LAST-MODIFIED:20260410T155829Z
UID:10019405-1898764200-1898767800@unityofsarasota.org
SUMMARY:Sunday Celebration Service at Unity of Sarasota
DESCRIPTION:Sunday Celebration Service at Unity of Sarasota
URL:https://unityofsarasota.org/event/sunday-celebration-service-at-unity-of-sarasota-3/2030-03-03/
LOCATION:Unity of Sarasota\, 3023 Proctor Road\, Sarasota\, FL\, 34231\, United States\, Unity of Sarasota\, 3023 Proctor Road\, Sarasota\, FL\, 34231\, United States
CATEGORIES:Services
ATTACH;FMTTYPE=image/webp:https://unityofsarasota.org/wp-content/uploads/2019/08/Sunday-Celebration-Service-1.webp
END:VEVENT
BEGIN:VEVENT
DTSTART;TZID=America/New_York:20300310T103000
DTEND;TZID=America/New_York:20300310T113000
DTSTAMP:20260420T151702
CREATED:20241027T213120Z
LAST-MODIFIED:20260410T155829Z
UID:10019406-1899369000-1899372600@unityofsarasota.org
SUMMARY:Sunday Celebration Service at Unity of Sarasota
DESCRIPTION:Sunday Celebration Service at Unity of Sarasota
URL:https://unityofsarasota.org/event/sunday-celebration-service-at-unity-of-sarasota-3/2030-03-10/
LOCATION:Unity of Sarasota\, 3023 Proctor Road\, Sarasota\, FL\, 34231\, United States\, Unity of Sarasota\, 3023 Proctor Road\, Sarasota\, FL\, 34231\, United States
CATEGORIES:Services
ATTACH;FMTTYPE=image/webp:https://unityofsarasota.org/wp-content/uploads/2019/08/Sunday-Celebration-Service-1.webp
END:VEVENT
BEGIN:VEVENT
DTSTART;TZID=America/New_York:20300317T103000
DTEND;TZID=America/New_York:20300317T113000
DTSTAMP:20260420T151702
CREATED:20241027T213120Z
LAST-MODIFIED:20260410T155829Z
UID:10019407-1899973800-1899977400@unityofsarasota.org
SUMMARY:Sunday Celebration Service at Unity of Sarasota
DESCRIPTION:Sunday Celebration Service at Unity of Sarasota
URL:https://unityofsarasota.org/event/sunday-celebration-service-at-unity-of-sarasota-3/2030-03-17/
LOCATION:Unity of Sarasota\, 3023 Proctor Road\, Sarasota\, FL\, 34231\, United States\, Unity of Sarasota\, 3023 Proctor Road\, Sarasota\, FL\, 34231\, United States
CATEGORIES:Services
ATTACH;FMTTYPE=image/webp:https://unityofsarasota.org/wp-content/uploads/2019/08/Sunday-Celebration-Service-1.webp
END:VEVENT
BEGIN:VEVENT
DTSTART;TZID=America/New_York:20300324T103000
DTEND;TZID=America/New_York:20300324T113000
DTSTAMP:20260420T151702
CREATED:20241027T213120Z
LAST-MODIFIED:20260410T155829Z
UID:10019408-1900578600-1900582200@unityofsarasota.org
SUMMARY:Sunday Celebration Service at Unity of Sarasota
DESCRIPTION:Sunday Celebration Service at Unity of Sarasota
URL:https://unityofsarasota.org/event/sunday-celebration-service-at-unity-of-sarasota-3/2030-03-24/
LOCATION:Unity of Sarasota\, 3023 Proctor Road\, Sarasota\, FL\, 34231\, United States\, Unity of Sarasota\, 3023 Proctor Road\, Sarasota\, FL\, 34231\, United States
CATEGORIES:Services
ATTACH;FMTTYPE=image/webp:https://unityofsarasota.org/wp-content/uploads/2019/08/Sunday-Celebration-Service-1.webp
END:VEVENT
BEGIN:VEVENT
DTSTART;TZID=America/New_York:20300331T103000
DTEND;TZID=America/New_York:20300331T113000
DTSTAMP:20260420T151702
CREATED:20241027T213120Z
LAST-MODIFIED:20260410T155829Z
UID:10019409-1901183400-1901187000@unityofsarasota.org
SUMMARY:Sunday Celebration Service at Unity of Sarasota
DESCRIPTION:Sunday Celebration Service at Unity of Sarasota
URL:https://unityofsarasota.org/event/sunday-celebration-service-at-unity-of-sarasota-3/2030-03-31/
LOCATION:Unity of Sarasota\, 3023 Proctor Road\, Sarasota\, FL\, 34231\, United States\, Unity of Sarasota\, 3023 Proctor Road\, Sarasota\, FL\, 34231\, United States
CATEGORIES:Services
ATTACH;FMTTYPE=image/webp:https://unityofsarasota.org/wp-content/uploads/2019/08/Sunday-Celebration-Service-1.webp
END:VEVENT
BEGIN:VEVENT
DTSTART;TZID=America/New_York:20300407T103000
DTEND;TZID=America/New_York:20300407T113000
DTSTAMP:20260420T151702
CREATED:20241027T213120Z
LAST-MODIFIED:20260410T155829Z
UID:10019410-1901788200-1901791800@unityofsarasota.org
SUMMARY:Sunday Celebration Service at Unity of Sarasota
DESCRIPTION:Sunday Celebration Service at Unity of Sarasota
URL:https://unityofsarasota.org/event/sunday-celebration-service-at-unity-of-sarasota-3/2030-04-07/
LOCATION:Unity of Sarasota\, 3023 Proctor Road\, Sarasota\, FL\, 34231\, United States\, Unity of Sarasota\, 3023 Proctor Road\, Sarasota\, FL\, 34231\, United States
CATEGORIES:Services
ATTACH;FMTTYPE=image/webp:https://unityofsarasota.org/wp-content/uploads/2019/08/Sunday-Celebration-Service-1.webp
END:VEVENT
BEGIN:VEVENT
DTSTART;TZID=America/New_York:20300414T103000
DTEND;TZID=America/New_York:20300414T113000
DTSTAMP:20260420T151702
CREATED:20241027T213120Z
LAST-MODIFIED:20260410T155829Z
UID:10019411-1902393000-1902396600@unityofsarasota.org
SUMMARY:Sunday Celebration Service at Unity of Sarasota
DESCRIPTION:Sunday Celebration Service at Unity of Sarasota
URL:https://unityofsarasota.org/event/sunday-celebration-service-at-unity-of-sarasota-3/2030-04-14/
LOCATION:Unity of Sarasota\, 3023 Proctor Road\, Sarasota\, FL\, 34231\, United States\, Unity of Sarasota\, 3023 Proctor Road\, Sarasota\, FL\, 34231\, United States
CATEGORIES:Services
ATTACH;FMTTYPE=image/webp:https://unityofsarasota.org/wp-content/uploads/2019/08/Sunday-Celebration-Service-1.webp
END:VEVENT
BEGIN:VEVENT
DTSTART;TZID=America/New_York:20300421T103000
DTEND;TZID=America/New_York:20300421T113000
DTSTAMP:20260420T151702
CREATED:20241027T213120Z
LAST-MODIFIED:20260410T155829Z
UID:10019412-1902997800-1903001400@unityofsarasota.org
SUMMARY:Sunday Celebration Service at Unity of Sarasota
DESCRIPTION:Sunday Celebration Service at Unity of Sarasota
URL:https://unityofsarasota.org/event/sunday-celebration-service-at-unity-of-sarasota-3/2030-04-21/
LOCATION:Unity of Sarasota\, 3023 Proctor Road\, Sarasota\, FL\, 34231\, United States\, Unity of Sarasota\, 3023 Proctor Road\, Sarasota\, FL\, 34231\, United States
CATEGORIES:Services
ATTACH;FMTTYPE=image/webp:https://unityofsarasota.org/wp-content/uploads/2019/08/Sunday-Celebration-Service-1.webp
END:VEVENT
BEGIN:VEVENT
DTSTART;TZID=America/New_York:20300428T103000
DTEND;TZID=America/New_York:20300428T113000
DTSTAMP:20260420T151702
CREATED:20241027T213120Z
LAST-MODIFIED:20260410T155829Z
UID:10019413-1903602600-1903606200@unityofsarasota.org
SUMMARY:Sunday Celebration Service at Unity of Sarasota
DESCRIPTION:Sunday Celebration Service at Unity of Sarasota
URL:https://unityofsarasota.org/event/sunday-celebration-service-at-unity-of-sarasota-3/2030-04-28/
LOCATION:Unity of Sarasota\, 3023 Proctor Road\, Sarasota\, FL\, 34231\, United States\, Unity of Sarasota\, 3023 Proctor Road\, Sarasota\, FL\, 34231\, United States
CATEGORIES:Services
ATTACH;FMTTYPE=image/webp:https://unityofsarasota.org/wp-content/uploads/2019/08/Sunday-Celebration-Service-1.webp
END:VEVENT
BEGIN:VEVENT
DTSTART;TZID=America/New_York:20300505T103000
DTEND;TZID=America/New_York:20300505T113000
DTSTAMP:20260420T151702
CREATED:20241027T213120Z
LAST-MODIFIED:20260410T155829Z
UID:10019414-1904207400-1904211000@unityofsarasota.org
SUMMARY:Sunday Celebration Service at Unity of Sarasota
DESCRIPTION:Sunday Celebration Service at Unity of Sarasota
URL:https://unityofsarasota.org/event/sunday-celebration-service-at-unity-of-sarasota-3/2030-05-05/
LOCATION:Unity of Sarasota\, 3023 Proctor Road\, Sarasota\, FL\, 34231\, United States\, Unity of Sarasota\, 3023 Proctor Road\, Sarasota\, FL\, 34231\, United States
CATEGORIES:Services
ATTACH;FMTTYPE=image/webp:https://unityofsarasota.org/wp-content/uploads/2019/08/Sunday-Celebration-Service-1.webp
END:VEVENT
BEGIN:VEVENT
DTSTART;TZID=America/New_York:20300512T103000
DTEND;TZID=America/New_York:20300512T113000
DTSTAMP:20260420T151702
CREATED:20241027T213120Z
LAST-MODIFIED:20260410T155829Z
UID:10019415-1904812200-1904815800@unityofsarasota.org
SUMMARY:Sunday Celebration Service at Unity of Sarasota
DESCRIPTION:Sunday Celebration Service at Unity of Sarasota
URL:https://unityofsarasota.org/event/sunday-celebration-service-at-unity-of-sarasota-3/2030-05-12/
LOCATION:Unity of Sarasota\, 3023 Proctor Road\, Sarasota\, FL\, 34231\, United States\, Unity of Sarasota\, 3023 Proctor Road\, Sarasota\, FL\, 34231\, United States
CATEGORIES:Services
ATTACH;FMTTYPE=image/webp:https://unityofsarasota.org/wp-content/uploads/2019/08/Sunday-Celebration-Service-1.webp
END:VEVENT
BEGIN:VEVENT
DTSTART;TZID=America/New_York:20300519T103000
DTEND;TZID=America/New_York:20300519T113000
DTSTAMP:20260420T151702
CREATED:20241027T213120Z
LAST-MODIFIED:20260410T155829Z
UID:10019416-1905417000-1905420600@unityofsarasota.org
SUMMARY:Sunday Celebration Service at Unity of Sarasota
DESCRIPTION:Sunday Celebration Service at Unity of Sarasota
URL:https://unityofsarasota.org/event/sunday-celebration-service-at-unity-of-sarasota-3/2030-05-19/
LOCATION:Unity of Sarasota\, 3023 Proctor Road\, Sarasota\, FL\, 34231\, United States\, Unity of Sarasota\, 3023 Proctor Road\, Sarasota\, FL\, 34231\, United States
CATEGORIES:Services
ATTACH;FMTTYPE=image/webp:https://unityofsarasota.org/wp-content/uploads/2019/08/Sunday-Celebration-Service-1.webp
END:VEVENT
BEGIN:VEVENT
DTSTART;TZID=America/New_York:20300526T103000
DTEND;TZID=America/New_York:20300526T113000
DTSTAMP:20260420T151702
CREATED:20241027T213120Z
LAST-MODIFIED:20260410T155829Z
UID:10019417-1906021800-1906025400@unityofsarasota.org
SUMMARY:Sunday Celebration Service at Unity of Sarasota
DESCRIPTION:Sunday Celebration Service at Unity of Sarasota
URL:https://unityofsarasota.org/event/sunday-celebration-service-at-unity-of-sarasota-3/2030-05-26/
LOCATION:Unity of Sarasota\, 3023 Proctor Road\, Sarasota\, FL\, 34231\, United States\, Unity of Sarasota\, 3023 Proctor Road\, Sarasota\, FL\, 34231\, United States
CATEGORIES:Services
ATTACH;FMTTYPE=image/webp:https://unityofsarasota.org/wp-content/uploads/2019/08/Sunday-Celebration-Service-1.webp
END:VEVENT
END:VCALENDAR