BEGIN:VCALENDAR
VERSION:2.0
PRODID:-//Unity of Sarasota - ECPv6.15.17.1//NONSGML v1.0//EN
CALSCALE:GREGORIAN
METHOD:PUBLISH
X-WR-CALNAME:Unity of Sarasota
X-ORIGINAL-URL:https://unityofsarasota.org
X-WR-CALDESC:Events for Unity of Sarasota
REFRESH-INTERVAL;VALUE=DURATION:PT1H
X-Robots-Tag:noindex
X-PUBLISHED-TTL:PT1H
BEGIN:VTIMEZONE
TZID:America/New_York
BEGIN:DAYLIGHT
TZOFFSETFROM:-0500
TZOFFSETTO:-0400
TZNAME:EDT
DTSTART:20290311T070000
END:DAYLIGHT
BEGIN:STANDARD
TZOFFSETFROM:-0400
TZOFFSETTO:-0500
TZNAME:EST
DTSTART:20291104T060000
END:STANDARD
BEGIN:DAYLIGHT
TZOFFSETFROM:-0500
TZOFFSETTO:-0400
TZNAME:EDT
DTSTART:20300310T070000
END:DAYLIGHT
BEGIN:STANDARD
TZOFFSETFROM:-0400
TZOFFSETTO:-0500
TZNAME:EST
DTSTART:20301103T060000
END:STANDARD
BEGIN:DAYLIGHT
TZOFFSETFROM:-0500
TZOFFSETTO:-0400
TZNAME:EDT
DTSTART:20310309T070000
END:DAYLIGHT
BEGIN:STANDARD
TZOFFSETFROM:-0400
TZOFFSETTO:-0500
TZNAME:EST
DTSTART:20311102T060000
END:STANDARD
END:VTIMEZONE
BEGIN:VEVENT
DTSTART;TZID=America/New_York:20300224T103000
DTEND;TZID=America/New_York:20300224T113000
DTSTAMP:20260421T075558
CREATED:20241027T213120Z
LAST-MODIFIED:20260410T155829Z
UID:10019404-1898159400-1898163000@unityofsarasota.org
SUMMARY:Sunday Celebration Service at Unity of Sarasota
DESCRIPTION:Sunday Celebration Service at Unity of Sarasota
URL:https://unityofsarasota.org/event/sunday-celebration-service-at-unity-of-sarasota-3/2030-02-24/
LOCATION:Unity of Sarasota\, 3023 Proctor Road\, Sarasota\, FL\, 34231\, United States\, Unity of Sarasota\, 3023 Proctor Road\, Sarasota\, FL\, 34231\, United States
CATEGORIES:Services
ATTACH;FMTTYPE=image/webp:https://unityofsarasota.org/wp-content/uploads/2019/08/Sunday-Celebration-Service-1.webp
END:VEVENT
BEGIN:VEVENT
DTSTART;TZID=America/New_York:20300303T103000
DTEND;TZID=America/New_York:20300303T113000
DTSTAMP:20260421T075558
CREATED:20241027T213120Z
LAST-MODIFIED:20260410T155829Z
UID:10019405-1898764200-1898767800@unityofsarasota.org
SUMMARY:Sunday Celebration Service at Unity of Sarasota
DESCRIPTION:Sunday Celebration Service at Unity of Sarasota
URL:https://unityofsarasota.org/event/sunday-celebration-service-at-unity-of-sarasota-3/2030-03-03/
LOCATION:Unity of Sarasota\, 3023 Proctor Road\, Sarasota\, FL\, 34231\, United States\, Unity of Sarasota\, 3023 Proctor Road\, Sarasota\, FL\, 34231\, United States
CATEGORIES:Services
ATTACH;FMTTYPE=image/webp:https://unityofsarasota.org/wp-content/uploads/2019/08/Sunday-Celebration-Service-1.webp
END:VEVENT
BEGIN:VEVENT
DTSTART;TZID=America/New_York:20300310T103000
DTEND;TZID=America/New_York:20300310T113000
DTSTAMP:20260421T075558
CREATED:20241027T213120Z
LAST-MODIFIED:20260410T155829Z
UID:10019406-1899369000-1899372600@unityofsarasota.org
SUMMARY:Sunday Celebration Service at Unity of Sarasota
DESCRIPTION:Sunday Celebration Service at Unity of Sarasota
URL:https://unityofsarasota.org/event/sunday-celebration-service-at-unity-of-sarasota-3/2030-03-10/
LOCATION:Unity of Sarasota\, 3023 Proctor Road\, Sarasota\, FL\, 34231\, United States\, Unity of Sarasota\, 3023 Proctor Road\, Sarasota\, FL\, 34231\, United States
CATEGORIES:Services
ATTACH;FMTTYPE=image/webp:https://unityofsarasota.org/wp-content/uploads/2019/08/Sunday-Celebration-Service-1.webp
END:VEVENT
BEGIN:VEVENT
DTSTART;TZID=America/New_York:20300317T103000
DTEND;TZID=America/New_York:20300317T113000
DTSTAMP:20260421T075558
CREATED:20241027T213120Z
LAST-MODIFIED:20260410T155829Z
UID:10019407-1899973800-1899977400@unityofsarasota.org
SUMMARY:Sunday Celebration Service at Unity of Sarasota
DESCRIPTION:Sunday Celebration Service at Unity of Sarasota
URL:https://unityofsarasota.org/event/sunday-celebration-service-at-unity-of-sarasota-3/2030-03-17/
LOCATION:Unity of Sarasota\, 3023 Proctor Road\, Sarasota\, FL\, 34231\, United States\, Unity of Sarasota\, 3023 Proctor Road\, Sarasota\, FL\, 34231\, United States
CATEGORIES:Services
ATTACH;FMTTYPE=image/webp:https://unityofsarasota.org/wp-content/uploads/2019/08/Sunday-Celebration-Service-1.webp
END:VEVENT
BEGIN:VEVENT
DTSTART;TZID=America/New_York:20300324T103000
DTEND;TZID=America/New_York:20300324T113000
DTSTAMP:20260421T075559
CREATED:20241027T213120Z
LAST-MODIFIED:20260410T155829Z
UID:10019408-1900578600-1900582200@unityofsarasota.org
SUMMARY:Sunday Celebration Service at Unity of Sarasota
DESCRIPTION:Sunday Celebration Service at Unity of Sarasota
URL:https://unityofsarasota.org/event/sunday-celebration-service-at-unity-of-sarasota-3/2030-03-24/
LOCATION:Unity of Sarasota\, 3023 Proctor Road\, Sarasota\, FL\, 34231\, United States\, Unity of Sarasota\, 3023 Proctor Road\, Sarasota\, FL\, 34231\, United States
CATEGORIES:Services
ATTACH;FMTTYPE=image/webp:https://unityofsarasota.org/wp-content/uploads/2019/08/Sunday-Celebration-Service-1.webp
END:VEVENT
BEGIN:VEVENT
DTSTART;TZID=America/New_York:20300331T103000
DTEND;TZID=America/New_York:20300331T113000
DTSTAMP:20260421T075559
CREATED:20241027T213120Z
LAST-MODIFIED:20260410T155829Z
UID:10019409-1901183400-1901187000@unityofsarasota.org
SUMMARY:Sunday Celebration Service at Unity of Sarasota
DESCRIPTION:Sunday Celebration Service at Unity of Sarasota
URL:https://unityofsarasota.org/event/sunday-celebration-service-at-unity-of-sarasota-3/2030-03-31/
LOCATION:Unity of Sarasota\, 3023 Proctor Road\, Sarasota\, FL\, 34231\, United States\, Unity of Sarasota\, 3023 Proctor Road\, Sarasota\, FL\, 34231\, United States
CATEGORIES:Services
ATTACH;FMTTYPE=image/webp:https://unityofsarasota.org/wp-content/uploads/2019/08/Sunday-Celebration-Service-1.webp
END:VEVENT
BEGIN:VEVENT
DTSTART;TZID=America/New_York:20300407T103000
DTEND;TZID=America/New_York:20300407T113000
DTSTAMP:20260421T075559
CREATED:20241027T213120Z
LAST-MODIFIED:20260410T155829Z
UID:10019410-1901788200-1901791800@unityofsarasota.org
SUMMARY:Sunday Celebration Service at Unity of Sarasota
DESCRIPTION:Sunday Celebration Service at Unity of Sarasota
URL:https://unityofsarasota.org/event/sunday-celebration-service-at-unity-of-sarasota-3/2030-04-07/
LOCATION:Unity of Sarasota\, 3023 Proctor Road\, Sarasota\, FL\, 34231\, United States\, Unity of Sarasota\, 3023 Proctor Road\, Sarasota\, FL\, 34231\, United States
CATEGORIES:Services
ATTACH;FMTTYPE=image/webp:https://unityofsarasota.org/wp-content/uploads/2019/08/Sunday-Celebration-Service-1.webp
END:VEVENT
BEGIN:VEVENT
DTSTART;TZID=America/New_York:20300414T103000
DTEND;TZID=America/New_York:20300414T113000
DTSTAMP:20260421T075559
CREATED:20241027T213120Z
LAST-MODIFIED:20260410T155829Z
UID:10019411-1902393000-1902396600@unityofsarasota.org
SUMMARY:Sunday Celebration Service at Unity of Sarasota
DESCRIPTION:Sunday Celebration Service at Unity of Sarasota
URL:https://unityofsarasota.org/event/sunday-celebration-service-at-unity-of-sarasota-3/2030-04-14/
LOCATION:Unity of Sarasota\, 3023 Proctor Road\, Sarasota\, FL\, 34231\, United States\, Unity of Sarasota\, 3023 Proctor Road\, Sarasota\, FL\, 34231\, United States
CATEGORIES:Services
ATTACH;FMTTYPE=image/webp:https://unityofsarasota.org/wp-content/uploads/2019/08/Sunday-Celebration-Service-1.webp
END:VEVENT
BEGIN:VEVENT
DTSTART;TZID=America/New_York:20300421T103000
DTEND;TZID=America/New_York:20300421T113000
DTSTAMP:20260421T075559
CREATED:20241027T213120Z
LAST-MODIFIED:20260410T155829Z
UID:10019412-1902997800-1903001400@unityofsarasota.org
SUMMARY:Sunday Celebration Service at Unity of Sarasota
DESCRIPTION:Sunday Celebration Service at Unity of Sarasota
URL:https://unityofsarasota.org/event/sunday-celebration-service-at-unity-of-sarasota-3/2030-04-21/
LOCATION:Unity of Sarasota\, 3023 Proctor Road\, Sarasota\, FL\, 34231\, United States\, Unity of Sarasota\, 3023 Proctor Road\, Sarasota\, FL\, 34231\, United States
CATEGORIES:Services
ATTACH;FMTTYPE=image/webp:https://unityofsarasota.org/wp-content/uploads/2019/08/Sunday-Celebration-Service-1.webp
END:VEVENT
BEGIN:VEVENT
DTSTART;TZID=America/New_York:20300428T103000
DTEND;TZID=America/New_York:20300428T113000
DTSTAMP:20260421T075559
CREATED:20241027T213120Z
LAST-MODIFIED:20260410T155829Z
UID:10019413-1903602600-1903606200@unityofsarasota.org
SUMMARY:Sunday Celebration Service at Unity of Sarasota
DESCRIPTION:Sunday Celebration Service at Unity of Sarasota
URL:https://unityofsarasota.org/event/sunday-celebration-service-at-unity-of-sarasota-3/2030-04-28/
LOCATION:Unity of Sarasota\, 3023 Proctor Road\, Sarasota\, FL\, 34231\, United States\, Unity of Sarasota\, 3023 Proctor Road\, Sarasota\, FL\, 34231\, United States
CATEGORIES:Services
ATTACH;FMTTYPE=image/webp:https://unityofsarasota.org/wp-content/uploads/2019/08/Sunday-Celebration-Service-1.webp
END:VEVENT
BEGIN:VEVENT
DTSTART;TZID=America/New_York:20300505T103000
DTEND;TZID=America/New_York:20300505T113000
DTSTAMP:20260421T075559
CREATED:20241027T213120Z
LAST-MODIFIED:20260410T155829Z
UID:10019414-1904207400-1904211000@unityofsarasota.org
SUMMARY:Sunday Celebration Service at Unity of Sarasota
DESCRIPTION:Sunday Celebration Service at Unity of Sarasota
URL:https://unityofsarasota.org/event/sunday-celebration-service-at-unity-of-sarasota-3/2030-05-05/
LOCATION:Unity of Sarasota\, 3023 Proctor Road\, Sarasota\, FL\, 34231\, United States\, Unity of Sarasota\, 3023 Proctor Road\, Sarasota\, FL\, 34231\, United States
CATEGORIES:Services
ATTACH;FMTTYPE=image/webp:https://unityofsarasota.org/wp-content/uploads/2019/08/Sunday-Celebration-Service-1.webp
END:VEVENT
BEGIN:VEVENT
DTSTART;TZID=America/New_York:20300512T103000
DTEND;TZID=America/New_York:20300512T113000
DTSTAMP:20260421T075559
CREATED:20241027T213120Z
LAST-MODIFIED:20260410T155829Z
UID:10019415-1904812200-1904815800@unityofsarasota.org
SUMMARY:Sunday Celebration Service at Unity of Sarasota
DESCRIPTION:Sunday Celebration Service at Unity of Sarasota
URL:https://unityofsarasota.org/event/sunday-celebration-service-at-unity-of-sarasota-3/2030-05-12/
LOCATION:Unity of Sarasota\, 3023 Proctor Road\, Sarasota\, FL\, 34231\, United States\, Unity of Sarasota\, 3023 Proctor Road\, Sarasota\, FL\, 34231\, United States
CATEGORIES:Services
ATTACH;FMTTYPE=image/webp:https://unityofsarasota.org/wp-content/uploads/2019/08/Sunday-Celebration-Service-1.webp
END:VEVENT
BEGIN:VEVENT
DTSTART;TZID=America/New_York:20300519T103000
DTEND;TZID=America/New_York:20300519T113000
DTSTAMP:20260421T075559
CREATED:20241027T213120Z
LAST-MODIFIED:20260410T155829Z
UID:10019416-1905417000-1905420600@unityofsarasota.org
SUMMARY:Sunday Celebration Service at Unity of Sarasota
DESCRIPTION:Sunday Celebration Service at Unity of Sarasota
URL:https://unityofsarasota.org/event/sunday-celebration-service-at-unity-of-sarasota-3/2030-05-19/
LOCATION:Unity of Sarasota\, 3023 Proctor Road\, Sarasota\, FL\, 34231\, United States\, Unity of Sarasota\, 3023 Proctor Road\, Sarasota\, FL\, 34231\, United States
CATEGORIES:Services
ATTACH;FMTTYPE=image/webp:https://unityofsarasota.org/wp-content/uploads/2019/08/Sunday-Celebration-Service-1.webp
END:VEVENT
BEGIN:VEVENT
DTSTART;TZID=America/New_York:20300526T103000
DTEND;TZID=America/New_York:20300526T113000
DTSTAMP:20260421T075559
CREATED:20241027T213120Z
LAST-MODIFIED:20260410T155829Z
UID:10019417-1906021800-1906025400@unityofsarasota.org
SUMMARY:Sunday Celebration Service at Unity of Sarasota
DESCRIPTION:Sunday Celebration Service at Unity of Sarasota
URL:https://unityofsarasota.org/event/sunday-celebration-service-at-unity-of-sarasota-3/2030-05-26/
LOCATION:Unity of Sarasota\, 3023 Proctor Road\, Sarasota\, FL\, 34231\, United States\, Unity of Sarasota\, 3023 Proctor Road\, Sarasota\, FL\, 34231\, United States
CATEGORIES:Services
ATTACH;FMTTYPE=image/webp:https://unityofsarasota.org/wp-content/uploads/2019/08/Sunday-Celebration-Service-1.webp
END:VEVENT
BEGIN:VEVENT
DTSTART;TZID=America/New_York:20300602T103000
DTEND;TZID=America/New_York:20300602T113000
DTSTAMP:20260421T075559
CREATED:20241027T213120Z
LAST-MODIFIED:20260410T155829Z
UID:10019418-1906626600-1906630200@unityofsarasota.org
SUMMARY:Sunday Celebration Service at Unity of Sarasota
DESCRIPTION:Sunday Celebration Service at Unity of Sarasota
URL:https://unityofsarasota.org/event/sunday-celebration-service-at-unity-of-sarasota-3/2030-06-02/
LOCATION:Unity of Sarasota\, 3023 Proctor Road\, Sarasota\, FL\, 34231\, United States\, Unity of Sarasota\, 3023 Proctor Road\, Sarasota\, FL\, 34231\, United States
CATEGORIES:Services
ATTACH;FMTTYPE=image/webp:https://unityofsarasota.org/wp-content/uploads/2019/08/Sunday-Celebration-Service-1.webp
END:VEVENT
BEGIN:VEVENT
DTSTART;TZID=America/New_York:20300609T103000
DTEND;TZID=America/New_York:20300609T113000
DTSTAMP:20260421T075559
CREATED:20241027T213120Z
LAST-MODIFIED:20260410T155829Z
UID:10019419-1907231400-1907235000@unityofsarasota.org
SUMMARY:Sunday Celebration Service at Unity of Sarasota
DESCRIPTION:Sunday Celebration Service at Unity of Sarasota
URL:https://unityofsarasota.org/event/sunday-celebration-service-at-unity-of-sarasota-3/2030-06-09/
LOCATION:Unity of Sarasota\, 3023 Proctor Road\, Sarasota\, FL\, 34231\, United States\, Unity of Sarasota\, 3023 Proctor Road\, Sarasota\, FL\, 34231\, United States
CATEGORIES:Services
ATTACH;FMTTYPE=image/webp:https://unityofsarasota.org/wp-content/uploads/2019/08/Sunday-Celebration-Service-1.webp
END:VEVENT
BEGIN:VEVENT
DTSTART;TZID=America/New_York:20300616T103000
DTEND;TZID=America/New_York:20300616T113000
DTSTAMP:20260421T075559
CREATED:20241027T213120Z
LAST-MODIFIED:20260410T155829Z
UID:10019420-1907836200-1907839800@unityofsarasota.org
SUMMARY:Sunday Celebration Service at Unity of Sarasota
DESCRIPTION:Sunday Celebration Service at Unity of Sarasota
URL:https://unityofsarasota.org/event/sunday-celebration-service-at-unity-of-sarasota-3/2030-06-16/
LOCATION:Unity of Sarasota\, 3023 Proctor Road\, Sarasota\, FL\, 34231\, United States\, Unity of Sarasota\, 3023 Proctor Road\, Sarasota\, FL\, 34231\, United States
CATEGORIES:Services
ATTACH;FMTTYPE=image/webp:https://unityofsarasota.org/wp-content/uploads/2019/08/Sunday-Celebration-Service-1.webp
END:VEVENT
BEGIN:VEVENT
DTSTART;TZID=America/New_York:20300623T103000
DTEND;TZID=America/New_York:20300623T113000
DTSTAMP:20260421T075559
CREATED:20241027T213120Z
LAST-MODIFIED:20260410T155829Z
UID:10019421-1908441000-1908444600@unityofsarasota.org
SUMMARY:Sunday Celebration Service at Unity of Sarasota
DESCRIPTION:Sunday Celebration Service at Unity of Sarasota
URL:https://unityofsarasota.org/event/sunday-celebration-service-at-unity-of-sarasota-3/2030-06-23/
LOCATION:Unity of Sarasota\, 3023 Proctor Road\, Sarasota\, FL\, 34231\, United States\, Unity of Sarasota\, 3023 Proctor Road\, Sarasota\, FL\, 34231\, United States
CATEGORIES:Services
ATTACH;FMTTYPE=image/webp:https://unityofsarasota.org/wp-content/uploads/2019/08/Sunday-Celebration-Service-1.webp
END:VEVENT
BEGIN:VEVENT
DTSTART;TZID=America/New_York:20300630T103000
DTEND;TZID=America/New_York:20300630T113000
DTSTAMP:20260421T075559
CREATED:20241027T213120Z
LAST-MODIFIED:20260410T155829Z
UID:10019422-1909045800-1909049400@unityofsarasota.org
SUMMARY:Sunday Celebration Service at Unity of Sarasota
DESCRIPTION:Sunday Celebration Service at Unity of Sarasota
URL:https://unityofsarasota.org/event/sunday-celebration-service-at-unity-of-sarasota-3/2030-06-30/
LOCATION:Unity of Sarasota\, 3023 Proctor Road\, Sarasota\, FL\, 34231\, United States\, Unity of Sarasota\, 3023 Proctor Road\, Sarasota\, FL\, 34231\, United States
CATEGORIES:Services
ATTACH;FMTTYPE=image/webp:https://unityofsarasota.org/wp-content/uploads/2019/08/Sunday-Celebration-Service-1.webp
END:VEVENT
BEGIN:VEVENT
DTSTART;TZID=America/New_York:20300707T103000
DTEND;TZID=America/New_York:20300707T113000
DTSTAMP:20260421T075559
CREATED:20241027T213120Z
LAST-MODIFIED:20260410T155829Z
UID:10019423-1909650600-1909654200@unityofsarasota.org
SUMMARY:Sunday Celebration Service at Unity of Sarasota
DESCRIPTION:Sunday Celebration Service at Unity of Sarasota
URL:https://unityofsarasota.org/event/sunday-celebration-service-at-unity-of-sarasota-3/2030-07-07/
LOCATION:Unity of Sarasota\, 3023 Proctor Road\, Sarasota\, FL\, 34231\, United States\, Unity of Sarasota\, 3023 Proctor Road\, Sarasota\, FL\, 34231\, United States
CATEGORIES:Services
ATTACH;FMTTYPE=image/webp:https://unityofsarasota.org/wp-content/uploads/2019/08/Sunday-Celebration-Service-1.webp
END:VEVENT
BEGIN:VEVENT
DTSTART;TZID=America/New_York:20300714T103000
DTEND;TZID=America/New_York:20300714T113000
DTSTAMP:20260421T075559
CREATED:20241027T213120Z
LAST-MODIFIED:20260410T155829Z
UID:10019424-1910255400-1910259000@unityofsarasota.org
SUMMARY:Sunday Celebration Service at Unity of Sarasota
DESCRIPTION:Sunday Celebration Service at Unity of Sarasota
URL:https://unityofsarasota.org/event/sunday-celebration-service-at-unity-of-sarasota-3/2030-07-14/
LOCATION:Unity of Sarasota\, 3023 Proctor Road\, Sarasota\, FL\, 34231\, United States\, Unity of Sarasota\, 3023 Proctor Road\, Sarasota\, FL\, 34231\, United States
CATEGORIES:Services
ATTACH;FMTTYPE=image/webp:https://unityofsarasota.org/wp-content/uploads/2019/08/Sunday-Celebration-Service-1.webp
END:VEVENT
BEGIN:VEVENT
DTSTART;TZID=America/New_York:20300721T103000
DTEND;TZID=America/New_York:20300721T113000
DTSTAMP:20260421T075559
CREATED:20241027T213120Z
LAST-MODIFIED:20260410T155829Z
UID:10019425-1910860200-1910863800@unityofsarasota.org
SUMMARY:Sunday Celebration Service at Unity of Sarasota
DESCRIPTION:Sunday Celebration Service at Unity of Sarasota
URL:https://unityofsarasota.org/event/sunday-celebration-service-at-unity-of-sarasota-3/2030-07-21/
LOCATION:Unity of Sarasota\, 3023 Proctor Road\, Sarasota\, FL\, 34231\, United States\, Unity of Sarasota\, 3023 Proctor Road\, Sarasota\, FL\, 34231\, United States
CATEGORIES:Services
ATTACH;FMTTYPE=image/webp:https://unityofsarasota.org/wp-content/uploads/2019/08/Sunday-Celebration-Service-1.webp
END:VEVENT
BEGIN:VEVENT
DTSTART;TZID=America/New_York:20300728T103000
DTEND;TZID=America/New_York:20300728T113000
DTSTAMP:20260421T075559
CREATED:20241027T213120Z
LAST-MODIFIED:20260410T155829Z
UID:10019426-1911465000-1911468600@unityofsarasota.org
SUMMARY:Sunday Celebration Service at Unity of Sarasota
DESCRIPTION:Sunday Celebration Service at Unity of Sarasota
URL:https://unityofsarasota.org/event/sunday-celebration-service-at-unity-of-sarasota-3/2030-07-28/
LOCATION:Unity of Sarasota\, 3023 Proctor Road\, Sarasota\, FL\, 34231\, United States\, Unity of Sarasota\, 3023 Proctor Road\, Sarasota\, FL\, 34231\, United States
CATEGORIES:Services
ATTACH;FMTTYPE=image/webp:https://unityofsarasota.org/wp-content/uploads/2019/08/Sunday-Celebration-Service-1.webp
END:VEVENT
BEGIN:VEVENT
DTSTART;TZID=America/New_York:20300804T103000
DTEND;TZID=America/New_York:20300804T113000
DTSTAMP:20260421T075559
CREATED:20241027T213120Z
LAST-MODIFIED:20260410T155829Z
UID:10019427-1912069800-1912073400@unityofsarasota.org
SUMMARY:Sunday Celebration Service at Unity of Sarasota
DESCRIPTION:Sunday Celebration Service at Unity of Sarasota
URL:https://unityofsarasota.org/event/sunday-celebration-service-at-unity-of-sarasota-3/2030-08-04/
LOCATION:Unity of Sarasota\, 3023 Proctor Road\, Sarasota\, FL\, 34231\, United States\, Unity of Sarasota\, 3023 Proctor Road\, Sarasota\, FL\, 34231\, United States
CATEGORIES:Services
ATTACH;FMTTYPE=image/webp:https://unityofsarasota.org/wp-content/uploads/2019/08/Sunday-Celebration-Service-1.webp
END:VEVENT
BEGIN:VEVENT
DTSTART;TZID=America/New_York:20300811T103000
DTEND;TZID=America/New_York:20300811T113000
DTSTAMP:20260421T075559
CREATED:20241027T213120Z
LAST-MODIFIED:20260410T155829Z
UID:10019428-1912674600-1912678200@unityofsarasota.org
SUMMARY:Sunday Celebration Service at Unity of Sarasota
DESCRIPTION:Sunday Celebration Service at Unity of Sarasota
URL:https://unityofsarasota.org/event/sunday-celebration-service-at-unity-of-sarasota-3/2030-08-11/
LOCATION:Unity of Sarasota\, 3023 Proctor Road\, Sarasota\, FL\, 34231\, United States\, Unity of Sarasota\, 3023 Proctor Road\, Sarasota\, FL\, 34231\, United States
CATEGORIES:Services
ATTACH;FMTTYPE=image/webp:https://unityofsarasota.org/wp-content/uploads/2019/08/Sunday-Celebration-Service-1.webp
END:VEVENT
BEGIN:VEVENT
DTSTART;TZID=America/New_York:20300818T103000
DTEND;TZID=America/New_York:20300818T113000
DTSTAMP:20260421T075559
CREATED:20241027T213120Z
LAST-MODIFIED:20260410T155829Z
UID:10019429-1913279400-1913283000@unityofsarasota.org
SUMMARY:Sunday Celebration Service at Unity of Sarasota
DESCRIPTION:Sunday Celebration Service at Unity of Sarasota
URL:https://unityofsarasota.org/event/sunday-celebration-service-at-unity-of-sarasota-3/2030-08-18/
LOCATION:Unity of Sarasota\, 3023 Proctor Road\, Sarasota\, FL\, 34231\, United States\, Unity of Sarasota\, 3023 Proctor Road\, Sarasota\, FL\, 34231\, United States
CATEGORIES:Services
ATTACH;FMTTYPE=image/webp:https://unityofsarasota.org/wp-content/uploads/2019/08/Sunday-Celebration-Service-1.webp
END:VEVENT
BEGIN:VEVENT
DTSTART;TZID=America/New_York:20300825T103000
DTEND;TZID=America/New_York:20300825T113000
DTSTAMP:20260421T075559
CREATED:20241027T213120Z
LAST-MODIFIED:20260410T155829Z
UID:10019430-1913884200-1913887800@unityofsarasota.org
SUMMARY:Sunday Celebration Service at Unity of Sarasota
DESCRIPTION:Sunday Celebration Service at Unity of Sarasota
URL:https://unityofsarasota.org/event/sunday-celebration-service-at-unity-of-sarasota-3/2030-08-25/
LOCATION:Unity of Sarasota\, 3023 Proctor Road\, Sarasota\, FL\, 34231\, United States\, Unity of Sarasota\, 3023 Proctor Road\, Sarasota\, FL\, 34231\, United States
CATEGORIES:Services
ATTACH;FMTTYPE=image/webp:https://unityofsarasota.org/wp-content/uploads/2019/08/Sunday-Celebration-Service-1.webp
END:VEVENT
BEGIN:VEVENT
DTSTART;TZID=America/New_York:20300901T103000
DTEND;TZID=America/New_York:20300901T113000
DTSTAMP:20260421T075559
CREATED:20241027T213120Z
LAST-MODIFIED:20260410T155829Z
UID:10019431-1914489000-1914492600@unityofsarasota.org
SUMMARY:Sunday Celebration Service at Unity of Sarasota
DESCRIPTION:Sunday Celebration Service at Unity of Sarasota
URL:https://unityofsarasota.org/event/sunday-celebration-service-at-unity-of-sarasota-3/2030-09-01/
LOCATION:Unity of Sarasota\, 3023 Proctor Road\, Sarasota\, FL\, 34231\, United States\, Unity of Sarasota\, 3023 Proctor Road\, Sarasota\, FL\, 34231\, United States
CATEGORIES:Services
ATTACH;FMTTYPE=image/webp:https://unityofsarasota.org/wp-content/uploads/2019/08/Sunday-Celebration-Service-1.webp
END:VEVENT
BEGIN:VEVENT
DTSTART;TZID=America/New_York:20300908T103000
DTEND;TZID=America/New_York:20300908T113000
DTSTAMP:20260421T075559
CREATED:20241027T213120Z
LAST-MODIFIED:20260410T155829Z
UID:10019432-1915093800-1915097400@unityofsarasota.org
SUMMARY:Sunday Celebration Service at Unity of Sarasota
DESCRIPTION:Sunday Celebration Service at Unity of Sarasota
URL:https://unityofsarasota.org/event/sunday-celebration-service-at-unity-of-sarasota-3/2030-09-08/
LOCATION:Unity of Sarasota\, 3023 Proctor Road\, Sarasota\, FL\, 34231\, United States\, Unity of Sarasota\, 3023 Proctor Road\, Sarasota\, FL\, 34231\, United States
CATEGORIES:Services
ATTACH;FMTTYPE=image/webp:https://unityofsarasota.org/wp-content/uploads/2019/08/Sunday-Celebration-Service-1.webp
END:VEVENT
BEGIN:VEVENT
DTSTART;TZID=America/New_York:20300915T103000
DTEND;TZID=America/New_York:20300915T113000
DTSTAMP:20260421T075559
CREATED:20241027T213120Z
LAST-MODIFIED:20260410T155829Z
UID:10019433-1915698600-1915702200@unityofsarasota.org
SUMMARY:Sunday Celebration Service at Unity of Sarasota
DESCRIPTION:Sunday Celebration Service at Unity of Sarasota
URL:https://unityofsarasota.org/event/sunday-celebration-service-at-unity-of-sarasota-3/2030-09-15/
LOCATION:Unity of Sarasota\, 3023 Proctor Road\, Sarasota\, FL\, 34231\, United States\, Unity of Sarasota\, 3023 Proctor Road\, Sarasota\, FL\, 34231\, United States
CATEGORIES:Services
ATTACH;FMTTYPE=image/webp:https://unityofsarasota.org/wp-content/uploads/2019/08/Sunday-Celebration-Service-1.webp
END:VEVENT
END:VCALENDAR