BEGIN:VCALENDAR
VERSION:2.0
PRODID:-//Unity of Sarasota - ECPv6.15.17.1//NONSGML v1.0//EN
CALSCALE:GREGORIAN
METHOD:PUBLISH
X-WR-CALNAME:Unity of Sarasota
X-ORIGINAL-URL:https://unityofsarasota.org
X-WR-CALDESC:Events for Unity of Sarasota
REFRESH-INTERVAL;VALUE=DURATION:PT1H
X-Robots-Tag:noindex
X-PUBLISHED-TTL:PT1H
BEGIN:VTIMEZONE
TZID:America/New_York
BEGIN:DAYLIGHT
TZOFFSETFROM:-0500
TZOFFSETTO:-0400
TZNAME:EDT
DTSTART:20290311T070000
END:DAYLIGHT
BEGIN:STANDARD
TZOFFSETFROM:-0400
TZOFFSETTO:-0500
TZNAME:EST
DTSTART:20291104T060000
END:STANDARD
BEGIN:DAYLIGHT
TZOFFSETFROM:-0500
TZOFFSETTO:-0400
TZNAME:EDT
DTSTART:20300310T070000
END:DAYLIGHT
BEGIN:STANDARD
TZOFFSETFROM:-0400
TZOFFSETTO:-0500
TZNAME:EST
DTSTART:20301103T060000
END:STANDARD
BEGIN:DAYLIGHT
TZOFFSETFROM:-0500
TZOFFSETTO:-0400
TZNAME:EDT
DTSTART:20310309T070000
END:DAYLIGHT
BEGIN:STANDARD
TZOFFSETFROM:-0400
TZOFFSETTO:-0500
TZNAME:EST
DTSTART:20311102T060000
END:STANDARD
BEGIN:DAYLIGHT
TZOFFSETFROM:-0500
TZOFFSETTO:-0400
TZNAME:EDT
DTSTART:20320314T070000
END:DAYLIGHT
BEGIN:STANDARD
TZOFFSETFROM:-0400
TZOFFSETTO:-0500
TZNAME:EST
DTSTART:20321107T060000
END:STANDARD
END:VTIMEZONE
BEGIN:VEVENT
DTSTART;TZID=America/New_York:20300616T103000
DTEND;TZID=America/New_York:20300616T113000
DTSTAMP:20260422T192156
CREATED:20241027T213120Z
LAST-MODIFIED:20260410T155829Z
UID:10019420-1907836200-1907839800@unityofsarasota.org
SUMMARY:Sunday Celebration Service at Unity of Sarasota
DESCRIPTION:Sunday Celebration Service at Unity of Sarasota
URL:https://unityofsarasota.org/event/sunday-celebration-service-at-unity-of-sarasota-3/2030-06-16/
LOCATION:Unity of Sarasota\, 3023 Proctor Road\, Sarasota\, FL\, 34231\, United States\, Unity of Sarasota\, 3023 Proctor Road\, Sarasota\, FL\, 34231\, United States
CATEGORIES:Services
ATTACH;FMTTYPE=image/webp:https://unityofsarasota.org/wp-content/uploads/2019/08/Sunday-Celebration-Service-1.webp
END:VEVENT
BEGIN:VEVENT
DTSTART;TZID=America/New_York:20300623T103000
DTEND;TZID=America/New_York:20300623T113000
DTSTAMP:20260422T192156
CREATED:20241027T213120Z
LAST-MODIFIED:20260410T155829Z
UID:10019421-1908441000-1908444600@unityofsarasota.org
SUMMARY:Sunday Celebration Service at Unity of Sarasota
DESCRIPTION:Sunday Celebration Service at Unity of Sarasota
URL:https://unityofsarasota.org/event/sunday-celebration-service-at-unity-of-sarasota-3/2030-06-23/
LOCATION:Unity of Sarasota\, 3023 Proctor Road\, Sarasota\, FL\, 34231\, United States\, Unity of Sarasota\, 3023 Proctor Road\, Sarasota\, FL\, 34231\, United States
CATEGORIES:Services
ATTACH;FMTTYPE=image/webp:https://unityofsarasota.org/wp-content/uploads/2019/08/Sunday-Celebration-Service-1.webp
END:VEVENT
BEGIN:VEVENT
DTSTART;TZID=America/New_York:20300630T103000
DTEND;TZID=America/New_York:20300630T113000
DTSTAMP:20260422T192156
CREATED:20241027T213120Z
LAST-MODIFIED:20260410T155829Z
UID:10019422-1909045800-1909049400@unityofsarasota.org
SUMMARY:Sunday Celebration Service at Unity of Sarasota
DESCRIPTION:Sunday Celebration Service at Unity of Sarasota
URL:https://unityofsarasota.org/event/sunday-celebration-service-at-unity-of-sarasota-3/2030-06-30/
LOCATION:Unity of Sarasota\, 3023 Proctor Road\, Sarasota\, FL\, 34231\, United States\, Unity of Sarasota\, 3023 Proctor Road\, Sarasota\, FL\, 34231\, United States
CATEGORIES:Services
ATTACH;FMTTYPE=image/webp:https://unityofsarasota.org/wp-content/uploads/2019/08/Sunday-Celebration-Service-1.webp
END:VEVENT
BEGIN:VEVENT
DTSTART;TZID=America/New_York:20300707T103000
DTEND;TZID=America/New_York:20300707T113000
DTSTAMP:20260422T192156
CREATED:20241027T213120Z
LAST-MODIFIED:20260410T155829Z
UID:10019423-1909650600-1909654200@unityofsarasota.org
SUMMARY:Sunday Celebration Service at Unity of Sarasota
DESCRIPTION:Sunday Celebration Service at Unity of Sarasota
URL:https://unityofsarasota.org/event/sunday-celebration-service-at-unity-of-sarasota-3/2030-07-07/
LOCATION:Unity of Sarasota\, 3023 Proctor Road\, Sarasota\, FL\, 34231\, United States\, Unity of Sarasota\, 3023 Proctor Road\, Sarasota\, FL\, 34231\, United States
CATEGORIES:Services
ATTACH;FMTTYPE=image/webp:https://unityofsarasota.org/wp-content/uploads/2019/08/Sunday-Celebration-Service-1.webp
END:VEVENT
BEGIN:VEVENT
DTSTART;TZID=America/New_York:20300714T103000
DTEND;TZID=America/New_York:20300714T113000
DTSTAMP:20260422T192156
CREATED:20241027T213120Z
LAST-MODIFIED:20260410T155829Z
UID:10019424-1910255400-1910259000@unityofsarasota.org
SUMMARY:Sunday Celebration Service at Unity of Sarasota
DESCRIPTION:Sunday Celebration Service at Unity of Sarasota
URL:https://unityofsarasota.org/event/sunday-celebration-service-at-unity-of-sarasota-3/2030-07-14/
LOCATION:Unity of Sarasota\, 3023 Proctor Road\, Sarasota\, FL\, 34231\, United States\, Unity of Sarasota\, 3023 Proctor Road\, Sarasota\, FL\, 34231\, United States
CATEGORIES:Services
ATTACH;FMTTYPE=image/webp:https://unityofsarasota.org/wp-content/uploads/2019/08/Sunday-Celebration-Service-1.webp
END:VEVENT
BEGIN:VEVENT
DTSTART;TZID=America/New_York:20300721T103000
DTEND;TZID=America/New_York:20300721T113000
DTSTAMP:20260422T192156
CREATED:20241027T213120Z
LAST-MODIFIED:20260410T155829Z
UID:10019425-1910860200-1910863800@unityofsarasota.org
SUMMARY:Sunday Celebration Service at Unity of Sarasota
DESCRIPTION:Sunday Celebration Service at Unity of Sarasota
URL:https://unityofsarasota.org/event/sunday-celebration-service-at-unity-of-sarasota-3/2030-07-21/
LOCATION:Unity of Sarasota\, 3023 Proctor Road\, Sarasota\, FL\, 34231\, United States\, Unity of Sarasota\, 3023 Proctor Road\, Sarasota\, FL\, 34231\, United States
CATEGORIES:Services
ATTACH;FMTTYPE=image/webp:https://unityofsarasota.org/wp-content/uploads/2019/08/Sunday-Celebration-Service-1.webp
END:VEVENT
BEGIN:VEVENT
DTSTART;TZID=America/New_York:20300728T103000
DTEND;TZID=America/New_York:20300728T113000
DTSTAMP:20260422T192156
CREATED:20241027T213120Z
LAST-MODIFIED:20260410T155829Z
UID:10019426-1911465000-1911468600@unityofsarasota.org
SUMMARY:Sunday Celebration Service at Unity of Sarasota
DESCRIPTION:Sunday Celebration Service at Unity of Sarasota
URL:https://unityofsarasota.org/event/sunday-celebration-service-at-unity-of-sarasota-3/2030-07-28/
LOCATION:Unity of Sarasota\, 3023 Proctor Road\, Sarasota\, FL\, 34231\, United States\, Unity of Sarasota\, 3023 Proctor Road\, Sarasota\, FL\, 34231\, United States
CATEGORIES:Services
ATTACH;FMTTYPE=image/webp:https://unityofsarasota.org/wp-content/uploads/2019/08/Sunday-Celebration-Service-1.webp
END:VEVENT
BEGIN:VEVENT
DTSTART;TZID=America/New_York:20300804T103000
DTEND;TZID=America/New_York:20300804T113000
DTSTAMP:20260422T192156
CREATED:20241027T213120Z
LAST-MODIFIED:20260410T155829Z
UID:10019427-1912069800-1912073400@unityofsarasota.org
SUMMARY:Sunday Celebration Service at Unity of Sarasota
DESCRIPTION:Sunday Celebration Service at Unity of Sarasota
URL:https://unityofsarasota.org/event/sunday-celebration-service-at-unity-of-sarasota-3/2030-08-04/
LOCATION:Unity of Sarasota\, 3023 Proctor Road\, Sarasota\, FL\, 34231\, United States\, Unity of Sarasota\, 3023 Proctor Road\, Sarasota\, FL\, 34231\, United States
CATEGORIES:Services
ATTACH;FMTTYPE=image/webp:https://unityofsarasota.org/wp-content/uploads/2019/08/Sunday-Celebration-Service-1.webp
END:VEVENT
BEGIN:VEVENT
DTSTART;TZID=America/New_York:20300811T103000
DTEND;TZID=America/New_York:20300811T113000
DTSTAMP:20260422T192156
CREATED:20241027T213120Z
LAST-MODIFIED:20260410T155829Z
UID:10019428-1912674600-1912678200@unityofsarasota.org
SUMMARY:Sunday Celebration Service at Unity of Sarasota
DESCRIPTION:Sunday Celebration Service at Unity of Sarasota
URL:https://unityofsarasota.org/event/sunday-celebration-service-at-unity-of-sarasota-3/2030-08-11/
LOCATION:Unity of Sarasota\, 3023 Proctor Road\, Sarasota\, FL\, 34231\, United States\, Unity of Sarasota\, 3023 Proctor Road\, Sarasota\, FL\, 34231\, United States
CATEGORIES:Services
ATTACH;FMTTYPE=image/webp:https://unityofsarasota.org/wp-content/uploads/2019/08/Sunday-Celebration-Service-1.webp
END:VEVENT
BEGIN:VEVENT
DTSTART;TZID=America/New_York:20300818T103000
DTEND;TZID=America/New_York:20300818T113000
DTSTAMP:20260422T192156
CREATED:20241027T213120Z
LAST-MODIFIED:20260410T155829Z
UID:10019429-1913279400-1913283000@unityofsarasota.org
SUMMARY:Sunday Celebration Service at Unity of Sarasota
DESCRIPTION:Sunday Celebration Service at Unity of Sarasota
URL:https://unityofsarasota.org/event/sunday-celebration-service-at-unity-of-sarasota-3/2030-08-18/
LOCATION:Unity of Sarasota\, 3023 Proctor Road\, Sarasota\, FL\, 34231\, United States\, Unity of Sarasota\, 3023 Proctor Road\, Sarasota\, FL\, 34231\, United States
CATEGORIES:Services
ATTACH;FMTTYPE=image/webp:https://unityofsarasota.org/wp-content/uploads/2019/08/Sunday-Celebration-Service-1.webp
END:VEVENT
BEGIN:VEVENT
DTSTART;TZID=America/New_York:20300825T103000
DTEND;TZID=America/New_York:20300825T113000
DTSTAMP:20260422T192156
CREATED:20241027T213120Z
LAST-MODIFIED:20260410T155829Z
UID:10019430-1913884200-1913887800@unityofsarasota.org
SUMMARY:Sunday Celebration Service at Unity of Sarasota
DESCRIPTION:Sunday Celebration Service at Unity of Sarasota
URL:https://unityofsarasota.org/event/sunday-celebration-service-at-unity-of-sarasota-3/2030-08-25/
LOCATION:Unity of Sarasota\, 3023 Proctor Road\, Sarasota\, FL\, 34231\, United States\, Unity of Sarasota\, 3023 Proctor Road\, Sarasota\, FL\, 34231\, United States
CATEGORIES:Services
ATTACH;FMTTYPE=image/webp:https://unityofsarasota.org/wp-content/uploads/2019/08/Sunday-Celebration-Service-1.webp
END:VEVENT
BEGIN:VEVENT
DTSTART;TZID=America/New_York:20300901T103000
DTEND;TZID=America/New_York:20300901T113000
DTSTAMP:20260422T192156
CREATED:20241027T213120Z
LAST-MODIFIED:20260410T155829Z
UID:10019431-1914489000-1914492600@unityofsarasota.org
SUMMARY:Sunday Celebration Service at Unity of Sarasota
DESCRIPTION:Sunday Celebration Service at Unity of Sarasota
URL:https://unityofsarasota.org/event/sunday-celebration-service-at-unity-of-sarasota-3/2030-09-01/
LOCATION:Unity of Sarasota\, 3023 Proctor Road\, Sarasota\, FL\, 34231\, United States\, Unity of Sarasota\, 3023 Proctor Road\, Sarasota\, FL\, 34231\, United States
CATEGORIES:Services
ATTACH;FMTTYPE=image/webp:https://unityofsarasota.org/wp-content/uploads/2019/08/Sunday-Celebration-Service-1.webp
END:VEVENT
BEGIN:VEVENT
DTSTART;TZID=America/New_York:20300908T103000
DTEND;TZID=America/New_York:20300908T113000
DTSTAMP:20260422T192156
CREATED:20241027T213120Z
LAST-MODIFIED:20260410T155829Z
UID:10019432-1915093800-1915097400@unityofsarasota.org
SUMMARY:Sunday Celebration Service at Unity of Sarasota
DESCRIPTION:Sunday Celebration Service at Unity of Sarasota
URL:https://unityofsarasota.org/event/sunday-celebration-service-at-unity-of-sarasota-3/2030-09-08/
LOCATION:Unity of Sarasota\, 3023 Proctor Road\, Sarasota\, FL\, 34231\, United States\, Unity of Sarasota\, 3023 Proctor Road\, Sarasota\, FL\, 34231\, United States
CATEGORIES:Services
ATTACH;FMTTYPE=image/webp:https://unityofsarasota.org/wp-content/uploads/2019/08/Sunday-Celebration-Service-1.webp
END:VEVENT
BEGIN:VEVENT
DTSTART;TZID=America/New_York:20300915T103000
DTEND;TZID=America/New_York:20300915T113000
DTSTAMP:20260422T192156
CREATED:20241027T213120Z
LAST-MODIFIED:20260410T155829Z
UID:10019433-1915698600-1915702200@unityofsarasota.org
SUMMARY:Sunday Celebration Service at Unity of Sarasota
DESCRIPTION:Sunday Celebration Service at Unity of Sarasota
URL:https://unityofsarasota.org/event/sunday-celebration-service-at-unity-of-sarasota-3/2030-09-15/
LOCATION:Unity of Sarasota\, 3023 Proctor Road\, Sarasota\, FL\, 34231\, United States\, Unity of Sarasota\, 3023 Proctor Road\, Sarasota\, FL\, 34231\, United States
CATEGORIES:Services
ATTACH;FMTTYPE=image/webp:https://unityofsarasota.org/wp-content/uploads/2019/08/Sunday-Celebration-Service-1.webp
END:VEVENT
BEGIN:VEVENT
DTSTART;TZID=America/New_York:20300922T103000
DTEND;TZID=America/New_York:20300922T113000
DTSTAMP:20260422T192156
CREATED:20241027T213120Z
LAST-MODIFIED:20260410T155829Z
UID:10019434-1916303400-1916307000@unityofsarasota.org
SUMMARY:Sunday Celebration Service at Unity of Sarasota
DESCRIPTION:Sunday Celebration Service at Unity of Sarasota
URL:https://unityofsarasota.org/event/sunday-celebration-service-at-unity-of-sarasota-3/2030-09-22/
LOCATION:Unity of Sarasota\, 3023 Proctor Road\, Sarasota\, FL\, 34231\, United States\, Unity of Sarasota\, 3023 Proctor Road\, Sarasota\, FL\, 34231\, United States
CATEGORIES:Services
ATTACH;FMTTYPE=image/webp:https://unityofsarasota.org/wp-content/uploads/2019/08/Sunday-Celebration-Service-1.webp
END:VEVENT
BEGIN:VEVENT
DTSTART;TZID=America/New_York:20300929T103000
DTEND;TZID=America/New_York:20300929T113000
DTSTAMP:20260422T192156
CREATED:20241027T213120Z
LAST-MODIFIED:20260410T155829Z
UID:10019435-1916908200-1916911800@unityofsarasota.org
SUMMARY:Sunday Celebration Service at Unity of Sarasota
DESCRIPTION:Sunday Celebration Service at Unity of Sarasota
URL:https://unityofsarasota.org/event/sunday-celebration-service-at-unity-of-sarasota-3/2030-09-29/
LOCATION:Unity of Sarasota\, 3023 Proctor Road\, Sarasota\, FL\, 34231\, United States\, Unity of Sarasota\, 3023 Proctor Road\, Sarasota\, FL\, 34231\, United States
CATEGORIES:Services
ATTACH;FMTTYPE=image/webp:https://unityofsarasota.org/wp-content/uploads/2019/08/Sunday-Celebration-Service-1.webp
END:VEVENT
BEGIN:VEVENT
DTSTART;TZID=America/New_York:20301006T103000
DTEND;TZID=America/New_York:20301006T113000
DTSTAMP:20260422T192156
CREATED:20241027T213120Z
LAST-MODIFIED:20260410T155829Z
UID:10019436-1917513000-1917516600@unityofsarasota.org
SUMMARY:Sunday Celebration Service at Unity of Sarasota
DESCRIPTION:Sunday Celebration Service at Unity of Sarasota
URL:https://unityofsarasota.org/event/sunday-celebration-service-at-unity-of-sarasota-3/2030-10-06/
LOCATION:Unity of Sarasota\, 3023 Proctor Road\, Sarasota\, FL\, 34231\, United States\, Unity of Sarasota\, 3023 Proctor Road\, Sarasota\, FL\, 34231\, United States
CATEGORIES:Services
ATTACH;FMTTYPE=image/webp:https://unityofsarasota.org/wp-content/uploads/2019/08/Sunday-Celebration-Service-1.webp
END:VEVENT
BEGIN:VEVENT
DTSTART;TZID=America/New_York:20301013T103000
DTEND;TZID=America/New_York:20301013T113000
DTSTAMP:20260422T192156
CREATED:20241027T213120Z
LAST-MODIFIED:20260410T155829Z
UID:10019437-1918117800-1918121400@unityofsarasota.org
SUMMARY:Sunday Celebration Service at Unity of Sarasota
DESCRIPTION:Sunday Celebration Service at Unity of Sarasota
URL:https://unityofsarasota.org/event/sunday-celebration-service-at-unity-of-sarasota-3/2030-10-13/
LOCATION:Unity of Sarasota\, 3023 Proctor Road\, Sarasota\, FL\, 34231\, United States\, Unity of Sarasota\, 3023 Proctor Road\, Sarasota\, FL\, 34231\, United States
CATEGORIES:Services
ATTACH;FMTTYPE=image/webp:https://unityofsarasota.org/wp-content/uploads/2019/08/Sunday-Celebration-Service-1.webp
END:VEVENT
BEGIN:VEVENT
DTSTART;TZID=America/New_York:20301020T103000
DTEND;TZID=America/New_York:20301020T113000
DTSTAMP:20260422T192156
CREATED:20241027T213120Z
LAST-MODIFIED:20260410T155829Z
UID:10019438-1918722600-1918726200@unityofsarasota.org
SUMMARY:Sunday Celebration Service at Unity of Sarasota
DESCRIPTION:Sunday Celebration Service at Unity of Sarasota
URL:https://unityofsarasota.org/event/sunday-celebration-service-at-unity-of-sarasota-3/2030-10-20/
LOCATION:Unity of Sarasota\, 3023 Proctor Road\, Sarasota\, FL\, 34231\, United States\, Unity of Sarasota\, 3023 Proctor Road\, Sarasota\, FL\, 34231\, United States
CATEGORIES:Services
ATTACH;FMTTYPE=image/webp:https://unityofsarasota.org/wp-content/uploads/2019/08/Sunday-Celebration-Service-1.webp
END:VEVENT
BEGIN:VEVENT
DTSTART;TZID=America/New_York:20301027T103000
DTEND;TZID=America/New_York:20301027T113000
DTSTAMP:20260422T192156
CREATED:20241027T213120Z
LAST-MODIFIED:20260410T155829Z
UID:10019439-1919327400-1919331000@unityofsarasota.org
SUMMARY:Sunday Celebration Service at Unity of Sarasota
DESCRIPTION:Sunday Celebration Service at Unity of Sarasota
URL:https://unityofsarasota.org/event/sunday-celebration-service-at-unity-of-sarasota-3/2030-10-27/
LOCATION:Unity of Sarasota\, 3023 Proctor Road\, Sarasota\, FL\, 34231\, United States\, Unity of Sarasota\, 3023 Proctor Road\, Sarasota\, FL\, 34231\, United States
CATEGORIES:Services
ATTACH;FMTTYPE=image/webp:https://unityofsarasota.org/wp-content/uploads/2019/08/Sunday-Celebration-Service-1.webp
END:VEVENT
BEGIN:VEVENT
DTSTART;TZID=America/New_York:20301103T103000
DTEND;TZID=America/New_York:20301103T113000
DTSTAMP:20260422T192156
CREATED:20241027T213120Z
LAST-MODIFIED:20260410T155829Z
UID:10019440-1919932200-1919935800@unityofsarasota.org
SUMMARY:Sunday Celebration Service at Unity of Sarasota
DESCRIPTION:Sunday Celebration Service at Unity of Sarasota
URL:https://unityofsarasota.org/event/sunday-celebration-service-at-unity-of-sarasota-3/2030-11-03/
LOCATION:Unity of Sarasota\, 3023 Proctor Road\, Sarasota\, FL\, 34231\, United States\, Unity of Sarasota\, 3023 Proctor Road\, Sarasota\, FL\, 34231\, United States
CATEGORIES:Services
ATTACH;FMTTYPE=image/webp:https://unityofsarasota.org/wp-content/uploads/2019/08/Sunday-Celebration-Service-1.webp
END:VEVENT
BEGIN:VEVENT
DTSTART;TZID=America/New_York:20301110T103000
DTEND;TZID=America/New_York:20301110T113000
DTSTAMP:20260422T192156
CREATED:20241027T213120Z
LAST-MODIFIED:20260410T155829Z
UID:10019441-1920537000-1920540600@unityofsarasota.org
SUMMARY:Sunday Celebration Service at Unity of Sarasota
DESCRIPTION:Sunday Celebration Service at Unity of Sarasota
URL:https://unityofsarasota.org/event/sunday-celebration-service-at-unity-of-sarasota-3/2030-11-10/
LOCATION:Unity of Sarasota\, 3023 Proctor Road\, Sarasota\, FL\, 34231\, United States\, Unity of Sarasota\, 3023 Proctor Road\, Sarasota\, FL\, 34231\, United States
CATEGORIES:Services
ATTACH;FMTTYPE=image/webp:https://unityofsarasota.org/wp-content/uploads/2019/08/Sunday-Celebration-Service-1.webp
END:VEVENT
BEGIN:VEVENT
DTSTART;TZID=America/New_York:20301117T103000
DTEND;TZID=America/New_York:20301117T113000
DTSTAMP:20260422T192156
CREATED:20241027T213120Z
LAST-MODIFIED:20260410T155829Z
UID:10019442-1921141800-1921145400@unityofsarasota.org
SUMMARY:Sunday Celebration Service at Unity of Sarasota
DESCRIPTION:Sunday Celebration Service at Unity of Sarasota
URL:https://unityofsarasota.org/event/sunday-celebration-service-at-unity-of-sarasota-3/2030-11-17/
LOCATION:Unity of Sarasota\, 3023 Proctor Road\, Sarasota\, FL\, 34231\, United States\, Unity of Sarasota\, 3023 Proctor Road\, Sarasota\, FL\, 34231\, United States
CATEGORIES:Services
ATTACH;FMTTYPE=image/webp:https://unityofsarasota.org/wp-content/uploads/2019/08/Sunday-Celebration-Service-1.webp
END:VEVENT
BEGIN:VEVENT
DTSTART;TZID=America/New_York:20301124T103000
DTEND;TZID=America/New_York:20301124T113000
DTSTAMP:20260422T192156
CREATED:20241027T213120Z
LAST-MODIFIED:20260410T155829Z
UID:10019443-1921746600-1921750200@unityofsarasota.org
SUMMARY:Sunday Celebration Service at Unity of Sarasota
DESCRIPTION:Sunday Celebration Service at Unity of Sarasota
URL:https://unityofsarasota.org/event/sunday-celebration-service-at-unity-of-sarasota-3/2030-11-24/
LOCATION:Unity of Sarasota\, 3023 Proctor Road\, Sarasota\, FL\, 34231\, United States\, Unity of Sarasota\, 3023 Proctor Road\, Sarasota\, FL\, 34231\, United States
CATEGORIES:Services
ATTACH;FMTTYPE=image/webp:https://unityofsarasota.org/wp-content/uploads/2019/08/Sunday-Celebration-Service-1.webp
END:VEVENT
BEGIN:VEVENT
DTSTART;TZID=America/New_York:20301201T103000
DTEND;TZID=America/New_York:20301201T113000
DTSTAMP:20260422T192156
CREATED:20241027T213120Z
LAST-MODIFIED:20260410T155829Z
UID:10019444-1922351400-1922355000@unityofsarasota.org
SUMMARY:Sunday Celebration Service at Unity of Sarasota
DESCRIPTION:Sunday Celebration Service at Unity of Sarasota
URL:https://unityofsarasota.org/event/sunday-celebration-service-at-unity-of-sarasota-3/2030-12-01/
LOCATION:Unity of Sarasota\, 3023 Proctor Road\, Sarasota\, FL\, 34231\, United States\, Unity of Sarasota\, 3023 Proctor Road\, Sarasota\, FL\, 34231\, United States
CATEGORIES:Services
ATTACH;FMTTYPE=image/webp:https://unityofsarasota.org/wp-content/uploads/2019/08/Sunday-Celebration-Service-1.webp
END:VEVENT
BEGIN:VEVENT
DTSTART;TZID=America/New_York:20301208T103000
DTEND;TZID=America/New_York:20301208T113000
DTSTAMP:20260422T192156
CREATED:20241027T213120Z
LAST-MODIFIED:20260410T155829Z
UID:10019445-1922956200-1922959800@unityofsarasota.org
SUMMARY:Sunday Celebration Service at Unity of Sarasota
DESCRIPTION:Sunday Celebration Service at Unity of Sarasota
URL:https://unityofsarasota.org/event/sunday-celebration-service-at-unity-of-sarasota-3/2030-12-08/
LOCATION:Unity of Sarasota\, 3023 Proctor Road\, Sarasota\, FL\, 34231\, United States\, Unity of Sarasota\, 3023 Proctor Road\, Sarasota\, FL\, 34231\, United States
CATEGORIES:Services
ATTACH;FMTTYPE=image/webp:https://unityofsarasota.org/wp-content/uploads/2019/08/Sunday-Celebration-Service-1.webp
END:VEVENT
BEGIN:VEVENT
DTSTART;TZID=America/New_York:20301215T103000
DTEND;TZID=America/New_York:20301215T113000
DTSTAMP:20260422T192156
CREATED:20241027T213120Z
LAST-MODIFIED:20260410T155829Z
UID:10019446-1923561000-1923564600@unityofsarasota.org
SUMMARY:Sunday Celebration Service at Unity of Sarasota
DESCRIPTION:Sunday Celebration Service at Unity of Sarasota
URL:https://unityofsarasota.org/event/sunday-celebration-service-at-unity-of-sarasota-3/2030-12-15/
LOCATION:Unity of Sarasota\, 3023 Proctor Road\, Sarasota\, FL\, 34231\, United States\, Unity of Sarasota\, 3023 Proctor Road\, Sarasota\, FL\, 34231\, United States
CATEGORIES:Services
ATTACH;FMTTYPE=image/webp:https://unityofsarasota.org/wp-content/uploads/2019/08/Sunday-Celebration-Service-1.webp
END:VEVENT
BEGIN:VEVENT
DTSTART;TZID=America/New_York:20301222T103000
DTEND;TZID=America/New_York:20301222T113000
DTSTAMP:20260422T192156
CREATED:20241027T213120Z
LAST-MODIFIED:20260410T155829Z
UID:10019447-1924165800-1924169400@unityofsarasota.org
SUMMARY:Sunday Celebration Service at Unity of Sarasota
DESCRIPTION:Sunday Celebration Service at Unity of Sarasota
URL:https://unityofsarasota.org/event/sunday-celebration-service-at-unity-of-sarasota-3/2030-12-22/
LOCATION:Unity of Sarasota\, 3023 Proctor Road\, Sarasota\, FL\, 34231\, United States\, Unity of Sarasota\, 3023 Proctor Road\, Sarasota\, FL\, 34231\, United States
CATEGORIES:Services
ATTACH;FMTTYPE=image/webp:https://unityofsarasota.org/wp-content/uploads/2019/08/Sunday-Celebration-Service-1.webp
END:VEVENT
BEGIN:VEVENT
DTSTART;TZID=America/New_York:20301229T103000
DTEND;TZID=America/New_York:20301229T113000
DTSTAMP:20260422T192156
CREATED:20241027T213120Z
LAST-MODIFIED:20260410T155829Z
UID:10019448-1924770600-1924774200@unityofsarasota.org
SUMMARY:Sunday Celebration Service at Unity of Sarasota
DESCRIPTION:Sunday Celebration Service at Unity of Sarasota
URL:https://unityofsarasota.org/event/sunday-celebration-service-at-unity-of-sarasota-3/2030-12-29/
LOCATION:Unity of Sarasota\, 3023 Proctor Road\, Sarasota\, FL\, 34231\, United States\, Unity of Sarasota\, 3023 Proctor Road\, Sarasota\, FL\, 34231\, United States
CATEGORIES:Services
ATTACH;FMTTYPE=image/webp:https://unityofsarasota.org/wp-content/uploads/2019/08/Sunday-Celebration-Service-1.webp
END:VEVENT
BEGIN:VEVENT
DTSTART;TZID=America/New_York:20310105T103000
DTEND;TZID=America/New_York:20310105T113000
DTSTAMP:20260422T192156
CREATED:20241027T213120Z
LAST-MODIFIED:20260410T155829Z
UID:10019449-1925375400-1925379000@unityofsarasota.org
SUMMARY:Sunday Celebration Service at Unity of Sarasota
DESCRIPTION:Sunday Celebration Service at Unity of Sarasota
URL:https://unityofsarasota.org/event/sunday-celebration-service-at-unity-of-sarasota-3/2031-01-05/
LOCATION:Unity of Sarasota\, 3023 Proctor Road\, Sarasota\, FL\, 34231\, United States\, Unity of Sarasota\, 3023 Proctor Road\, Sarasota\, FL\, 34231\, United States
CATEGORIES:Services
ATTACH;FMTTYPE=image/webp:https://unityofsarasota.org/wp-content/uploads/2019/08/Sunday-Celebration-Service-1.webp
END:VEVENT
END:VCALENDAR