BEGIN:VCALENDAR
VERSION:2.0
PRODID:-//Unity of Sarasota - ECPv6.15.17.1//NONSGML v1.0//EN
CALSCALE:GREGORIAN
METHOD:PUBLISH
X-WR-CALNAME:Unity of Sarasota
X-ORIGINAL-URL:https://unityofsarasota.org
X-WR-CALDESC:Events for Unity of Sarasota
REFRESH-INTERVAL;VALUE=DURATION:PT1H
X-Robots-Tag:noindex
X-PUBLISHED-TTL:PT1H
BEGIN:VTIMEZONE
TZID:America/New_York
BEGIN:DAYLIGHT
TZOFFSETFROM:-0500
TZOFFSETTO:-0400
TZNAME:EDT
DTSTART:20250309T070000
END:DAYLIGHT
BEGIN:STANDARD
TZOFFSETFROM:-0400
TZOFFSETTO:-0500
TZNAME:EST
DTSTART:20251102T060000
END:STANDARD
BEGIN:DAYLIGHT
TZOFFSETFROM:-0500
TZOFFSETTO:-0400
TZNAME:EDT
DTSTART:20260308T070000
END:DAYLIGHT
BEGIN:STANDARD
TZOFFSETFROM:-0400
TZOFFSETTO:-0500
TZNAME:EST
DTSTART:20261101T060000
END:STANDARD
BEGIN:DAYLIGHT
TZOFFSETFROM:-0500
TZOFFSETTO:-0400
TZNAME:EDT
DTSTART:20270314T070000
END:DAYLIGHT
BEGIN:STANDARD
TZOFFSETFROM:-0400
TZOFFSETTO:-0500
TZNAME:EST
DTSTART:20271107T060000
END:STANDARD
END:VTIMEZONE
BEGIN:VEVENT
DTSTART;TZID=America/New_York:20260429T110000
DTEND;TZID=America/New_York:20260429T120000
DTSTAMP:20260423T144653
CREATED:20260226T032238Z
LAST-MODIFIED:20260226T032238Z
UID:10018265-1777460400-1777464000@unityofsarasota.org
SUMMARY:Chair Yoga at Unity Yoga
DESCRIPTION:– Monday: 5:00 PM – Gentle Yoga\n– Tuesday: 5:00 PM – Gentle Yoga\n– Wednesday: 11:00 AM – Chair Yoga\n– Thursday: 5:30 PM – Yin Yoga\n– Friday: 11:00 AM – Chair Yoga\n– Sunday: 4:00 PM – Gentle Yoga\n\nhttps://www.unityyoga.org\n\nUNITY YOGA located at\n3023 Proctor Rd. Sarasota\, FL 34231\nadmin@unityyoga.org\nFacebook: UnityYoga\n425-829-4835
URL:https://unityofsarasota.org/event/chair-yoga-at-unity-yoga/2026-04-29/
END:VEVENT
BEGIN:VEVENT
DTSTART;TZID=America/New_York:20260506T110000
DTEND;TZID=America/New_York:20260506T120000
DTSTAMP:20260423T144653
CREATED:20260226T032238Z
LAST-MODIFIED:20260226T032238Z
UID:10018266-1778065200-1778068800@unityofsarasota.org
SUMMARY:Chair Yoga at Unity Yoga
DESCRIPTION:– Monday: 5:00 PM – Gentle Yoga\n– Tuesday: 5:00 PM – Gentle Yoga\n– Wednesday: 11:00 AM – Chair Yoga\n– Thursday: 5:30 PM – Yin Yoga\n– Friday: 11:00 AM – Chair Yoga\n– Sunday: 4:00 PM – Gentle Yoga\n\nhttps://www.unityyoga.org\n\nUNITY YOGA located at\n3023 Proctor Rd. Sarasota\, FL 34231\nadmin@unityyoga.org\nFacebook: UnityYoga\n425-829-4835
URL:https://unityofsarasota.org/event/chair-yoga-at-unity-yoga/2026-05-06/
END:VEVENT
BEGIN:VEVENT
DTSTART;TZID=America/New_York:20260513T110000
DTEND;TZID=America/New_York:20260513T120000
DTSTAMP:20260423T144653
CREATED:20260226T032238Z
LAST-MODIFIED:20260226T032238Z
UID:10018267-1778670000-1778673600@unityofsarasota.org
SUMMARY:Chair Yoga at Unity Yoga
DESCRIPTION:– Monday: 5:00 PM – Gentle Yoga\n– Tuesday: 5:00 PM – Gentle Yoga\n– Wednesday: 11:00 AM – Chair Yoga\n– Thursday: 5:30 PM – Yin Yoga\n– Friday: 11:00 AM – Chair Yoga\n– Sunday: 4:00 PM – Gentle Yoga\n\nhttps://www.unityyoga.org\n\nUNITY YOGA located at\n3023 Proctor Rd. Sarasota\, FL 34231\nadmin@unityyoga.org\nFacebook: UnityYoga\n425-829-4835
URL:https://unityofsarasota.org/event/chair-yoga-at-unity-yoga/2026-05-13/
END:VEVENT
BEGIN:VEVENT
DTSTART;TZID=America/New_York:20260520T110000
DTEND;TZID=America/New_York:20260520T120000
DTSTAMP:20260423T144653
CREATED:20260226T032238Z
LAST-MODIFIED:20260226T032238Z
UID:10018268-1779274800-1779278400@unityofsarasota.org
SUMMARY:Chair Yoga at Unity Yoga
DESCRIPTION:– Monday: 5:00 PM – Gentle Yoga\n– Tuesday: 5:00 PM – Gentle Yoga\n– Wednesday: 11:00 AM – Chair Yoga\n– Thursday: 5:30 PM – Yin Yoga\n– Friday: 11:00 AM – Chair Yoga\n– Sunday: 4:00 PM – Gentle Yoga\n\nhttps://www.unityyoga.org\n\nUNITY YOGA located at\n3023 Proctor Rd. Sarasota\, FL 34231\nadmin@unityyoga.org\nFacebook: UnityYoga\n425-829-4835
URL:https://unityofsarasota.org/event/chair-yoga-at-unity-yoga/2026-05-20/
END:VEVENT
BEGIN:VEVENT
DTSTART;TZID=America/New_York:20260527T110000
DTEND;TZID=America/New_York:20260527T120000
DTSTAMP:20260423T144653
CREATED:20260226T032238Z
LAST-MODIFIED:20260226T032238Z
UID:10018269-1779879600-1779883200@unityofsarasota.org
SUMMARY:Chair Yoga at Unity Yoga
DESCRIPTION:– Monday: 5:00 PM – Gentle Yoga\n– Tuesday: 5:00 PM – Gentle Yoga\n– Wednesday: 11:00 AM – Chair Yoga\n– Thursday: 5:30 PM – Yin Yoga\n– Friday: 11:00 AM – Chair Yoga\n– Sunday: 4:00 PM – Gentle Yoga\n\nhttps://www.unityyoga.org\n\nUNITY YOGA located at\n3023 Proctor Rd. Sarasota\, FL 34231\nadmin@unityyoga.org\nFacebook: UnityYoga\n425-829-4835
URL:https://unityofsarasota.org/event/chair-yoga-at-unity-yoga/2026-05-27/
END:VEVENT
BEGIN:VEVENT
DTSTART;TZID=America/New_York:20260603T110000
DTEND;TZID=America/New_York:20260603T120000
DTSTAMP:20260423T144653
CREATED:20260226T032238Z
LAST-MODIFIED:20260226T032238Z
UID:10018270-1780484400-1780488000@unityofsarasota.org
SUMMARY:Chair Yoga at Unity Yoga
DESCRIPTION:– Monday: 5:00 PM – Gentle Yoga\n– Tuesday: 5:00 PM – Gentle Yoga\n– Wednesday: 11:00 AM – Chair Yoga\n– Thursday: 5:30 PM – Yin Yoga\n– Friday: 11:00 AM – Chair Yoga\n– Sunday: 4:00 PM – Gentle Yoga\n\nhttps://www.unityyoga.org\n\nUNITY YOGA located at\n3023 Proctor Rd. Sarasota\, FL 34231\nadmin@unityyoga.org\nFacebook: UnityYoga\n425-829-4835
URL:https://unityofsarasota.org/event/chair-yoga-at-unity-yoga/2026-06-03/
END:VEVENT
BEGIN:VEVENT
DTSTART;TZID=America/New_York:20260610T110000
DTEND;TZID=America/New_York:20260610T120000
DTSTAMP:20260423T144653
CREATED:20260226T032238Z
LAST-MODIFIED:20260226T032238Z
UID:10018271-1781089200-1781092800@unityofsarasota.org
SUMMARY:Chair Yoga at Unity Yoga
DESCRIPTION:– Monday: 5:00 PM – Gentle Yoga\n– Tuesday: 5:00 PM – Gentle Yoga\n– Wednesday: 11:00 AM – Chair Yoga\n– Thursday: 5:30 PM – Yin Yoga\n– Friday: 11:00 AM – Chair Yoga\n– Sunday: 4:00 PM – Gentle Yoga\n\nhttps://www.unityyoga.org\n\nUNITY YOGA located at\n3023 Proctor Rd. Sarasota\, FL 34231\nadmin@unityyoga.org\nFacebook: UnityYoga\n425-829-4835
URL:https://unityofsarasota.org/event/chair-yoga-at-unity-yoga/2026-06-10/
END:VEVENT
BEGIN:VEVENT
DTSTART;TZID=America/New_York:20260617T110000
DTEND;TZID=America/New_York:20260617T120000
DTSTAMP:20260423T144653
CREATED:20260226T032238Z
LAST-MODIFIED:20260226T032238Z
UID:10018272-1781694000-1781697600@unityofsarasota.org
SUMMARY:Chair Yoga at Unity Yoga
DESCRIPTION:– Monday: 5:00 PM – Gentle Yoga\n– Tuesday: 5:00 PM – Gentle Yoga\n– Wednesday: 11:00 AM – Chair Yoga\n– Thursday: 5:30 PM – Yin Yoga\n– Friday: 11:00 AM – Chair Yoga\n– Sunday: 4:00 PM – Gentle Yoga\n\nhttps://www.unityyoga.org\n\nUNITY YOGA located at\n3023 Proctor Rd. Sarasota\, FL 34231\nadmin@unityyoga.org\nFacebook: UnityYoga\n425-829-4835
URL:https://unityofsarasota.org/event/chair-yoga-at-unity-yoga/2026-06-17/
END:VEVENT
BEGIN:VEVENT
DTSTART;TZID=America/New_York:20260624T110000
DTEND;TZID=America/New_York:20260624T120000
DTSTAMP:20260423T144653
CREATED:20260226T032238Z
LAST-MODIFIED:20260226T032238Z
UID:10018273-1782298800-1782302400@unityofsarasota.org
SUMMARY:Chair Yoga at Unity Yoga
DESCRIPTION:– Monday: 5:00 PM – Gentle Yoga\n– Tuesday: 5:00 PM – Gentle Yoga\n– Wednesday: 11:00 AM – Chair Yoga\n– Thursday: 5:30 PM – Yin Yoga\n– Friday: 11:00 AM – Chair Yoga\n– Sunday: 4:00 PM – Gentle Yoga\n\nhttps://www.unityyoga.org\n\nUNITY YOGA located at\n3023 Proctor Rd. Sarasota\, FL 34231\nadmin@unityyoga.org\nFacebook: UnityYoga\n425-829-4835
URL:https://unityofsarasota.org/event/chair-yoga-at-unity-yoga/2026-06-24/
END:VEVENT
BEGIN:VEVENT
DTSTART;TZID=America/New_York:20260701T110000
DTEND;TZID=America/New_York:20260701T120000
DTSTAMP:20260423T144653
CREATED:20260226T032238Z
LAST-MODIFIED:20260226T032238Z
UID:10018274-1782903600-1782907200@unityofsarasota.org
SUMMARY:Chair Yoga at Unity Yoga
DESCRIPTION:– Monday: 5:00 PM – Gentle Yoga\n– Tuesday: 5:00 PM – Gentle Yoga\n– Wednesday: 11:00 AM – Chair Yoga\n– Thursday: 5:30 PM – Yin Yoga\n– Friday: 11:00 AM – Chair Yoga\n– Sunday: 4:00 PM – Gentle Yoga\n\nhttps://www.unityyoga.org\n\nUNITY YOGA located at\n3023 Proctor Rd. Sarasota\, FL 34231\nadmin@unityyoga.org\nFacebook: UnityYoga\n425-829-4835
URL:https://unityofsarasota.org/event/chair-yoga-at-unity-yoga/2026-07-01/
END:VEVENT
BEGIN:VEVENT
DTSTART;TZID=America/New_York:20260708T110000
DTEND;TZID=America/New_York:20260708T120000
DTSTAMP:20260423T144653
CREATED:20260226T032238Z
LAST-MODIFIED:20260226T032238Z
UID:10018275-1783508400-1783512000@unityofsarasota.org
SUMMARY:Chair Yoga at Unity Yoga
DESCRIPTION:– Monday: 5:00 PM – Gentle Yoga\n– Tuesday: 5:00 PM – Gentle Yoga\n– Wednesday: 11:00 AM – Chair Yoga\n– Thursday: 5:30 PM – Yin Yoga\n– Friday: 11:00 AM – Chair Yoga\n– Sunday: 4:00 PM – Gentle Yoga\n\nhttps://www.unityyoga.org\n\nUNITY YOGA located at\n3023 Proctor Rd. Sarasota\, FL 34231\nadmin@unityyoga.org\nFacebook: UnityYoga\n425-829-4835
URL:https://unityofsarasota.org/event/chair-yoga-at-unity-yoga/2026-07-08/
END:VEVENT
BEGIN:VEVENT
DTSTART;TZID=America/New_York:20260715T110000
DTEND;TZID=America/New_York:20260715T120000
DTSTAMP:20260423T144653
CREATED:20260226T032238Z
LAST-MODIFIED:20260226T032238Z
UID:10018276-1784113200-1784116800@unityofsarasota.org
SUMMARY:Chair Yoga at Unity Yoga
DESCRIPTION:– Monday: 5:00 PM – Gentle Yoga\n– Tuesday: 5:00 PM – Gentle Yoga\n– Wednesday: 11:00 AM – Chair Yoga\n– Thursday: 5:30 PM – Yin Yoga\n– Friday: 11:00 AM – Chair Yoga\n– Sunday: 4:00 PM – Gentle Yoga\n\nhttps://www.unityyoga.org\n\nUNITY YOGA located at\n3023 Proctor Rd. Sarasota\, FL 34231\nadmin@unityyoga.org\nFacebook: UnityYoga\n425-829-4835
URL:https://unityofsarasota.org/event/chair-yoga-at-unity-yoga/2026-07-15/
END:VEVENT
BEGIN:VEVENT
DTSTART;TZID=America/New_York:20260722T110000
DTEND;TZID=America/New_York:20260722T120000
DTSTAMP:20260423T144653
CREATED:20260226T032238Z
LAST-MODIFIED:20260226T032238Z
UID:10018277-1784718000-1784721600@unityofsarasota.org
SUMMARY:Chair Yoga at Unity Yoga
DESCRIPTION:– Monday: 5:00 PM – Gentle Yoga\n– Tuesday: 5:00 PM – Gentle Yoga\n– Wednesday: 11:00 AM – Chair Yoga\n– Thursday: 5:30 PM – Yin Yoga\n– Friday: 11:00 AM – Chair Yoga\n– Sunday: 4:00 PM – Gentle Yoga\n\nhttps://www.unityyoga.org\n\nUNITY YOGA located at\n3023 Proctor Rd. Sarasota\, FL 34231\nadmin@unityyoga.org\nFacebook: UnityYoga\n425-829-4835
URL:https://unityofsarasota.org/event/chair-yoga-at-unity-yoga/2026-07-22/
END:VEVENT
BEGIN:VEVENT
DTSTART;TZID=America/New_York:20260729T110000
DTEND;TZID=America/New_York:20260729T120000
DTSTAMP:20260423T144653
CREATED:20260226T032238Z
LAST-MODIFIED:20260226T032238Z
UID:10018278-1785322800-1785326400@unityofsarasota.org
SUMMARY:Chair Yoga at Unity Yoga
DESCRIPTION:– Monday: 5:00 PM – Gentle Yoga\n– Tuesday: 5:00 PM – Gentle Yoga\n– Wednesday: 11:00 AM – Chair Yoga\n– Thursday: 5:30 PM – Yin Yoga\n– Friday: 11:00 AM – Chair Yoga\n– Sunday: 4:00 PM – Gentle Yoga\n\nhttps://www.unityyoga.org\n\nUNITY YOGA located at\n3023 Proctor Rd. Sarasota\, FL 34231\nadmin@unityyoga.org\nFacebook: UnityYoga\n425-829-4835
URL:https://unityofsarasota.org/event/chair-yoga-at-unity-yoga/2026-07-29/
END:VEVENT
BEGIN:VEVENT
DTSTART;TZID=America/New_York:20260805T110000
DTEND;TZID=America/New_York:20260805T120000
DTSTAMP:20260423T144653
CREATED:20260226T032238Z
LAST-MODIFIED:20260226T032238Z
UID:10018279-1785927600-1785931200@unityofsarasota.org
SUMMARY:Chair Yoga at Unity Yoga
DESCRIPTION:– Monday: 5:00 PM – Gentle Yoga\n– Tuesday: 5:00 PM – Gentle Yoga\n– Wednesday: 11:00 AM – Chair Yoga\n– Thursday: 5:30 PM – Yin Yoga\n– Friday: 11:00 AM – Chair Yoga\n– Sunday: 4:00 PM – Gentle Yoga\n\nhttps://www.unityyoga.org\n\nUNITY YOGA located at\n3023 Proctor Rd. Sarasota\, FL 34231\nadmin@unityyoga.org\nFacebook: UnityYoga\n425-829-4835
URL:https://unityofsarasota.org/event/chair-yoga-at-unity-yoga/2026-08-05/
END:VEVENT
BEGIN:VEVENT
DTSTART;TZID=America/New_York:20260812T110000
DTEND;TZID=America/New_York:20260812T120000
DTSTAMP:20260423T144653
CREATED:20260226T032238Z
LAST-MODIFIED:20260226T032238Z
UID:10018280-1786532400-1786536000@unityofsarasota.org
SUMMARY:Chair Yoga at Unity Yoga
DESCRIPTION:– Monday: 5:00 PM – Gentle Yoga\n– Tuesday: 5:00 PM – Gentle Yoga\n– Wednesday: 11:00 AM – Chair Yoga\n– Thursday: 5:30 PM – Yin Yoga\n– Friday: 11:00 AM – Chair Yoga\n– Sunday: 4:00 PM – Gentle Yoga\n\nhttps://www.unityyoga.org\n\nUNITY YOGA located at\n3023 Proctor Rd. Sarasota\, FL 34231\nadmin@unityyoga.org\nFacebook: UnityYoga\n425-829-4835
URL:https://unityofsarasota.org/event/chair-yoga-at-unity-yoga/2026-08-12/
END:VEVENT
BEGIN:VEVENT
DTSTART;TZID=America/New_York:20260819T110000
DTEND;TZID=America/New_York:20260819T120000
DTSTAMP:20260423T144653
CREATED:20260226T032238Z
LAST-MODIFIED:20260226T032238Z
UID:10018281-1787137200-1787140800@unityofsarasota.org
SUMMARY:Chair Yoga at Unity Yoga
DESCRIPTION:– Monday: 5:00 PM – Gentle Yoga\n– Tuesday: 5:00 PM – Gentle Yoga\n– Wednesday: 11:00 AM – Chair Yoga\n– Thursday: 5:30 PM – Yin Yoga\n– Friday: 11:00 AM – Chair Yoga\n– Sunday: 4:00 PM – Gentle Yoga\n\nhttps://www.unityyoga.org\n\nUNITY YOGA located at\n3023 Proctor Rd. Sarasota\, FL 34231\nadmin@unityyoga.org\nFacebook: UnityYoga\n425-829-4835
URL:https://unityofsarasota.org/event/chair-yoga-at-unity-yoga/2026-08-19/
END:VEVENT
BEGIN:VEVENT
DTSTART;TZID=America/New_York:20260826T110000
DTEND;TZID=America/New_York:20260826T120000
DTSTAMP:20260423T144653
CREATED:20260226T032238Z
LAST-MODIFIED:20260226T032238Z
UID:10018282-1787742000-1787745600@unityofsarasota.org
SUMMARY:Chair Yoga at Unity Yoga
DESCRIPTION:– Monday: 5:00 PM – Gentle Yoga\n– Tuesday: 5:00 PM – Gentle Yoga\n– Wednesday: 11:00 AM – Chair Yoga\n– Thursday: 5:30 PM – Yin Yoga\n– Friday: 11:00 AM – Chair Yoga\n– Sunday: 4:00 PM – Gentle Yoga\n\nhttps://www.unityyoga.org\n\nUNITY YOGA located at\n3023 Proctor Rd. Sarasota\, FL 34231\nadmin@unityyoga.org\nFacebook: UnityYoga\n425-829-4835
URL:https://unityofsarasota.org/event/chair-yoga-at-unity-yoga/2026-08-26/
END:VEVENT
BEGIN:VEVENT
DTSTART;TZID=America/New_York:20260902T110000
DTEND;TZID=America/New_York:20260902T120000
DTSTAMP:20260423T144653
CREATED:20260226T032238Z
LAST-MODIFIED:20260226T032238Z
UID:10018283-1788346800-1788350400@unityofsarasota.org
SUMMARY:Chair Yoga at Unity Yoga
DESCRIPTION:– Monday: 5:00 PM – Gentle Yoga\n– Tuesday: 5:00 PM – Gentle Yoga\n– Wednesday: 11:00 AM – Chair Yoga\n– Thursday: 5:30 PM – Yin Yoga\n– Friday: 11:00 AM – Chair Yoga\n– Sunday: 4:00 PM – Gentle Yoga\n\nhttps://www.unityyoga.org\n\nUNITY YOGA located at\n3023 Proctor Rd. Sarasota\, FL 34231\nadmin@unityyoga.org\nFacebook: UnityYoga\n425-829-4835
URL:https://unityofsarasota.org/event/chair-yoga-at-unity-yoga/2026-09-02/
END:VEVENT
BEGIN:VEVENT
DTSTART;TZID=America/New_York:20260909T110000
DTEND;TZID=America/New_York:20260909T120000
DTSTAMP:20260423T144653
CREATED:20260226T032238Z
LAST-MODIFIED:20260226T032238Z
UID:10018284-1788951600-1788955200@unityofsarasota.org
SUMMARY:Chair Yoga at Unity Yoga
DESCRIPTION:– Monday: 5:00 PM – Gentle Yoga\n– Tuesday: 5:00 PM – Gentle Yoga\n– Wednesday: 11:00 AM – Chair Yoga\n– Thursday: 5:30 PM – Yin Yoga\n– Friday: 11:00 AM – Chair Yoga\n– Sunday: 4:00 PM – Gentle Yoga\n\nhttps://www.unityyoga.org\n\nUNITY YOGA located at\n3023 Proctor Rd. Sarasota\, FL 34231\nadmin@unityyoga.org\nFacebook: UnityYoga\n425-829-4835
URL:https://unityofsarasota.org/event/chair-yoga-at-unity-yoga/2026-09-09/
END:VEVENT
BEGIN:VEVENT
DTSTART;TZID=America/New_York:20260916T110000
DTEND;TZID=America/New_York:20260916T120000
DTSTAMP:20260423T144653
CREATED:20260226T032238Z
LAST-MODIFIED:20260226T032238Z
UID:10018285-1789556400-1789560000@unityofsarasota.org
SUMMARY:Chair Yoga at Unity Yoga
DESCRIPTION:– Monday: 5:00 PM – Gentle Yoga\n– Tuesday: 5:00 PM – Gentle Yoga\n– Wednesday: 11:00 AM – Chair Yoga\n– Thursday: 5:30 PM – Yin Yoga\n– Friday: 11:00 AM – Chair Yoga\n– Sunday: 4:00 PM – Gentle Yoga\n\nhttps://www.unityyoga.org\n\nUNITY YOGA located at\n3023 Proctor Rd. Sarasota\, FL 34231\nadmin@unityyoga.org\nFacebook: UnityYoga\n425-829-4835
URL:https://unityofsarasota.org/event/chair-yoga-at-unity-yoga/2026-09-16/
END:VEVENT
BEGIN:VEVENT
DTSTART;TZID=America/New_York:20260923T110000
DTEND;TZID=America/New_York:20260923T120000
DTSTAMP:20260423T144653
CREATED:20260226T032238Z
LAST-MODIFIED:20260226T032238Z
UID:10018286-1790161200-1790164800@unityofsarasota.org
SUMMARY:Chair Yoga at Unity Yoga
DESCRIPTION:– Monday: 5:00 PM – Gentle Yoga\n– Tuesday: 5:00 PM – Gentle Yoga\n– Wednesday: 11:00 AM – Chair Yoga\n– Thursday: 5:30 PM – Yin Yoga\n– Friday: 11:00 AM – Chair Yoga\n– Sunday: 4:00 PM – Gentle Yoga\n\nhttps://www.unityyoga.org\n\nUNITY YOGA located at\n3023 Proctor Rd. Sarasota\, FL 34231\nadmin@unityyoga.org\nFacebook: UnityYoga\n425-829-4835
URL:https://unityofsarasota.org/event/chair-yoga-at-unity-yoga/2026-09-23/
END:VEVENT
BEGIN:VEVENT
DTSTART;TZID=America/New_York:20260930T110000
DTEND;TZID=America/New_York:20260930T120000
DTSTAMP:20260423T144653
CREATED:20260226T032238Z
LAST-MODIFIED:20260226T032238Z
UID:10018287-1790766000-1790769600@unityofsarasota.org
SUMMARY:Chair Yoga at Unity Yoga
DESCRIPTION:– Monday: 5:00 PM – Gentle Yoga\n– Tuesday: 5:00 PM – Gentle Yoga\n– Wednesday: 11:00 AM – Chair Yoga\n– Thursday: 5:30 PM – Yin Yoga\n– Friday: 11:00 AM – Chair Yoga\n– Sunday: 4:00 PM – Gentle Yoga\n\nhttps://www.unityyoga.org\n\nUNITY YOGA located at\n3023 Proctor Rd. Sarasota\, FL 34231\nadmin@unityyoga.org\nFacebook: UnityYoga\n425-829-4835
URL:https://unityofsarasota.org/event/chair-yoga-at-unity-yoga/2026-09-30/
END:VEVENT
BEGIN:VEVENT
DTSTART;TZID=America/New_York:20261007T110000
DTEND;TZID=America/New_York:20261007T120000
DTSTAMP:20260423T144653
CREATED:20260226T032238Z
LAST-MODIFIED:20260226T032238Z
UID:10018288-1791370800-1791374400@unityofsarasota.org
SUMMARY:Chair Yoga at Unity Yoga
DESCRIPTION:– Monday: 5:00 PM – Gentle Yoga\n– Tuesday: 5:00 PM – Gentle Yoga\n– Wednesday: 11:00 AM – Chair Yoga\n– Thursday: 5:30 PM – Yin Yoga\n– Friday: 11:00 AM – Chair Yoga\n– Sunday: 4:00 PM – Gentle Yoga\n\nhttps://www.unityyoga.org\n\nUNITY YOGA located at\n3023 Proctor Rd. Sarasota\, FL 34231\nadmin@unityyoga.org\nFacebook: UnityYoga\n425-829-4835
URL:https://unityofsarasota.org/event/chair-yoga-at-unity-yoga/2026-10-07/
END:VEVENT
BEGIN:VEVENT
DTSTART;TZID=America/New_York:20261014T110000
DTEND;TZID=America/New_York:20261014T120000
DTSTAMP:20260423T144653
CREATED:20260226T032238Z
LAST-MODIFIED:20260226T032238Z
UID:10018289-1791975600-1791979200@unityofsarasota.org
SUMMARY:Chair Yoga at Unity Yoga
DESCRIPTION:– Monday: 5:00 PM – Gentle Yoga\n– Tuesday: 5:00 PM – Gentle Yoga\n– Wednesday: 11:00 AM – Chair Yoga\n– Thursday: 5:30 PM – Yin Yoga\n– Friday: 11:00 AM – Chair Yoga\n– Sunday: 4:00 PM – Gentle Yoga\n\nhttps://www.unityyoga.org\n\nUNITY YOGA located at\n3023 Proctor Rd. Sarasota\, FL 34231\nadmin@unityyoga.org\nFacebook: UnityYoga\n425-829-4835
URL:https://unityofsarasota.org/event/chair-yoga-at-unity-yoga/2026-10-14/
END:VEVENT
BEGIN:VEVENT
DTSTART;TZID=America/New_York:20261021T110000
DTEND;TZID=America/New_York:20261021T120000
DTSTAMP:20260423T144653
CREATED:20260226T032238Z
LAST-MODIFIED:20260226T032238Z
UID:10018290-1792580400-1792584000@unityofsarasota.org
SUMMARY:Chair Yoga at Unity Yoga
DESCRIPTION:– Monday: 5:00 PM – Gentle Yoga\n– Tuesday: 5:00 PM – Gentle Yoga\n– Wednesday: 11:00 AM – Chair Yoga\n– Thursday: 5:30 PM – Yin Yoga\n– Friday: 11:00 AM – Chair Yoga\n– Sunday: 4:00 PM – Gentle Yoga\n\nhttps://www.unityyoga.org\n\nUNITY YOGA located at\n3023 Proctor Rd. Sarasota\, FL 34231\nadmin@unityyoga.org\nFacebook: UnityYoga\n425-829-4835
URL:https://unityofsarasota.org/event/chair-yoga-at-unity-yoga/2026-10-21/
END:VEVENT
BEGIN:VEVENT
DTSTART;TZID=America/New_York:20261028T110000
DTEND;TZID=America/New_York:20261028T120000
DTSTAMP:20260423T144653
CREATED:20260226T032238Z
LAST-MODIFIED:20260226T032238Z
UID:10018291-1793185200-1793188800@unityofsarasota.org
SUMMARY:Chair Yoga at Unity Yoga
DESCRIPTION:– Monday: 5:00 PM – Gentle Yoga\n– Tuesday: 5:00 PM – Gentle Yoga\n– Wednesday: 11:00 AM – Chair Yoga\n– Thursday: 5:30 PM – Yin Yoga\n– Friday: 11:00 AM – Chair Yoga\n– Sunday: 4:00 PM – Gentle Yoga\n\nhttps://www.unityyoga.org\n\nUNITY YOGA located at\n3023 Proctor Rd. Sarasota\, FL 34231\nadmin@unityyoga.org\nFacebook: UnityYoga\n425-829-4835
URL:https://unityofsarasota.org/event/chair-yoga-at-unity-yoga/2026-10-28/
END:VEVENT
BEGIN:VEVENT
DTSTART;TZID=America/New_York:20261104T110000
DTEND;TZID=America/New_York:20261104T120000
DTSTAMP:20260423T144653
CREATED:20260226T032238Z
LAST-MODIFIED:20260226T032238Z
UID:10018292-1793790000-1793793600@unityofsarasota.org
SUMMARY:Chair Yoga at Unity Yoga
DESCRIPTION:– Monday: 5:00 PM – Gentle Yoga\n– Tuesday: 5:00 PM – Gentle Yoga\n– Wednesday: 11:00 AM – Chair Yoga\n– Thursday: 5:30 PM – Yin Yoga\n– Friday: 11:00 AM – Chair Yoga\n– Sunday: 4:00 PM – Gentle Yoga\n\nhttps://www.unityyoga.org\n\nUNITY YOGA located at\n3023 Proctor Rd. Sarasota\, FL 34231\nadmin@unityyoga.org\nFacebook: UnityYoga\n425-829-4835
URL:https://unityofsarasota.org/event/chair-yoga-at-unity-yoga/2026-11-04/
END:VEVENT
BEGIN:VEVENT
DTSTART;TZID=America/New_York:20261111T110000
DTEND;TZID=America/New_York:20261111T120000
DTSTAMP:20260423T144653
CREATED:20260226T032238Z
LAST-MODIFIED:20260226T032238Z
UID:10018293-1794394800-1794398400@unityofsarasota.org
SUMMARY:Chair Yoga at Unity Yoga
DESCRIPTION:– Monday: 5:00 PM – Gentle Yoga\n– Tuesday: 5:00 PM – Gentle Yoga\n– Wednesday: 11:00 AM – Chair Yoga\n– Thursday: 5:30 PM – Yin Yoga\n– Friday: 11:00 AM – Chair Yoga\n– Sunday: 4:00 PM – Gentle Yoga\n\nhttps://www.unityyoga.org\n\nUNITY YOGA located at\n3023 Proctor Rd. Sarasota\, FL 34231\nadmin@unityyoga.org\nFacebook: UnityYoga\n425-829-4835
URL:https://unityofsarasota.org/event/chair-yoga-at-unity-yoga/2026-11-11/
END:VEVENT
BEGIN:VEVENT
DTSTART;TZID=America/New_York:20261118T110000
DTEND;TZID=America/New_York:20261118T120000
DTSTAMP:20260423T144653
CREATED:20260226T032238Z
LAST-MODIFIED:20260226T032238Z
UID:10018294-1794999600-1795003200@unityofsarasota.org
SUMMARY:Chair Yoga at Unity Yoga
DESCRIPTION:– Monday: 5:00 PM – Gentle Yoga\n– Tuesday: 5:00 PM – Gentle Yoga\n– Wednesday: 11:00 AM – Chair Yoga\n– Thursday: 5:30 PM – Yin Yoga\n– Friday: 11:00 AM – Chair Yoga\n– Sunday: 4:00 PM – Gentle Yoga\n\nhttps://www.unityyoga.org\n\nUNITY YOGA located at\n3023 Proctor Rd. Sarasota\, FL 34231\nadmin@unityyoga.org\nFacebook: UnityYoga\n425-829-4835
URL:https://unityofsarasota.org/event/chair-yoga-at-unity-yoga/2026-11-18/
END:VEVENT
END:VCALENDAR