BEGIN:VCALENDAR
VERSION:2.0
PRODID:-//Unity of Sarasota - ECPv6.15.17.1//NONSGML v1.0//EN
CALSCALE:GREGORIAN
METHOD:PUBLISH
X-ORIGINAL-URL:https://unityofsarasota.org
X-WR-CALDESC:Events for Unity of Sarasota
REFRESH-INTERVAL;VALUE=DURATION:PT1H
X-Robots-Tag:noindex
X-PUBLISHED-TTL:PT1H
BEGIN:VTIMEZONE
TZID:America/New_York
BEGIN:DAYLIGHT
TZOFFSETFROM:-0500
TZOFFSETTO:-0400
TZNAME:EDT
DTSTART:20200308T070000
END:DAYLIGHT
BEGIN:STANDARD
TZOFFSETFROM:-0400
TZOFFSETTO:-0500
TZNAME:EST
DTSTART:20201101T060000
END:STANDARD
BEGIN:DAYLIGHT
TZOFFSETFROM:-0500
TZOFFSETTO:-0400
TZNAME:EDT
DTSTART:20210314T070000
END:DAYLIGHT
BEGIN:STANDARD
TZOFFSETFROM:-0400
TZOFFSETTO:-0500
TZNAME:EST
DTSTART:20211107T060000
END:STANDARD
BEGIN:DAYLIGHT
TZOFFSETFROM:-0500
TZOFFSETTO:-0400
TZNAME:EDT
DTSTART:20220313T070000
END:DAYLIGHT
BEGIN:STANDARD
TZOFFSETFROM:-0400
TZOFFSETTO:-0500
TZNAME:EST
DTSTART:20221106T060000
END:STANDARD
END:VTIMEZONE
BEGIN:VEVENT
DTSTART;TZID=America/New_York:20211004T190000
DTEND;TZID=America/New_York:20211004T200000
DTSTAMP:20260421T184212
CREATED:20210728T204146Z
LAST-MODIFIED:20230227T164305Z
UID:10002218-1633374000-1633377600@unityofsarasota.org
SUMMARY:AA Friends Group - Monday & Wednesday - 7-8pm
DESCRIPTION:AA Friends Group 7:00-8:00 pm  Mondays & Wednesdays from 7 to 8 pm at Unity of Sarasota in rooms A & B.  
URL:https://unityofsarasota.org/event/aa-friends-group-monday-wednesday-7-8pm/2021-10-04/
LOCATION:Unity of Sarasota\, 3023 Proctor Road\, Sarasota\, FL\, 34231\, United States\, Unity of Sarasota\, 3023 Proctor Road\, Sarasota\, FL\, 34231\, United States
CATEGORIES:Small Groups
END:VEVENT
BEGIN:VEVENT
DTSTART;TZID=America/New_York:20211011T190000
DTEND;TZID=America/New_York:20211011T200000
DTSTAMP:20260421T184212
CREATED:20210728T204146Z
LAST-MODIFIED:20230227T164305Z
UID:10002219-1633978800-1633982400@unityofsarasota.org
SUMMARY:AA Friends Group - Monday & Wednesday - 7-8pm
DESCRIPTION:AA Friends Group 7:00-8:00 pm  Mondays & Wednesdays from 7 to 8 pm at Unity of Sarasota in rooms A & B.  
URL:https://unityofsarasota.org/event/aa-friends-group-monday-wednesday-7-8pm/2021-10-11/
LOCATION:Unity of Sarasota\, 3023 Proctor Road\, Sarasota\, FL\, 34231\, United States\, Unity of Sarasota\, 3023 Proctor Road\, Sarasota\, FL\, 34231\, United States
CATEGORIES:Small Groups
END:VEVENT
BEGIN:VEVENT
DTSTART;TZID=America/New_York:20211018T190000
DTEND;TZID=America/New_York:20211018T200000
DTSTAMP:20260421T184212
CREATED:20210728T204146Z
LAST-MODIFIED:20230227T164305Z
UID:10002220-1634583600-1634587200@unityofsarasota.org
SUMMARY:AA Friends Group - Monday & Wednesday - 7-8pm
DESCRIPTION:AA Friends Group 7:00-8:00 pm  Mondays & Wednesdays from 7 to 8 pm at Unity of Sarasota in rooms A & B.  
URL:https://unityofsarasota.org/event/aa-friends-group-monday-wednesday-7-8pm/2021-10-18/
LOCATION:Unity of Sarasota\, 3023 Proctor Road\, Sarasota\, FL\, 34231\, United States\, Unity of Sarasota\, 3023 Proctor Road\, Sarasota\, FL\, 34231\, United States
CATEGORIES:Small Groups
END:VEVENT
BEGIN:VEVENT
DTSTART;TZID=America/New_York:20211025T190000
DTEND;TZID=America/New_York:20211025T200000
DTSTAMP:20260421T184212
CREATED:20210728T204146Z
LAST-MODIFIED:20230227T164305Z
UID:10002221-1635188400-1635192000@unityofsarasota.org
SUMMARY:AA Friends Group - Monday & Wednesday - 7-8pm
DESCRIPTION:AA Friends Group 7:00-8:00 pm  Mondays & Wednesdays from 7 to 8 pm at Unity of Sarasota in rooms A & B.  
URL:https://unityofsarasota.org/event/aa-friends-group-monday-wednesday-7-8pm/2021-10-25/
LOCATION:Unity of Sarasota\, 3023 Proctor Road\, Sarasota\, FL\, 34231\, United States\, Unity of Sarasota\, 3023 Proctor Road\, Sarasota\, FL\, 34231\, United States
CATEGORIES:Small Groups
END:VEVENT
END:VCALENDAR