BEGIN:VCALENDAR
VERSION:2.0
PRODID:-//Unity of Sarasota - ECPv6.15.17.1//NONSGML v1.0//EN
CALSCALE:GREGORIAN
METHOD:PUBLISH
X-WR-CALNAME:Unity of Sarasota
X-ORIGINAL-URL:https://unityofsarasota.org
X-WR-CALDESC:Events for Unity of Sarasota
REFRESH-INTERVAL;VALUE=DURATION:PT1H
X-Robots-Tag:noindex
X-PUBLISHED-TTL:PT1H
BEGIN:VTIMEZONE
TZID:America/New_York
BEGIN:DAYLIGHT
TZOFFSETFROM:-0500
TZOFFSETTO:-0400
TZNAME:EDT
DTSTART:20210314T070000
END:DAYLIGHT
BEGIN:STANDARD
TZOFFSETFROM:-0400
TZOFFSETTO:-0500
TZNAME:EST
DTSTART:20211107T060000
END:STANDARD
BEGIN:DAYLIGHT
TZOFFSETFROM:-0500
TZOFFSETTO:-0400
TZNAME:EDT
DTSTART:20220313T070000
END:DAYLIGHT
BEGIN:STANDARD
TZOFFSETFROM:-0400
TZOFFSETTO:-0500
TZNAME:EST
DTSTART:20221106T060000
END:STANDARD
BEGIN:DAYLIGHT
TZOFFSETFROM:-0500
TZOFFSETTO:-0400
TZNAME:EDT
DTSTART:20230312T070000
END:DAYLIGHT
BEGIN:STANDARD
TZOFFSETFROM:-0400
TZOFFSETTO:-0500
TZNAME:EST
DTSTART:20231105T060000
END:STANDARD
END:VTIMEZONE
BEGIN:VEVENT
DTSTART;TZID=America/New_York:20220126T190000
DTEND;TZID=America/New_York:20220126T200000
DTSTAMP:20260422T080826
CREATED:20211211T021609Z
LAST-MODIFIED:20211211T021609Z
UID:10003132-1643223600-1643227200@unityofsarasota.org
SUMMARY:Charley Thweatt in Concert at Unity of Sarasota on 1/26/2022
DESCRIPTION:Charley Thweatt brings his gifts of warmth\, humor\, presence\, and music to Unity of Sarasota.  On Wednesday  1/26/22 at 7:00 pm hear Charley Tweatt in concert–Love Offering. \nCharley has been on TV\, radio & collaborated with: Wayne Dyer\, Marianne Williamson\, Deepak Chopra and many others. \n \n 
URL:https://unityofsarasota.org/event/charley-thweatt-in-concert-at-unity-of-sarasota-on-1-26-2022/
LOCATION:Unity of Sarasota\, 3023 Proctor Road\, Sarasota\, FL\, 34231\, United States\, Unity of Sarasota\, 3023 Proctor Road\, Sarasota\, FL\, 34231\, United States
CATEGORIES:Concerts,Music and Inspiration
END:VEVENT
BEGIN:VEVENT
DTSTART;TZID=America/New_York:20220123T103000
DTEND;TZID=America/New_York:20220123T103000
DTSTAMP:20260422T080826
CREATED:20211211T020456Z
LAST-MODIFIED:20211211T020456Z
UID:10003131-1642933800-1642933800@unityofsarasota.org
SUMMARY:Charley Thweatt at our Sunday Celebration Service 1/23/2022
DESCRIPTION:Charley Thweatt brings his gifts of warmth\, humor\, presence\, and music to Unity of Sarasota on Sunday 1/23/22 at 10:30 am. Charley will share his music & real-life stories about how stepping into trust transformed everything. \n  \n 
URL:https://unityofsarasota.org/event/charley-thweatt-at-our-sunday-celebration-service-1-23-2022/
LOCATION:Unity of Sarasota\, 3023 Proctor Road\, Sarasota\, FL\, 34231\, United States\, Unity of Sarasota\, 3023 Proctor Road\, Sarasota\, FL\, 34231\, United States
CATEGORIES:Concerts,Music and Inspiration,Services
ATTACH;FMTTYPE=image/jpeg:https://unityofsarasota.org/wp-content/uploads/2021/12/January-ad-rgb.jpg
END:VEVENT
END:VCALENDAR