BEGIN:VCALENDAR
VERSION:2.0
PRODID:-//Unity of Sarasota - ECPv6.15.17.1//NONSGML v1.0//EN
CALSCALE:GREGORIAN
METHOD:PUBLISH
X-WR-CALNAME:Unity of Sarasota
X-ORIGINAL-URL:https://unityofsarasota.org
X-WR-CALDESC:Events for Unity of Sarasota
REFRESH-INTERVAL;VALUE=DURATION:PT1H
X-Robots-Tag:noindex
X-PUBLISHED-TTL:PT1H
BEGIN:VTIMEZONE
TZID:America/New_York
BEGIN:DAYLIGHT
TZOFFSETFROM:-0500
TZOFFSETTO:-0400
TZNAME:EDT
DTSTART:20190310T070000
END:DAYLIGHT
BEGIN:STANDARD
TZOFFSETFROM:-0400
TZOFFSETTO:-0500
TZNAME:EST
DTSTART:20191103T060000
END:STANDARD
BEGIN:DAYLIGHT
TZOFFSETFROM:-0500
TZOFFSETTO:-0400
TZNAME:EDT
DTSTART:20200308T070000
END:DAYLIGHT
BEGIN:STANDARD
TZOFFSETFROM:-0400
TZOFFSETTO:-0500
TZNAME:EST
DTSTART:20201101T060000
END:STANDARD
BEGIN:DAYLIGHT
TZOFFSETFROM:-0500
TZOFFSETTO:-0400
TZNAME:EDT
DTSTART:20210314T070000
END:DAYLIGHT
BEGIN:STANDARD
TZOFFSETFROM:-0400
TZOFFSETTO:-0500
TZNAME:EST
DTSTART:20211107T060000
END:STANDARD
BEGIN:DAYLIGHT
TZOFFSETFROM:-0500
TZOFFSETTO:-0400
TZNAME:EDT
DTSTART:20220313T070000
END:DAYLIGHT
BEGIN:STANDARD
TZOFFSETFROM:-0400
TZOFFSETTO:-0500
TZNAME:EST
DTSTART:20221106T060000
END:STANDARD
END:VTIMEZONE
BEGIN:VEVENT
DTSTART;TZID=America/New_York:20210402T190000
DTEND;TZID=America/New_York:20210402T200000
DTSTAMP:20260420T225351
CREATED:20210321T154628Z
LAST-MODIFIED:20210321T154713Z
UID:10003755-1617390000-1617393600@unityofsarasota.org
SUMMARY:Good Friday - Seven Last Teachings of Jesus from the Cross - Virtual Service
DESCRIPTION:Join Us Virtually for our Good Friday Service – Seven Last Teachings of Jesus from the Cross – on April 2nd at 7pm on FB Live or our website.
URL:https://unityofsarasota.org/event/good-friday-seven-last-teachings-of-jesus-from-the-cross/
LOCATION:Unity of Sarasota\, 3023 Proctor Road\, Sarasota\, FL\, 34231\, United States\, Unity of Sarasota\, 3023 Proctor Road\, Sarasota\, FL\, 34231\, United States
CATEGORIES:Services
ATTACH;FMTTYPE=image/jpeg:https://unityofsarasota.org/wp-content/uploads/2021/03/7-teachings-2021.jpg
END:VEVENT
BEGIN:VEVENT
DTSTART;TZID=America/New_York:20200410T190000
DTEND;TZID=America/New_York:20200410T200000
DTSTAMP:20260420T225351
CREATED:20200318T182350Z
LAST-MODIFIED:20200318T182350Z
UID:10003617-1586545200-1586548800@unityofsarasota.org
SUMMARY:Good Friday: 7 Last Teachings of Jesus from the Cross  - Virtual Service
DESCRIPTION:Join us virtually on Good Friday.  Please don’t forget to donate to Unity of Sarasota.  To do so\, go here:  https://unityofsarasota.org/contribute/ \n 
URL:https://unityofsarasota.org/event/good-friday-7-last-teachings-of-jesus-from-the-cross-virtual-service/
LOCATION:Unity of Sarasota\, 3023 Proctor Road\, Sarasota\, FL\, 34231\, United States\, Unity of Sarasota\, 3023 Proctor Road\, Sarasota\, FL\, 34231\, United States
CATEGORIES:Holiday Events,Music and Inspiration,Services
END:VEVENT
END:VCALENDAR