BEGIN:VCALENDAR
VERSION:2.0
PRODID:-//Unity of Sarasota - ECPv6.15.17.1//NONSGML v1.0//EN
CALSCALE:GREGORIAN
METHOD:PUBLISH
X-WR-CALNAME:Unity of Sarasota
X-ORIGINAL-URL:https://unityofsarasota.org
X-WR-CALDESC:Events for Unity of Sarasota
REFRESH-INTERVAL;VALUE=DURATION:PT1H
X-Robots-Tag:noindex
X-PUBLISHED-TTL:PT1H
BEGIN:VTIMEZONE
TZID:America/New_York
BEGIN:DAYLIGHT
TZOFFSETFROM:-0500
TZOFFSETTO:-0400
TZNAME:EDT
DTSTART:20190310T070000
END:DAYLIGHT
BEGIN:STANDARD
TZOFFSETFROM:-0400
TZOFFSETTO:-0500
TZNAME:EST
DTSTART:20191103T060000
END:STANDARD
BEGIN:DAYLIGHT
TZOFFSETFROM:-0500
TZOFFSETTO:-0400
TZNAME:EDT
DTSTART:20200308T070000
END:DAYLIGHT
BEGIN:STANDARD
TZOFFSETFROM:-0400
TZOFFSETTO:-0500
TZNAME:EST
DTSTART:20201101T060000
END:STANDARD
BEGIN:DAYLIGHT
TZOFFSETFROM:-0500
TZOFFSETTO:-0400
TZNAME:EDT
DTSTART:20210314T070000
END:DAYLIGHT
BEGIN:STANDARD
TZOFFSETFROM:-0400
TZOFFSETTO:-0500
TZNAME:EST
DTSTART:20211107T060000
END:STANDARD
END:VTIMEZONE
BEGIN:VEVENT
DTSTART;TZID=America/New_York:20200310T160000
DTEND;TZID=America/New_York:20200310T190000
DTSTAMP:20260419T154017
CREATED:20200217T223144Z
LAST-MODIFIED:20200316T204150Z
UID:10003154-1583856000-1583866800@unityofsarasota.org
SUMMARY:Cancelled - Healing Session with Teresa McGrath
DESCRIPTION:CANCELLED UNTIL FURTHER NOTICE\n  \n \nOne-on-one healing sessions with Teresa McGrath.    \n  \nLocation:  Unity of Sarasota\, Classroom F.     Time: 4 to 7 p.m on 2/25; 3/10; 3/17; and 3/24. \nSign up for a one-hour\, one-on-one session. $10 love offering. \nPlease call Teresa to set up your appointment or for more information at 630-546-2022 \n 
URL:https://unityofsarasota.org/event/healing-session-with-teresa-mcgrath/2020-03-10/
LOCATION:Unity of Sarasota\, 3023 Proctor Road\, Sarasota\, FL\, 34231\, United States\, Unity of Sarasota\, 3023 Proctor Road\, Sarasota\, FL\, 34231\, United States
CATEGORIES:Individual Sessions
END:VEVENT
BEGIN:VEVENT
DTSTART;TZID=America/New_York:20200225T160000
DTEND;TZID=America/New_York:20200225T190000
DTSTAMP:20260419T154017
CREATED:20200217T223144Z
LAST-MODIFIED:20200316T204150Z
UID:10003153-1582646400-1582657200@unityofsarasota.org
SUMMARY:Cancelled - Healing Session with Teresa McGrath
DESCRIPTION:CANCELLED UNTIL FURTHER NOTICE\n  \n \nOne-on-one healing sessions with Teresa McGrath.    \n  \nLocation:  Unity of Sarasota\, Classroom F.     Time: 4 to 7 p.m on 2/25; 3/10; 3/17; and 3/24. \nSign up for a one-hour\, one-on-one session. $10 love offering. \nPlease call Teresa to set up your appointment or for more information at 630-546-2022 \n 
URL:https://unityofsarasota.org/event/healing-session-with-teresa-mcgrath/2020-02-25/
LOCATION:Unity of Sarasota\, 3023 Proctor Road\, Sarasota\, FL\, 34231\, United States\, Unity of Sarasota\, 3023 Proctor Road\, Sarasota\, FL\, 34231\, United States
CATEGORIES:Individual Sessions
END:VEVENT
END:VCALENDAR