BEGIN:VCALENDAR
VERSION:2.0
PRODID:-//Unity of Sarasota - ECPv6.15.17.1//NONSGML v1.0//EN
CALSCALE:GREGORIAN
METHOD:PUBLISH
X-WR-CALNAME:Unity of Sarasota
X-ORIGINAL-URL:https://unityofsarasota.org
X-WR-CALDESC:Events for Unity of Sarasota
REFRESH-INTERVAL;VALUE=DURATION:PT1H
X-Robots-Tag:noindex
X-PUBLISHED-TTL:PT1H
BEGIN:VTIMEZONE
TZID:America/New_York
BEGIN:DAYLIGHT
TZOFFSETFROM:-0500
TZOFFSETTO:-0400
TZNAME:EDT
DTSTART:20240310T070000
END:DAYLIGHT
BEGIN:STANDARD
TZOFFSETFROM:-0400
TZOFFSETTO:-0500
TZNAME:EST
DTSTART:20241103T060000
END:STANDARD
BEGIN:DAYLIGHT
TZOFFSETFROM:-0500
TZOFFSETTO:-0400
TZNAME:EDT
DTSTART:20250309T070000
END:DAYLIGHT
BEGIN:STANDARD
TZOFFSETFROM:-0400
TZOFFSETTO:-0500
TZNAME:EST
DTSTART:20251102T060000
END:STANDARD
BEGIN:DAYLIGHT
TZOFFSETFROM:-0500
TZOFFSETTO:-0400
TZNAME:EDT
DTSTART:20260308T070000
END:DAYLIGHT
BEGIN:STANDARD
TZOFFSETFROM:-0400
TZOFFSETTO:-0500
TZNAME:EST
DTSTART:20261101T060000
END:STANDARD
END:VTIMEZONE
BEGIN:VEVENT
DTSTART;TZID=America/New_York:20251203T100000
DTEND;TZID=America/New_York:20251203T113000
DTSTAMP:20260421T163515
CREATED:20230803T022405Z
LAST-MODIFIED:20250927T134025Z
UID:10012086-1764756000-1764761400@unityofsarasota.org
SUMMARY:ACIM with Jerry Jordan
DESCRIPTION:
URL:https://unityofsarasota.org/event/acim-with-jerry-jordan-4/2025-12-03/
END:VEVENT
BEGIN:VEVENT
DTSTART;TZID=America/New_York:20251130T103000
DTEND;TZID=America/New_York:20251130T113000
DTSTAMP:20260421T163515
CREATED:20241027T213120Z
LAST-MODIFIED:20260410T155829Z
UID:10015366-1764498600-1764502200@unityofsarasota.org
SUMMARY:Sunday Celebration Service at Unity of Sarasota
DESCRIPTION:Sunday Celebration Service at Unity of Sarasota
URL:https://unityofsarasota.org/event/sunday-celebration-service-at-unity-of-sarasota-3/2025-11-30/
LOCATION:Unity of Sarasota\, 3023 Proctor Road\, Sarasota\, FL\, 34231\, United States\, Unity of Sarasota\, 3023 Proctor Road\, Sarasota\, FL\, 34231\, United States
CATEGORIES:Services
ATTACH;FMTTYPE=image/webp:https://unityofsarasota.org/wp-content/uploads/2019/08/Sunday-Celebration-Service-1.webp
END:VEVENT
BEGIN:VEVENT
DTSTART;TZID=America/New_York:20251126T100000
DTEND;TZID=America/New_York:20251126T113000
DTSTAMP:20260421T163515
CREATED:20230803T022405Z
LAST-MODIFIED:20250927T134025Z
UID:10012085-1764151200-1764156600@unityofsarasota.org
SUMMARY:ACIM with Jerry Jordan
DESCRIPTION:
URL:https://unityofsarasota.org/event/acim-with-jerry-jordan-4/2025-11-26/
END:VEVENT
BEGIN:VEVENT
DTSTART;TZID=America/New_York:20251123T103000
DTEND;TZID=America/New_York:20251123T113000
DTSTAMP:20260421T163515
CREATED:20241027T213120Z
LAST-MODIFIED:20260410T155829Z
UID:10015365-1763893800-1763897400@unityofsarasota.org
SUMMARY:Sunday Celebration Service at Unity of Sarasota
DESCRIPTION:Sunday Celebration Service at Unity of Sarasota
URL:https://unityofsarasota.org/event/sunday-celebration-service-at-unity-of-sarasota-3/2025-11-23/
LOCATION:Unity of Sarasota\, 3023 Proctor Road\, Sarasota\, FL\, 34231\, United States\, Unity of Sarasota\, 3023 Proctor Road\, Sarasota\, FL\, 34231\, United States
CATEGORIES:Services
ATTACH;FMTTYPE=image/webp:https://unityofsarasota.org/wp-content/uploads/2019/08/Sunday-Celebration-Service-1.webp
END:VEVENT
BEGIN:VEVENT
DTSTART;TZID=America/New_York:20251119T100000
DTEND;TZID=America/New_York:20251119T113000
DTSTAMP:20260421T163515
CREATED:20230803T022405Z
LAST-MODIFIED:20250927T134025Z
UID:10012084-1763546400-1763551800@unityofsarasota.org
SUMMARY:ACIM with Jerry Jordan
DESCRIPTION:
URL:https://unityofsarasota.org/event/acim-with-jerry-jordan-4/2025-11-19/
END:VEVENT
BEGIN:VEVENT
DTSTART;TZID=America/New_York:20251116T103000
DTEND;TZID=America/New_York:20251116T113000
DTSTAMP:20260421T163515
CREATED:20241027T213120Z
LAST-MODIFIED:20260410T155829Z
UID:10015364-1763289000-1763292600@unityofsarasota.org
SUMMARY:Sunday Celebration Service at Unity of Sarasota
DESCRIPTION:Sunday Celebration Service at Unity of Sarasota
URL:https://unityofsarasota.org/event/sunday-celebration-service-at-unity-of-sarasota-3/2025-11-16/
LOCATION:Unity of Sarasota\, 3023 Proctor Road\, Sarasota\, FL\, 34231\, United States\, Unity of Sarasota\, 3023 Proctor Road\, Sarasota\, FL\, 34231\, United States
CATEGORIES:Services
ATTACH;FMTTYPE=image/webp:https://unityofsarasota.org/wp-content/uploads/2019/08/Sunday-Celebration-Service-1.webp
END:VEVENT
BEGIN:VEVENT
DTSTART;TZID=America/New_York:20251112T100000
DTEND;TZID=America/New_York:20251112T113000
DTSTAMP:20260421T163516
CREATED:20230803T022405Z
LAST-MODIFIED:20250927T134025Z
UID:10012083-1762941600-1762947000@unityofsarasota.org
SUMMARY:ACIM with Jerry Jordan
DESCRIPTION:
URL:https://unityofsarasota.org/event/acim-with-jerry-jordan-4/2025-11-12/
END:VEVENT
BEGIN:VEVENT
DTSTART;TZID=America/New_York:20251109T103000
DTEND;TZID=America/New_York:20251109T113000
DTSTAMP:20260421T163516
CREATED:20241027T213120Z
LAST-MODIFIED:20260410T155829Z
UID:10015363-1762684200-1762687800@unityofsarasota.org
SUMMARY:Sunday Celebration Service at Unity of Sarasota
DESCRIPTION:Sunday Celebration Service at Unity of Sarasota
URL:https://unityofsarasota.org/event/sunday-celebration-service-at-unity-of-sarasota-3/2025-11-09/
LOCATION:Unity of Sarasota\, 3023 Proctor Road\, Sarasota\, FL\, 34231\, United States\, Unity of Sarasota\, 3023 Proctor Road\, Sarasota\, FL\, 34231\, United States
CATEGORIES:Services
ATTACH;FMTTYPE=image/webp:https://unityofsarasota.org/wp-content/uploads/2019/08/Sunday-Celebration-Service-1.webp
END:VEVENT
BEGIN:VEVENT
DTSTART;TZID=America/New_York:20251105T100000
DTEND;TZID=America/New_York:20251105T113000
DTSTAMP:20260421T163516
CREATED:20230803T022405Z
LAST-MODIFIED:20250927T134025Z
UID:10012082-1762336800-1762342200@unityofsarasota.org
SUMMARY:ACIM with Jerry Jordan
DESCRIPTION:
URL:https://unityofsarasota.org/event/acim-with-jerry-jordan-4/2025-11-05/
END:VEVENT
BEGIN:VEVENT
DTSTART;TZID=America/New_York:20251102T103000
DTEND;TZID=America/New_York:20251102T113000
DTSTAMP:20260421T163516
CREATED:20241027T213120Z
LAST-MODIFIED:20260410T155829Z
UID:10015362-1762079400-1762083000@unityofsarasota.org
SUMMARY:Sunday Celebration Service at Unity of Sarasota
DESCRIPTION:Sunday Celebration Service at Unity of Sarasota
URL:https://unityofsarasota.org/event/sunday-celebration-service-at-unity-of-sarasota-3/2025-11-02/
LOCATION:Unity of Sarasota\, 3023 Proctor Road\, Sarasota\, FL\, 34231\, United States\, Unity of Sarasota\, 3023 Proctor Road\, Sarasota\, FL\, 34231\, United States
CATEGORIES:Services
ATTACH;FMTTYPE=image/webp:https://unityofsarasota.org/wp-content/uploads/2019/08/Sunday-Celebration-Service-1.webp
END:VEVENT
BEGIN:VEVENT
DTSTART;TZID=America/New_York:20251030T180000
DTEND;TZID=America/New_York:20251030T193000
DTSTAMP:20260421T163516
CREATED:20251029T204348Z
LAST-MODIFIED:20251029T204353Z
UID:10011700-1761847200-1761852600@unityofsarasota.org
SUMMARY:ACIM with Callie Nicholas
DESCRIPTION:
URL:https://unityofsarasota.org/event/acim-with-callie-nicholas-2/2025-10-30/
END:VEVENT
BEGIN:VEVENT
DTSTART;TZID=America/New_York:20251029T100000
DTEND;TZID=America/New_York:20251029T113000
DTSTAMP:20260421T163516
CREATED:20230803T022405Z
LAST-MODIFIED:20250927T134025Z
UID:10012081-1761732000-1761737400@unityofsarasota.org
SUMMARY:ACIM with Jerry Jordan
DESCRIPTION:
URL:https://unityofsarasota.org/event/acim-with-jerry-jordan-4/2025-10-29/
END:VEVENT
BEGIN:VEVENT
DTSTART;TZID=America/New_York:20251029T080000
DTEND;TZID=America/New_York:20251029T170000
DTSTAMP:20260421T163516
CREATED:20251029T204348Z
LAST-MODIFIED:20251029T204353Z
UID:10016489-1761724800-1761757200@unityofsarasota.org
SUMMARY:ACIM with Callie Nicholas
DESCRIPTION:
URL:https://unityofsarasota.org/event/acim-with-callie-nicholas-2/2025-10-29/
END:VEVENT
BEGIN:VEVENT
DTSTART;TZID=America/New_York:20251026T103000
DTEND;TZID=America/New_York:20251026T113000
DTSTAMP:20260421T163516
CREATED:20241027T213120Z
LAST-MODIFIED:20260410T155829Z
UID:10015361-1761474600-1761478200@unityofsarasota.org
SUMMARY:Sunday Celebration Service at Unity of Sarasota
DESCRIPTION:Sunday Celebration Service at Unity of Sarasota
URL:https://unityofsarasota.org/event/sunday-celebration-service-at-unity-of-sarasota-3/2025-10-26/
LOCATION:Unity of Sarasota\, 3023 Proctor Road\, Sarasota\, FL\, 34231\, United States\, Unity of Sarasota\, 3023 Proctor Road\, Sarasota\, FL\, 34231\, United States
CATEGORIES:Services
ATTACH;FMTTYPE=image/webp:https://unityofsarasota.org/wp-content/uploads/2019/08/Sunday-Celebration-Service-1.webp
END:VEVENT
BEGIN:VEVENT
DTSTART;TZID=America/New_York:20251023T180000
DTEND;TZID=America/New_York:20251023T193000
DTSTAMP:20260421T163516
CREATED:20230803T022711Z
LAST-MODIFIED:20250927T134024Z
UID:10011699-1761242400-1761247800@unityofsarasota.org
SUMMARY:ACIM with Callie Nicholas
DESCRIPTION:
URL:https://unityofsarasota.org/event/acim-with-callie-nicholas/2025-10-23/
END:VEVENT
BEGIN:VEVENT
DTSTART;TZID=America/New_York:20251022T100000
DTEND;TZID=America/New_York:20251022T113000
DTSTAMP:20260421T163516
CREATED:20230803T022405Z
LAST-MODIFIED:20250927T134025Z
UID:10012080-1761127200-1761132600@unityofsarasota.org
SUMMARY:ACIM with Jerry Jordan
DESCRIPTION:
URL:https://unityofsarasota.org/event/acim-with-jerry-jordan-4/2025-10-22/
END:VEVENT
BEGIN:VEVENT
DTSTART;TZID=America/New_York:20251019T103000
DTEND;TZID=America/New_York:20251019T113000
DTSTAMP:20260421T163516
CREATED:20241027T213120Z
LAST-MODIFIED:20260410T155829Z
UID:10015360-1760869800-1760873400@unityofsarasota.org
SUMMARY:Sunday Celebration Service at Unity of Sarasota
DESCRIPTION:Sunday Celebration Service at Unity of Sarasota
URL:https://unityofsarasota.org/event/sunday-celebration-service-at-unity-of-sarasota-3/2025-10-19/
LOCATION:Unity of Sarasota\, 3023 Proctor Road\, Sarasota\, FL\, 34231\, United States\, Unity of Sarasota\, 3023 Proctor Road\, Sarasota\, FL\, 34231\, United States
CATEGORIES:Services
ATTACH;FMTTYPE=image/webp:https://unityofsarasota.org/wp-content/uploads/2019/08/Sunday-Celebration-Service-1.webp
END:VEVENT
BEGIN:VEVENT
DTSTART;TZID=America/New_York:20251016T180000
DTEND;TZID=America/New_York:20251016T193000
DTSTAMP:20260421T163516
CREATED:20230803T022711Z
LAST-MODIFIED:20250927T134024Z
UID:10011698-1760637600-1760643000@unityofsarasota.org
SUMMARY:ACIM with Callie Nicholas
DESCRIPTION:
URL:https://unityofsarasota.org/event/acim-with-callie-nicholas/2025-10-16/
END:VEVENT
BEGIN:VEVENT
DTSTART;TZID=America/New_York:20251015T100000
DTEND;TZID=America/New_York:20251015T113000
DTSTAMP:20260421T163516
CREATED:20230803T022405Z
LAST-MODIFIED:20250927T134025Z
UID:10012079-1760522400-1760527800@unityofsarasota.org
SUMMARY:ACIM with Jerry Jordan
DESCRIPTION:
URL:https://unityofsarasota.org/event/acim-with-jerry-jordan-4/2025-10-15/
END:VEVENT
BEGIN:VEVENT
DTSTART;TZID=America/New_York:20251012T103000
DTEND;TZID=America/New_York:20251012T113000
DTSTAMP:20260421T163516
CREATED:20241027T213120Z
LAST-MODIFIED:20260410T155829Z
UID:10015359-1760265000-1760268600@unityofsarasota.org
SUMMARY:Sunday Celebration Service at Unity of Sarasota
DESCRIPTION:Sunday Celebration Service at Unity of Sarasota
URL:https://unityofsarasota.org/event/sunday-celebration-service-at-unity-of-sarasota-3/2025-10-12/
LOCATION:Unity of Sarasota\, 3023 Proctor Road\, Sarasota\, FL\, 34231\, United States\, Unity of Sarasota\, 3023 Proctor Road\, Sarasota\, FL\, 34231\, United States
CATEGORIES:Services
ATTACH;FMTTYPE=image/webp:https://unityofsarasota.org/wp-content/uploads/2019/08/Sunday-Celebration-Service-1.webp
END:VEVENT
BEGIN:VEVENT
DTSTART;TZID=America/New_York:20251009T180000
DTEND;TZID=America/New_York:20251009T193000
DTSTAMP:20260421T163516
CREATED:20230803T022711Z
LAST-MODIFIED:20250927T134024Z
UID:10011697-1760032800-1760038200@unityofsarasota.org
SUMMARY:ACIM with Callie Nicholas
DESCRIPTION:
URL:https://unityofsarasota.org/event/acim-with-callie-nicholas/2025-10-09/
END:VEVENT
BEGIN:VEVENT
DTSTART;TZID=America/New_York:20251008T100000
DTEND;TZID=America/New_York:20251008T113000
DTSTAMP:20260421T163516
CREATED:20230803T022405Z
LAST-MODIFIED:20250927T134025Z
UID:10012078-1759917600-1759923000@unityofsarasota.org
SUMMARY:ACIM with Jerry Jordan
DESCRIPTION:
URL:https://unityofsarasota.org/event/acim-with-jerry-jordan-4/2025-10-08/
END:VEVENT
BEGIN:VEVENT
DTSTART;TZID=America/New_York:20251005T103000
DTEND;TZID=America/New_York:20251005T113000
DTSTAMP:20260421T163516
CREATED:20241027T213120Z
LAST-MODIFIED:20260410T155829Z
UID:10015358-1759660200-1759663800@unityofsarasota.org
SUMMARY:Sunday Celebration Service at Unity of Sarasota
DESCRIPTION:Sunday Celebration Service at Unity of Sarasota
URL:https://unityofsarasota.org/event/sunday-celebration-service-at-unity-of-sarasota-3/2025-10-05/
LOCATION:Unity of Sarasota\, 3023 Proctor Road\, Sarasota\, FL\, 34231\, United States\, Unity of Sarasota\, 3023 Proctor Road\, Sarasota\, FL\, 34231\, United States
CATEGORIES:Services
ATTACH;FMTTYPE=image/webp:https://unityofsarasota.org/wp-content/uploads/2019/08/Sunday-Celebration-Service-1.webp
END:VEVENT
BEGIN:VEVENT
DTSTART;TZID=America/New_York:20251002T180000
DTEND;TZID=America/New_York:20251002T193000
DTSTAMP:20260421T163516
CREATED:20230803T022711Z
LAST-MODIFIED:20250927T134024Z
UID:10011696-1759428000-1759433400@unityofsarasota.org
SUMMARY:ACIM with Callie Nicholas
DESCRIPTION:
URL:https://unityofsarasota.org/event/acim-with-callie-nicholas/2025-10-02/
END:VEVENT
BEGIN:VEVENT
DTSTART;TZID=America/New_York:20251001T100000
DTEND;TZID=America/New_York:20251001T113000
DTSTAMP:20260421T163516
CREATED:20230803T022405Z
LAST-MODIFIED:20250927T134025Z
UID:10012077-1759312800-1759318200@unityofsarasota.org
SUMMARY:ACIM with Jerry Jordan
DESCRIPTION:
URL:https://unityofsarasota.org/event/acim-with-jerry-jordan-4/2025-10-01/
END:VEVENT
BEGIN:VEVENT
DTSTART;TZID=America/New_York:20250928T103000
DTEND;TZID=America/New_York:20250928T113000
DTSTAMP:20260421T163516
CREATED:20241027T213120Z
LAST-MODIFIED:20260410T155829Z
UID:10015357-1759055400-1759059000@unityofsarasota.org
SUMMARY:Sunday Celebration Service at Unity of Sarasota
DESCRIPTION:Sunday Celebration Service at Unity of Sarasota
URL:https://unityofsarasota.org/event/sunday-celebration-service-at-unity-of-sarasota-3/2025-09-28/
LOCATION:Unity of Sarasota\, 3023 Proctor Road\, Sarasota\, FL\, 34231\, United States\, Unity of Sarasota\, 3023 Proctor Road\, Sarasota\, FL\, 34231\, United States
CATEGORIES:Services
ATTACH;FMTTYPE=image/webp:https://unityofsarasota.org/wp-content/uploads/2019/08/Sunday-Celebration-Service-1.webp
END:VEVENT
BEGIN:VEVENT
DTSTART;TZID=America/New_York:20250925T180000
DTEND;TZID=America/New_York:20250925T193000
DTSTAMP:20260421T163516
CREATED:20230803T022711Z
LAST-MODIFIED:20250927T134024Z
UID:10011695-1758823200-1758828600@unityofsarasota.org
SUMMARY:ACIM with Callie Nicholas
DESCRIPTION:
URL:https://unityofsarasota.org/event/acim-with-callie-nicholas/2025-09-25/
END:VEVENT
BEGIN:VEVENT
DTSTART;TZID=America/New_York:20250924T100000
DTEND;TZID=America/New_York:20250924T113000
DTSTAMP:20260421T163516
CREATED:20230803T022405Z
LAST-MODIFIED:20250927T134025Z
UID:10012076-1758708000-1758713400@unityofsarasota.org
SUMMARY:ACIM with Jerry Jordan
DESCRIPTION:
URL:https://unityofsarasota.org/event/acim-with-jerry-jordan-4/2025-09-24/
END:VEVENT
BEGIN:VEVENT
DTSTART;TZID=America/New_York:20250921T103000
DTEND;TZID=America/New_York:20250921T113000
DTSTAMP:20260421T163516
CREATED:20241027T213120Z
LAST-MODIFIED:20260410T155829Z
UID:10015356-1758450600-1758454200@unityofsarasota.org
SUMMARY:Sunday Celebration Service at Unity of Sarasota
DESCRIPTION:Sunday Celebration Service at Unity of Sarasota
URL:https://unityofsarasota.org/event/sunday-celebration-service-at-unity-of-sarasota-3/2025-09-21/
LOCATION:Unity of Sarasota\, 3023 Proctor Road\, Sarasota\, FL\, 34231\, United States\, Unity of Sarasota\, 3023 Proctor Road\, Sarasota\, FL\, 34231\, United States
CATEGORIES:Services
ATTACH;FMTTYPE=image/webp:https://unityofsarasota.org/wp-content/uploads/2019/08/Sunday-Celebration-Service-1.webp
END:VEVENT
BEGIN:VEVENT
DTSTART;TZID=America/New_York:20250918T180000
DTEND;TZID=America/New_York:20250918T193000
DTSTAMP:20260421T163516
CREATED:20230803T022711Z
LAST-MODIFIED:20250927T134024Z
UID:10011694-1758218400-1758223800@unityofsarasota.org
SUMMARY:ACIM with Callie Nicholas
DESCRIPTION:
URL:https://unityofsarasota.org/event/acim-with-callie-nicholas/2025-09-18/
END:VEVENT
END:VCALENDAR