BEGIN:VCALENDAR
VERSION:2.0
PRODID:-//Unity of Sarasota - ECPv6.15.17.1//NONSGML v1.0//EN
CALSCALE:GREGORIAN
METHOD:PUBLISH
X-WR-CALNAME:Unity of Sarasota
X-ORIGINAL-URL:https://unityofsarasota.org
X-WR-CALDESC:Events for Unity of Sarasota
REFRESH-INTERVAL;VALUE=DURATION:PT1H
X-Robots-Tag:noindex
X-PUBLISHED-TTL:PT1H
BEGIN:VTIMEZONE
TZID:America/New_York
BEGIN:DAYLIGHT
TZOFFSETFROM:-0500
TZOFFSETTO:-0400
TZNAME:EDT
DTSTART:20250309T070000
END:DAYLIGHT
BEGIN:STANDARD
TZOFFSETFROM:-0400
TZOFFSETTO:-0500
TZNAME:EST
DTSTART:20251102T060000
END:STANDARD
BEGIN:DAYLIGHT
TZOFFSETFROM:-0500
TZOFFSETTO:-0400
TZNAME:EDT
DTSTART:20260308T070000
END:DAYLIGHT
BEGIN:STANDARD
TZOFFSETFROM:-0400
TZOFFSETTO:-0500
TZNAME:EST
DTSTART:20261101T060000
END:STANDARD
BEGIN:DAYLIGHT
TZOFFSETFROM:-0500
TZOFFSETTO:-0400
TZNAME:EDT
DTSTART:20270314T070000
END:DAYLIGHT
BEGIN:STANDARD
TZOFFSETFROM:-0400
TZOFFSETTO:-0500
TZNAME:EST
DTSTART:20271107T060000
END:STANDARD
END:VTIMEZONE
BEGIN:VEVENT
DTSTART;TZID=America/New_York:20260909T100000
DTEND;TZID=America/New_York:20260909T113000
DTSTAMP:20260421T114929
CREATED:20230803T022405Z
LAST-MODIFIED:20250927T134025Z
UID:10012126-1788948000-1788953400@unityofsarasota.org
SUMMARY:ACIM with Jerry Jordan
DESCRIPTION:
URL:https://unityofsarasota.org/event/acim-with-jerry-jordan-4/2026-09-09/
END:VEVENT
BEGIN:VEVENT
DTSTART;TZID=America/New_York:20260913T103000
DTEND;TZID=America/New_York:20260913T113000
DTSTAMP:20260421T114929
CREATED:20241027T213120Z
LAST-MODIFIED:20260410T155829Z
UID:10015407-1789295400-1789299000@unityofsarasota.org
SUMMARY:Sunday Celebration Service at Unity of Sarasota
DESCRIPTION:Sunday Celebration Service at Unity of Sarasota
URL:https://unityofsarasota.org/event/sunday-celebration-service-at-unity-of-sarasota-3/2026-09-13/
LOCATION:Unity of Sarasota\, 3023 Proctor Road\, Sarasota\, FL\, 34231\, United States\, Unity of Sarasota\, 3023 Proctor Road\, Sarasota\, FL\, 34231\, United States
CATEGORIES:Services
ATTACH;FMTTYPE=image/webp:https://unityofsarasota.org/wp-content/uploads/2019/08/Sunday-Celebration-Service-1.webp
END:VEVENT
BEGIN:VEVENT
DTSTART;TZID=America/New_York:20260916T100000
DTEND;TZID=America/New_York:20260916T113000
DTSTAMP:20260421T114929
CREATED:20230803T022405Z
LAST-MODIFIED:20250927T134025Z
UID:10012127-1789552800-1789558200@unityofsarasota.org
SUMMARY:ACIM with Jerry Jordan
DESCRIPTION:
URL:https://unityofsarasota.org/event/acim-with-jerry-jordan-4/2026-09-16/
END:VEVENT
BEGIN:VEVENT
DTSTART;TZID=America/New_York:20260920T103000
DTEND;TZID=America/New_York:20260920T113000
DTSTAMP:20260421T114929
CREATED:20241027T213120Z
LAST-MODIFIED:20260410T155829Z
UID:10015408-1789900200-1789903800@unityofsarasota.org
SUMMARY:Sunday Celebration Service at Unity of Sarasota
DESCRIPTION:Sunday Celebration Service at Unity of Sarasota
URL:https://unityofsarasota.org/event/sunday-celebration-service-at-unity-of-sarasota-3/2026-09-20/
LOCATION:Unity of Sarasota\, 3023 Proctor Road\, Sarasota\, FL\, 34231\, United States\, Unity of Sarasota\, 3023 Proctor Road\, Sarasota\, FL\, 34231\, United States
CATEGORIES:Services
ATTACH;FMTTYPE=image/webp:https://unityofsarasota.org/wp-content/uploads/2019/08/Sunday-Celebration-Service-1.webp
END:VEVENT
BEGIN:VEVENT
DTSTART;TZID=America/New_York:20260923T100000
DTEND;TZID=America/New_York:20260923T113000
DTSTAMP:20260421T114929
CREATED:20230803T022405Z
LAST-MODIFIED:20250927T134025Z
UID:10012128-1790157600-1790163000@unityofsarasota.org
SUMMARY:ACIM with Jerry Jordan
DESCRIPTION:
URL:https://unityofsarasota.org/event/acim-with-jerry-jordan-4/2026-09-23/
END:VEVENT
BEGIN:VEVENT
DTSTART;TZID=America/New_York:20260927T103000
DTEND;TZID=America/New_York:20260927T113000
DTSTAMP:20260421T114929
CREATED:20241027T213120Z
LAST-MODIFIED:20260410T155829Z
UID:10015409-1790505000-1790508600@unityofsarasota.org
SUMMARY:Sunday Celebration Service at Unity of Sarasota
DESCRIPTION:Sunday Celebration Service at Unity of Sarasota
URL:https://unityofsarasota.org/event/sunday-celebration-service-at-unity-of-sarasota-3/2026-09-27/
LOCATION:Unity of Sarasota\, 3023 Proctor Road\, Sarasota\, FL\, 34231\, United States\, Unity of Sarasota\, 3023 Proctor Road\, Sarasota\, FL\, 34231\, United States
CATEGORIES:Services
ATTACH;FMTTYPE=image/webp:https://unityofsarasota.org/wp-content/uploads/2019/08/Sunday-Celebration-Service-1.webp
END:VEVENT
BEGIN:VEVENT
DTSTART;TZID=America/New_York:20260930T100000
DTEND;TZID=America/New_York:20260930T113000
DTSTAMP:20260421T114929
CREATED:20230803T022405Z
LAST-MODIFIED:20250927T134025Z
UID:10012129-1790762400-1790767800@unityofsarasota.org
SUMMARY:ACIM with Jerry Jordan
DESCRIPTION:
URL:https://unityofsarasota.org/event/acim-with-jerry-jordan-4/2026-09-30/
END:VEVENT
BEGIN:VEVENT
DTSTART;TZID=America/New_York:20261004T103000
DTEND;TZID=America/New_York:20261004T113000
DTSTAMP:20260421T114929
CREATED:20241027T213120Z
LAST-MODIFIED:20260410T155829Z
UID:10015410-1791109800-1791113400@unityofsarasota.org
SUMMARY:Sunday Celebration Service at Unity of Sarasota
DESCRIPTION:Sunday Celebration Service at Unity of Sarasota
URL:https://unityofsarasota.org/event/sunday-celebration-service-at-unity-of-sarasota-3/2026-10-04/
LOCATION:Unity of Sarasota\, 3023 Proctor Road\, Sarasota\, FL\, 34231\, United States\, Unity of Sarasota\, 3023 Proctor Road\, Sarasota\, FL\, 34231\, United States
CATEGORIES:Services
ATTACH;FMTTYPE=image/webp:https://unityofsarasota.org/wp-content/uploads/2019/08/Sunday-Celebration-Service-1.webp
END:VEVENT
BEGIN:VEVENT
DTSTART;TZID=America/New_York:20261007T100000
DTEND;TZID=America/New_York:20261007T113000
DTSTAMP:20260421T114929
CREATED:20230803T022405Z
LAST-MODIFIED:20250927T134025Z
UID:10012130-1791367200-1791372600@unityofsarasota.org
SUMMARY:ACIM with Jerry Jordan
DESCRIPTION:
URL:https://unityofsarasota.org/event/acim-with-jerry-jordan-4/2026-10-07/
END:VEVENT
BEGIN:VEVENT
DTSTART;TZID=America/New_York:20261011T103000
DTEND;TZID=America/New_York:20261011T113000
DTSTAMP:20260421T114929
CREATED:20241027T213120Z
LAST-MODIFIED:20260410T155829Z
UID:10015411-1791714600-1791718200@unityofsarasota.org
SUMMARY:Sunday Celebration Service at Unity of Sarasota
DESCRIPTION:Sunday Celebration Service at Unity of Sarasota
URL:https://unityofsarasota.org/event/sunday-celebration-service-at-unity-of-sarasota-3/2026-10-11/
LOCATION:Unity of Sarasota\, 3023 Proctor Road\, Sarasota\, FL\, 34231\, United States\, Unity of Sarasota\, 3023 Proctor Road\, Sarasota\, FL\, 34231\, United States
CATEGORIES:Services
ATTACH;FMTTYPE=image/webp:https://unityofsarasota.org/wp-content/uploads/2019/08/Sunday-Celebration-Service-1.webp
END:VEVENT
BEGIN:VEVENT
DTSTART;TZID=America/New_York:20261014T100000
DTEND;TZID=America/New_York:20261014T113000
DTSTAMP:20260421T114929
CREATED:20230803T022405Z
LAST-MODIFIED:20250927T134025Z
UID:10012131-1791972000-1791977400@unityofsarasota.org
SUMMARY:ACIM with Jerry Jordan
DESCRIPTION:
URL:https://unityofsarasota.org/event/acim-with-jerry-jordan-4/2026-10-14/
END:VEVENT
BEGIN:VEVENT
DTSTART;TZID=America/New_York:20261018T103000
DTEND;TZID=America/New_York:20261018T113000
DTSTAMP:20260421T114929
CREATED:20241027T213120Z
LAST-MODIFIED:20260410T155829Z
UID:10015412-1792319400-1792323000@unityofsarasota.org
SUMMARY:Sunday Celebration Service at Unity of Sarasota
DESCRIPTION:Sunday Celebration Service at Unity of Sarasota
URL:https://unityofsarasota.org/event/sunday-celebration-service-at-unity-of-sarasota-3/2026-10-18/
LOCATION:Unity of Sarasota\, 3023 Proctor Road\, Sarasota\, FL\, 34231\, United States\, Unity of Sarasota\, 3023 Proctor Road\, Sarasota\, FL\, 34231\, United States
CATEGORIES:Services
ATTACH;FMTTYPE=image/webp:https://unityofsarasota.org/wp-content/uploads/2019/08/Sunday-Celebration-Service-1.webp
END:VEVENT
BEGIN:VEVENT
DTSTART;TZID=America/New_York:20261021T100000
DTEND;TZID=America/New_York:20261021T113000
DTSTAMP:20260421T114929
CREATED:20230803T022405Z
LAST-MODIFIED:20250927T134025Z
UID:10012132-1792576800-1792582200@unityofsarasota.org
SUMMARY:ACIM with Jerry Jordan
DESCRIPTION:
URL:https://unityofsarasota.org/event/acim-with-jerry-jordan-4/2026-10-21/
END:VEVENT
BEGIN:VEVENT
DTSTART;TZID=America/New_York:20261025T103000
DTEND;TZID=America/New_York:20261025T113000
DTSTAMP:20260421T114929
CREATED:20241027T213120Z
LAST-MODIFIED:20260410T155829Z
UID:10015413-1792924200-1792927800@unityofsarasota.org
SUMMARY:Sunday Celebration Service at Unity of Sarasota
DESCRIPTION:Sunday Celebration Service at Unity of Sarasota
URL:https://unityofsarasota.org/event/sunday-celebration-service-at-unity-of-sarasota-3/2026-10-25/
LOCATION:Unity of Sarasota\, 3023 Proctor Road\, Sarasota\, FL\, 34231\, United States\, Unity of Sarasota\, 3023 Proctor Road\, Sarasota\, FL\, 34231\, United States
CATEGORIES:Services
ATTACH;FMTTYPE=image/webp:https://unityofsarasota.org/wp-content/uploads/2019/08/Sunday-Celebration-Service-1.webp
END:VEVENT
BEGIN:VEVENT
DTSTART;TZID=America/New_York:20261028T100000
DTEND;TZID=America/New_York:20261028T113000
DTSTAMP:20260421T114929
CREATED:20230803T022405Z
LAST-MODIFIED:20250927T134025Z
UID:10012133-1793181600-1793187000@unityofsarasota.org
SUMMARY:ACIM with Jerry Jordan
DESCRIPTION:
URL:https://unityofsarasota.org/event/acim-with-jerry-jordan-4/2026-10-28/
END:VEVENT
BEGIN:VEVENT
DTSTART;TZID=America/New_York:20261101T103000
DTEND;TZID=America/New_York:20261101T113000
DTSTAMP:20260421T114929
CREATED:20241027T213120Z
LAST-MODIFIED:20260410T155829Z
UID:10015414-1793529000-1793532600@unityofsarasota.org
SUMMARY:Sunday Celebration Service at Unity of Sarasota
DESCRIPTION:Sunday Celebration Service at Unity of Sarasota
URL:https://unityofsarasota.org/event/sunday-celebration-service-at-unity-of-sarasota-3/2026-11-01/
LOCATION:Unity of Sarasota\, 3023 Proctor Road\, Sarasota\, FL\, 34231\, United States\, Unity of Sarasota\, 3023 Proctor Road\, Sarasota\, FL\, 34231\, United States
CATEGORIES:Services
ATTACH;FMTTYPE=image/webp:https://unityofsarasota.org/wp-content/uploads/2019/08/Sunday-Celebration-Service-1.webp
END:VEVENT
BEGIN:VEVENT
DTSTART;TZID=America/New_York:20261104T100000
DTEND;TZID=America/New_York:20261104T113000
DTSTAMP:20260421T114929
CREATED:20230803T022405Z
LAST-MODIFIED:20250927T134025Z
UID:10012134-1793786400-1793791800@unityofsarasota.org
SUMMARY:ACIM with Jerry Jordan
DESCRIPTION:
URL:https://unityofsarasota.org/event/acim-with-jerry-jordan-4/2026-11-04/
END:VEVENT
BEGIN:VEVENT
DTSTART;TZID=America/New_York:20261108T103000
DTEND;TZID=America/New_York:20261108T113000
DTSTAMP:20260421T114929
CREATED:20241027T213120Z
LAST-MODIFIED:20260410T155829Z
UID:10015415-1794133800-1794137400@unityofsarasota.org
SUMMARY:Sunday Celebration Service at Unity of Sarasota
DESCRIPTION:Sunday Celebration Service at Unity of Sarasota
URL:https://unityofsarasota.org/event/sunday-celebration-service-at-unity-of-sarasota-3/2026-11-08/
LOCATION:Unity of Sarasota\, 3023 Proctor Road\, Sarasota\, FL\, 34231\, United States\, Unity of Sarasota\, 3023 Proctor Road\, Sarasota\, FL\, 34231\, United States
CATEGORIES:Services
ATTACH;FMTTYPE=image/webp:https://unityofsarasota.org/wp-content/uploads/2019/08/Sunday-Celebration-Service-1.webp
END:VEVENT
BEGIN:VEVENT
DTSTART;TZID=America/New_York:20261111T100000
DTEND;TZID=America/New_York:20261111T113000
DTSTAMP:20260421T114929
CREATED:20230803T022405Z
LAST-MODIFIED:20250927T134025Z
UID:10012135-1794391200-1794396600@unityofsarasota.org
SUMMARY:ACIM with Jerry Jordan
DESCRIPTION:
URL:https://unityofsarasota.org/event/acim-with-jerry-jordan-4/2026-11-11/
END:VEVENT
BEGIN:VEVENT
DTSTART;TZID=America/New_York:20261115T103000
DTEND;TZID=America/New_York:20261115T113000
DTSTAMP:20260421T114929
CREATED:20241027T213120Z
LAST-MODIFIED:20260410T155829Z
UID:10015416-1794738600-1794742200@unityofsarasota.org
SUMMARY:Sunday Celebration Service at Unity of Sarasota
DESCRIPTION:Sunday Celebration Service at Unity of Sarasota
URL:https://unityofsarasota.org/event/sunday-celebration-service-at-unity-of-sarasota-3/2026-11-15/
LOCATION:Unity of Sarasota\, 3023 Proctor Road\, Sarasota\, FL\, 34231\, United States\, Unity of Sarasota\, 3023 Proctor Road\, Sarasota\, FL\, 34231\, United States
CATEGORIES:Services
ATTACH;FMTTYPE=image/webp:https://unityofsarasota.org/wp-content/uploads/2019/08/Sunday-Celebration-Service-1.webp
END:VEVENT
BEGIN:VEVENT
DTSTART;TZID=America/New_York:20261118T100000
DTEND;TZID=America/New_York:20261118T113000
DTSTAMP:20260421T114929
CREATED:20230803T022405Z
LAST-MODIFIED:20250927T134025Z
UID:10012136-1794996000-1795001400@unityofsarasota.org
SUMMARY:ACIM with Jerry Jordan
DESCRIPTION:
URL:https://unityofsarasota.org/event/acim-with-jerry-jordan-4/2026-11-18/
END:VEVENT
BEGIN:VEVENT
DTSTART;TZID=America/New_York:20261122T103000
DTEND;TZID=America/New_York:20261122T113000
DTSTAMP:20260421T114929
CREATED:20241027T213120Z
LAST-MODIFIED:20260410T155829Z
UID:10015417-1795343400-1795347000@unityofsarasota.org
SUMMARY:Sunday Celebration Service at Unity of Sarasota
DESCRIPTION:Sunday Celebration Service at Unity of Sarasota
URL:https://unityofsarasota.org/event/sunday-celebration-service-at-unity-of-sarasota-3/2026-11-22/
LOCATION:Unity of Sarasota\, 3023 Proctor Road\, Sarasota\, FL\, 34231\, United States\, Unity of Sarasota\, 3023 Proctor Road\, Sarasota\, FL\, 34231\, United States
CATEGORIES:Services
ATTACH;FMTTYPE=image/webp:https://unityofsarasota.org/wp-content/uploads/2019/08/Sunday-Celebration-Service-1.webp
END:VEVENT
BEGIN:VEVENT
DTSTART;TZID=America/New_York:20261125T100000
DTEND;TZID=America/New_York:20261125T113000
DTSTAMP:20260421T114929
CREATED:20230803T022405Z
LAST-MODIFIED:20250927T134025Z
UID:10012137-1795600800-1795606200@unityofsarasota.org
SUMMARY:ACIM with Jerry Jordan
DESCRIPTION:
URL:https://unityofsarasota.org/event/acim-with-jerry-jordan-4/2026-11-25/
END:VEVENT
BEGIN:VEVENT
DTSTART;TZID=America/New_York:20261129T103000
DTEND;TZID=America/New_York:20261129T113000
DTSTAMP:20260421T114929
CREATED:20241027T213120Z
LAST-MODIFIED:20260410T155829Z
UID:10015418-1795948200-1795951800@unityofsarasota.org
SUMMARY:Sunday Celebration Service at Unity of Sarasota
DESCRIPTION:Sunday Celebration Service at Unity of Sarasota
URL:https://unityofsarasota.org/event/sunday-celebration-service-at-unity-of-sarasota-3/2026-11-29/
LOCATION:Unity of Sarasota\, 3023 Proctor Road\, Sarasota\, FL\, 34231\, United States\, Unity of Sarasota\, 3023 Proctor Road\, Sarasota\, FL\, 34231\, United States
CATEGORIES:Services
ATTACH;FMTTYPE=image/webp:https://unityofsarasota.org/wp-content/uploads/2019/08/Sunday-Celebration-Service-1.webp
END:VEVENT
BEGIN:VEVENT
DTSTART;TZID=America/New_York:20261202T100000
DTEND;TZID=America/New_York:20261202T113000
DTSTAMP:20260421T114929
CREATED:20230803T022405Z
LAST-MODIFIED:20250927T134025Z
UID:10012138-1796205600-1796211000@unityofsarasota.org
SUMMARY:ACIM with Jerry Jordan
DESCRIPTION:
URL:https://unityofsarasota.org/event/acim-with-jerry-jordan-4/2026-12-02/
END:VEVENT
BEGIN:VEVENT
DTSTART;TZID=America/New_York:20261206T103000
DTEND;TZID=America/New_York:20261206T113000
DTSTAMP:20260421T114929
CREATED:20241027T213120Z
LAST-MODIFIED:20260410T155829Z
UID:10015419-1796553000-1796556600@unityofsarasota.org
SUMMARY:Sunday Celebration Service at Unity of Sarasota
DESCRIPTION:Sunday Celebration Service at Unity of Sarasota
URL:https://unityofsarasota.org/event/sunday-celebration-service-at-unity-of-sarasota-3/2026-12-06/
LOCATION:Unity of Sarasota\, 3023 Proctor Road\, Sarasota\, FL\, 34231\, United States\, Unity of Sarasota\, 3023 Proctor Road\, Sarasota\, FL\, 34231\, United States
CATEGORIES:Services
ATTACH;FMTTYPE=image/webp:https://unityofsarasota.org/wp-content/uploads/2019/08/Sunday-Celebration-Service-1.webp
END:VEVENT
BEGIN:VEVENT
DTSTART;TZID=America/New_York:20261209T100000
DTEND;TZID=America/New_York:20261209T113000
DTSTAMP:20260421T114929
CREATED:20230803T022405Z
LAST-MODIFIED:20250927T134025Z
UID:10012139-1796810400-1796815800@unityofsarasota.org
SUMMARY:ACIM with Jerry Jordan
DESCRIPTION:
URL:https://unityofsarasota.org/event/acim-with-jerry-jordan-4/2026-12-09/
END:VEVENT
BEGIN:VEVENT
DTSTART;TZID=America/New_York:20261213T103000
DTEND;TZID=America/New_York:20261213T113000
DTSTAMP:20260421T114929
CREATED:20241027T213120Z
LAST-MODIFIED:20260410T155829Z
UID:10015420-1797157800-1797161400@unityofsarasota.org
SUMMARY:Sunday Celebration Service at Unity of Sarasota
DESCRIPTION:Sunday Celebration Service at Unity of Sarasota
URL:https://unityofsarasota.org/event/sunday-celebration-service-at-unity-of-sarasota-3/2026-12-13/
LOCATION:Unity of Sarasota\, 3023 Proctor Road\, Sarasota\, FL\, 34231\, United States\, Unity of Sarasota\, 3023 Proctor Road\, Sarasota\, FL\, 34231\, United States
CATEGORIES:Services
ATTACH;FMTTYPE=image/webp:https://unityofsarasota.org/wp-content/uploads/2019/08/Sunday-Celebration-Service-1.webp
END:VEVENT
BEGIN:VEVENT
DTSTART;TZID=America/New_York:20261216T100000
DTEND;TZID=America/New_York:20261216T113000
DTSTAMP:20260421T114929
CREATED:20230803T022405Z
LAST-MODIFIED:20250927T134025Z
UID:10012140-1797415200-1797420600@unityofsarasota.org
SUMMARY:ACIM with Jerry Jordan
DESCRIPTION:
URL:https://unityofsarasota.org/event/acim-with-jerry-jordan-4/2026-12-16/
END:VEVENT
BEGIN:VEVENT
DTSTART;TZID=America/New_York:20261220T103000
DTEND;TZID=America/New_York:20261220T113000
DTSTAMP:20260421T114929
CREATED:20241027T213120Z
LAST-MODIFIED:20260410T155829Z
UID:10015421-1797762600-1797766200@unityofsarasota.org
SUMMARY:Sunday Celebration Service at Unity of Sarasota
DESCRIPTION:Sunday Celebration Service at Unity of Sarasota
URL:https://unityofsarasota.org/event/sunday-celebration-service-at-unity-of-sarasota-3/2026-12-20/
LOCATION:Unity of Sarasota\, 3023 Proctor Road\, Sarasota\, FL\, 34231\, United States\, Unity of Sarasota\, 3023 Proctor Road\, Sarasota\, FL\, 34231\, United States
CATEGORIES:Services
ATTACH;FMTTYPE=image/webp:https://unityofsarasota.org/wp-content/uploads/2019/08/Sunday-Celebration-Service-1.webp
END:VEVENT
END:VCALENDAR